Workbook

Sheet Dementia22-47
A1: West Sussex | B1: % Increase 2025-2035 | C1: %Increase 2022-2047 | D1: Total Increase 2025-2035 | E1: Total Increase 2022-2047 | F1: 2022 | G1: 2023 | H1: 2024 | I1: 2025 | J1: 2026 | K1: 2027 | L1: 2028 | M1: 2029 | N1: 2030 | O1: 2031 | P1: 2032 | Q1: 2033 | R1: 2034 | S1: 2035 | T1: 2036 | U1: 2037 | V1: 2038 | W1: 2039 | X1: 2040 | Y1: 2041 | Z1: 2042 | AA1: 2043 | AB1: 2044 | AC1: 2045 | AD1: 2046 | AE1: 2047
A2: All dementia | B2: =S2/I2-1 -> 0.28310502 | C2: =AE2/F2-1 -> 0.70262794 | D2: =S2-I2 -> 4340 | E2: =AE2-F2 -> 10160 | F2: =ROUND((SUMPRODUCT('Males 5y'!C$149:C$161,Rates!$E$2:$E$14)+SUMPRODUCT(Rates!$F$2:$F$14,'Females 5y'!C$149:C$161)),-1) -> 14460 | G2: =ROUND((SUMPRODUCT('Males 5y'!D$149:D$161,Rates!$E$2:$E$14)+SUMPRODUCT(Rates!$F$2:$F$14,'Females 5y'!D$149:D$161)),-1) -> 14700 | H2: =ROUND((SUMPRODUCT('Males 5y'!E$149:E$161,Rates!$E$2:$E$14)+SUMPRODUCT(Rates!$F$2:$F$14,'Females 5y'!E$149:E$161)),-1) -> 15010 | I2: =ROUND((SUMPRODUCT('Males 5y'!F$149:F$161,Rates!$E$2:$E$14)+SUMPRODUCT(Rates!$F$2:$F$14,'Females 5y'!F$149:F$161)),-1) -> 15330 | J2: =ROUND((SUMPRODUCT('Males 5y'!G$149:G$161,Rates!$E$2:$E$14)+SUMPRODUCT(Rates!$F$2:$F$14,'Females 5y'!G$149:G$161)),-1) -> 15630 | K2: =ROUND((SUMPRODUCT('Males 5y'!H$149:H$161,Rates!$E$2:$E$14)+SUMPRODUCT(Rates!$F$2:$F$14,'Females 5y'!H$149:H$161)),-1) -> 16070 | L2: =ROUND((SUMPRODUCT('Males 5y'!I$149:I$161,Rates!$E$2:$E$14)+SUMPRODUCT(Rates!$F$2:$F$14,'Females 5y'!I$149:I$161)),-1) -> 16520 | M2: =ROUND((SUMPRODUCT('Males 5y'!J$149:J$161,Rates!$E$2:$E$14)+SUMPRODUCT(Rates!$F$2:$F$14,'Females 5y'!J$149:J$161)),-1) -> 16970 | ... AE2: =ROUND((SUMPRODUCT('Males 5y'!AB$149:AB$161,Rates!$E$2:$E$14)+SUMPRODUCT(Rates!$F$2:$F$14,'Females 5y'!AB$149:AB$161)),-1) -> 24620
A3: Late Onset - Mild | B3: =S3/I3-1 -> 0.28211285 | C3: =AE3/F3-1 -> 0.69171975 | D3: =S3-I3 -> 2350 | E3: =AE3-F3 -> 5430 | F3: =ROUND(SUMPRODUCT(Rates!$E$9:$E$14,Rates!$L$3:$L$8,'Males 5y'!C$156:C$161)+SUMPRODUCT(Rates!$F$9:$F$14,Rates!$L$3:$L$8,'Females 5y'!C$156:C$161),-1) -> 7850 | G3: =ROUND(SUMPRODUCT(Rates!$E$9:$E$14,Rates!$L$3:$L$8,'Males 5y'!D$156:D$161)+SUMPRODUCT(Rates!$F$9:$F$14,Rates!$L$3:$L$8,'Females 5y'!D$156:D$161),-1) -> 7980 | H3: =ROUND(SUMPRODUCT(Rates!$E$9:$E$14,Rates!$L$3:$L$8,'Males 5y'!E$156:E$161)+SUMPRODUCT(Rates!$F$9:$F$14,Rates!$L$3:$L$8,'Females 5y'!E$156:E$161),-1) -> 8160 | I3: =ROUND(SUMPRODUCT(Rates!$E$9:$E$14,Rates!$L$3:$L$8,'Males 5y'!F$156:F$161)+SUMPRODUCT(Rates!$F$9:$F$14,Rates!$L$3:$L$8,'Females 5y'!F$156:F$161),-1) -> 8330 | J3: =ROUND(SUMPRODUCT(Rates!$E$9:$E$14,Rates!$L$3:$L$8,'Males 5y'!G$156:G$161)+SUMPRODUCT(Rates!$F$9:$F$14,Rates!$L$3:$L$8,'Females 5y'!G$156:G$161),-1) -> 8500 | K3: =ROUND(SUMPRODUCT(Rates!$E$9:$E$14,Rates!$L$3:$L$8,'Males 5y'!H$156:H$161)+SUMPRODUCT(Rates!$F$9:$F$14,Rates!$L$3:$L$8,'Females 5y'!H$156:H$161),-1) -> 8740 | L3: =ROUND(SUMPRODUCT(Rates!$E$9:$E$14,Rates!$L$3:$L$8,'Males 5y'!I$156:I$161)+SUMPRODUCT(Rates!$F$9:$F$14,Rates!$L$3:$L$8,'Females 5y'!I$156:I$161),-1) -> 8990 | M3: =ROUND(SUMPRODUCT(Rates!$E$9:$E$14,Rates!$L$3:$L$8,'Males 5y'!J$156:J$161)+SUMPRODUCT(Rates!$F$9:$F$14,Rates!$L$3:$L$8,'Females 5y'!J$156:J$161),-1) -> 9240 | ... AE3: =ROUND(SUMPRODUCT(Rates!$E$9:$E$14,Rates!$L$3:$L$8,'Males 5y'!AB$156:AB$161)+SUMPRODUCT(Rates!$F$9:$F$14,Rates!$L$3:$L$8,'Females 5y'!AB$156:AB$161),-1) -> 13280
A4: Late Onset - Moderate | B4: =S4/I4-1 -> 0.29132231 | C4: =AE4/F4-1 -> 0.72149123 | D4: =S4-I4 -> 1410 | E4: =AE4-F4 -> 3290 | F4: =ROUND(SUMPRODUCT(Rates!$E$9:$E$14,Rates!$M$3:$M$8,'Males 5y'!C$156:C$161)+SUMPRODUCT(Rates!$F$9:$F$14,Rates!$M$3:$M$8,'Females 5y'!C$156:C$161),-1) -> 4560 | G4: =ROUND(SUMPRODUCT(Rates!$E$9:$E$14,Rates!$M$3:$M$8,'Males 5y'!D$156:D$161)+SUMPRODUCT(Rates!$F$9:$F$14,Rates!$M$3:$M$8,'Females 5y'!D$156:D$161),-1) -> 4640 | H4: =ROUND(SUMPRODUCT(Rates!$E$9:$E$14,Rates!$M$3:$M$8,'Males 5y'!E$156:E$161)+SUMPRODUCT(Rates!$F$9:$F$14,Rates!$M$3:$M$8,'Females 5y'!E$156:E$161),-1) -> 4740 | I4: =ROUND(SUMPRODUCT(Rates!$E$9:$E$14,Rates!$M$3:$M$8,'Males 5y'!F$156:F$161)+SUMPRODUCT(Rates!$F$9:$F$14,Rates!$M$3:$M$8,'Females 5y'!F$156:F$161),-1) -> 4840 | J4: =ROUND(SUMPRODUCT(Rates!$E$9:$E$14,Rates!$M$3:$M$8,'Males 5y'!G$156:G$161)+SUMPRODUCT(Rates!$F$9:$F$14,Rates!$M$3:$M$8,'Females 5y'!G$156:G$161),-1) -> 4930 | K4: =ROUND(SUMPRODUCT(Rates!$E$9:$E$14,Rates!$M$3:$M$8,'Males 5y'!H$156:H$161)+SUMPRODUCT(Rates!$F$9:$F$14,Rates!$M$3:$M$8,'Females 5y'!H$156:H$161),-1) -> 5070 | L4: =ROUND(SUMPRODUCT(Rates!$E$9:$E$14,Rates!$M$3:$M$8,'Males 5y'!I$156:I$161)+SUMPRODUCT(Rates!$F$9:$F$14,Rates!$M$3:$M$8,'Females 5y'!I$156:I$161),-1) -> 5220 | M4: =ROUND(SUMPRODUCT(Rates!$E$9:$E$14,Rates!$M$3:$M$8,'Males 5y'!J$156:J$161)+SUMPRODUCT(Rates!$F$9:$F$14,Rates!$M$3:$M$8,'Females 5y'!J$156:J$161),-1) -> 5370 | ... AE4: =ROUND(SUMPRODUCT(Rates!$E$9:$E$14,Rates!$M$3:$M$8,'Males 5y'!AB$156:AB$161)+SUMPRODUCT(Rates!$F$9:$F$14,Rates!$M$3:$M$8,'Females 5y'!AB$156:AB$161),-1) -> 7850
A5: Late Onset - Severe | B5: =S5/I5-1 -> 0.30366492 | C5: =AE5/F5-1 -> 0.7679558 | D5: =S5-I5 -> 580 | E5: =AE5-F5 -> 1390 | F5: =ROUND(SUMPRODUCT(Rates!$E$9:$E$14,Rates!$N$3:$N$8,'Males 5y'!C$156:C$161)+SUMPRODUCT(Rates!$F$9:$F$14,Rates!$N$3:$N$8,'Females 5y'!C$156:C$161),-1) -> 1810 | G5: =ROUND(SUMPRODUCT(Rates!$E$9:$E$14,Rates!$N$3:$N$8,'Males 5y'!D$156:D$161)+SUMPRODUCT(Rates!$F$9:$F$14,Rates!$N$3:$N$8,'Females 5y'!D$156:D$161),-1) -> 1830 | H5: =ROUND(SUMPRODUCT(Rates!$E$9:$E$14,Rates!$N$3:$N$8,'Males 5y'!E$156:E$161)+SUMPRODUCT(Rates!$F$9:$F$14,Rates!$N$3:$N$8,'Females 5y'!E$156:E$161),-1) -> 1870 | I5: =ROUND(SUMPRODUCT(Rates!$E$9:$E$14,Rates!$N$3:$N$8,'Males 5y'!F$156:F$161)+SUMPRODUCT(Rates!$F$9:$F$14,Rates!$N$3:$N$8,'Females 5y'!F$156:F$161),-1) -> 1910 | J5: =ROUND(SUMPRODUCT(Rates!$E$9:$E$14,Rates!$N$3:$N$8,'Males 5y'!G$156:G$161)+SUMPRODUCT(Rates!$F$9:$F$14,Rates!$N$3:$N$8,'Females 5y'!G$156:G$161),-1) -> 1940 | K5: =ROUND(SUMPRODUCT(Rates!$E$9:$E$14,Rates!$N$3:$N$8,'Males 5y'!H$156:H$161)+SUMPRODUCT(Rates!$F$9:$F$14,Rates!$N$3:$N$8,'Females 5y'!H$156:H$161),-1) -> 1990 | L5: =ROUND(SUMPRODUCT(Rates!$E$9:$E$14,Rates!$N$3:$N$8,'Males 5y'!I$156:I$161)+SUMPRODUCT(Rates!$F$9:$F$14,Rates!$N$3:$N$8,'Females 5y'!I$156:I$161),-1) -> 2050 | M5: =ROUND(SUMPRODUCT(Rates!$E$9:$E$14,Rates!$N$3:$N$8,'Males 5y'!J$156:J$161)+SUMPRODUCT(Rates!$F$9:$F$14,Rates!$N$3:$N$8,'Females 5y'!J$156:J$161),-1) -> 2110 | ... AE5: =ROUND(SUMPRODUCT(Rates!$E$9:$E$14,Rates!$N$3:$N$8,'Males 5y'!AB$156:AB$161)+SUMPRODUCT(Rates!$F$9:$F$14,Rates!$N$3:$N$8,'Females 5y'!AB$156:AB$161),-1) -> 3200
A6: Alzheimer’s disease | B6: =S6/I6-1 -> 0.28421053 | C6: =AE6/F6-1 -> 0.70122631 | D6: =S6-I6 -> 2700 | E6: =AE6-F6 -> 6290 | F6: =ROUND((F$2*Rates!$I$3),-1) -> 8970 | G6: =ROUND((G$2*Rates!$I$3),-1) -> 9110 | H6: =ROUND((H$2*Rates!$I$3),-1) -> 9310 | I6: =ROUND((I$2*Rates!$I$3),-1) -> 9500 | J6: =ROUND((J$2*Rates!$I$3),-1) -> 9690 | K6: =ROUND((K$2*Rates!$I$3),-1) -> 9960 | L6: =ROUND((L$2*Rates!$I$3),-1) -> 10240 | M6: =ROUND((M$2*Rates!$I$3),-1) -> 10520 | ... AE6: =ROUND((AE$2*Rates!$I$3),-1) -> 15260
A7: Vascular dementia | B7: =S7/I7-1 -> 0.27969349 | C7: =AE7/F7-1 -> 0.70325203 | D7: =S7-I7 -> 730 | E7: =AE7-F7 -> 1730 | F7: =ROUND((F$2*Rates!$I$4),-1) -> 2460 | G7: =ROUND((G$2*Rates!$I$4),-1) -> 2500 | H7: =ROUND((H$2*Rates!$I$4),-1) -> 2550 | I7: =ROUND((I$2*Rates!$I$4),-1) -> 2610 | J7: =ROUND((J$2*Rates!$I$4),-1) -> 2660 | K7: =ROUND((K$2*Rates!$I$4),-1) -> 2730 | L7: =ROUND((L$2*Rates!$I$4),-1) -> 2810 | M7: =ROUND((M$2*Rates!$I$4),-1) -> 2880 | ... AE7: =ROUND((AE$2*Rates!$I$4),-1) -> 4190
A8: Mixed (AD and VD) | B8: =S8/I8-1 -> 0.2875817 | C8: =AE8/F8-1 -> 0.69655172 | D8: =S8-I8 -> 440 | E8: =AE8-F8 -> 1010 | F8: =ROUND((F$2*Rates!$I$5),-1) -> 1450 | G8: =ROUND((G$2*Rates!$I$5),-1) -> 1470 | H8: =ROUND((H$2*Rates!$I$5),-1) -> 1500 | I8: =ROUND((I$2*Rates!$I$5),-1) -> 1530 | J8: =ROUND((J$2*Rates!$I$5),-1) -> 1560 | K8: =ROUND((K$2*Rates!$I$5),-1) -> 1610 | L8: =ROUND((L$2*Rates!$I$5),-1) -> 1650 | M8: =ROUND((M$2*Rates!$I$5),-1) -> 1700 | ... AE8: =ROUND((AE$2*Rates!$I$5),-1) -> 2460
A9: Dementia with Lewy bodies | B9: =S9/I9-1 -> 0.29508197 | C9: =AE9/F9-1 -> 0.68965517 | D9: =S9-I9 -> 180 | E9: =AE9-F9 -> 400 | F9: =ROUND((F$2*Rates!$I$6),-1) -> 580 | G9: =ROUND((G$2*Rates!$I$6),-1) -> 590 | H9: =ROUND((H$2*Rates!$I$6),-1) -> 600 | I9: =ROUND((I$2*Rates!$I$6),-1) -> 610 | J9: =ROUND((J$2*Rates!$I$6),-1) -> 630 | K9: =ROUND((K$2*Rates!$I$6),-1) -> 640 | L9: =ROUND((L$2*Rates!$I$6),-1) -> 660 | M9: =ROUND((M$2*Rates!$I$6),-1) -> 680 | ... AE9: =ROUND((AE$2*Rates!$I$6),-1) -> 980
A10: Frontotemporal dementia | B10: =S10/I10-1 -> 0.25806452 | C10: =AE10/F10-1 -> 0.68965517 | D10: =S10-I10 -> 80 | E10: =AE10-F10 -> 200 | F10: =ROUND((F$2*Rates!$I$7),-1) -> 290 | G10: =ROUND((G$2*Rates!$I$7),-1) -> 290 | H10: =ROUND((H$2*Rates!$I$7),-1) -> 300 | I10: =ROUND((I$2*Rates!$I$7),-1) -> 310 | J10: =ROUND((J$2*Rates!$I$7),-1) -> 310 | K10: =ROUND((K$2*Rates!$I$7),-1) -> 320 | L10: =ROUND((L$2*Rates!$I$7),-1) -> 330 | M10: =ROUND((M$2*Rates!$I$7),-1) -> 340 | ... AE10: =ROUND((AE$2*Rates!$I$7),-1) -> 490
A11: Parkinsons’ dementia | B11: =S11/I11-1 -> 0.25806452 | C11: =AE11/F11-1 -> 0.68965517 | D11: =S11-I11 -> 80 | E11: =AE11-F11 -> 200 | F11: =ROUND((F$2*Rates!$I$8),-1) -> 290 | G11: =ROUND((G$2*Rates!$I$8),-1) -> 290 | H11: =ROUND((H$2*Rates!$I$8),-1) -> 300 | I11: =ROUND((I$2*Rates!$I$8),-1) -> 310 | J11: =ROUND((J$2*Rates!$I$8),-1) -> 310 | K11: =ROUND((K$2*Rates!$I$8),-1) -> 320 | L11: =ROUND((L$2*Rates!$I$8),-1) -> 330 | M11: =ROUND((M$2*Rates!$I$8),-1) -> 340 | ... AE11: =ROUND((AE$2*Rates!$I$8),-1) -> 490
A12: Other | B12: =S12/I12-1 -> 0.2826087 | C12: =AE12/F12-1 -> 0.72093023 | D12: =S12-I12 -> 130 | E12: =AE12-F12 -> 310 | F12: =ROUND((F$2*Rates!$I$9),-1) -> 430 | G12: =ROUND((G$2*Rates!$I$9),-1) -> 440 | H12: =ROUND((H$2*Rates!$I$9),-1) -> 450 | I12: =ROUND((I$2*Rates!$I$9),-1) -> 460 | J12: =ROUND((J$2*Rates!$I$9),-1) -> 470 | K12: =ROUND((K$2*Rates!$I$9),-1) -> 480 | L12: =ROUND((L$2*Rates!$I$9),-1) -> 500 | M12: =ROUND((M$2*Rates!$I$9),-1) -> 510 | ... AE12: =ROUND((AE$2*Rates!$I$9),-1) -> 740
A13: Adur
A14: All dementia | B14: =S14/I14-1 -> 0.18918919 | C14: =AE14/F14-1 -> 0.48598131 | D14: =S14-I14 -> 210 | E14: =AE14-F14 -> 520 | F14: =ROUND((SUMPRODUCT('Males 5y'!C$9:C$21,Rates!$E$2:$E$14)+SUMPRODUCT(Rates!$F$2:$F$14,'Females 5y'!C$9:C$21)),-1) -> 1070 | G14: =ROUND((SUMPRODUCT('Males 5y'!D$9:D$21,Rates!$E$2:$E$14)+SUMPRODUCT(Rates!$F$2:$F$14,'Females 5y'!D$9:D$21)),-1) -> 1080 | H14: =ROUND((SUMPRODUCT('Males 5y'!E$9:E$21,Rates!$E$2:$E$14)+SUMPRODUCT(Rates!$F$2:$F$14,'Females 5y'!E$9:E$21)),-1) -> 1090 | I14: =ROUND((SUMPRODUCT('Males 5y'!F$9:F$21,Rates!$E$2:$E$14)+SUMPRODUCT(Rates!$F$2:$F$14,'Females 5y'!F$9:F$21)),-1) -> 1110 | J14: =ROUND((SUMPRODUCT('Males 5y'!G$9:G$21,Rates!$E$2:$E$14)+SUMPRODUCT(Rates!$F$2:$F$14,'Females 5y'!G$9:G$21)),-1) -> 1120 | K14: =ROUND((SUMPRODUCT('Males 5y'!H$9:H$21,Rates!$E$2:$E$14)+SUMPRODUCT(Rates!$F$2:$F$14,'Females 5y'!H$9:H$21)),-1) -> 1140 | L14: =ROUND((SUMPRODUCT('Males 5y'!I$9:I$21,Rates!$E$2:$E$14)+SUMPRODUCT(Rates!$F$2:$F$14,'Females 5y'!I$9:I$21)),-1) -> 1170 | M14: =ROUND((SUMPRODUCT('Males 5y'!J$9:J$21,Rates!$E$2:$E$14)+SUMPRODUCT(Rates!$F$2:$F$14,'Females 5y'!J$9:J$21)),-1) -> 1190 | ... AE14: =ROUND((SUMPRODUCT('Males 5y'!AB$9:AB$21,Rates!$E$2:$E$14)+SUMPRODUCT(Rates!$F$2:$F$14,'Females 5y'!AB$9:AB$21)),-1) -> 1590
A15: Late Onset - Mild | B15: =S15/I15-1 -> 0.2 | C15: =AE15/F15-1 -> 0.48275862 | D15: =S15-I15 -> 120 | E15: =AE15-F15 -> 280 | F15: =ROUND(SUMPRODUCT(Rates!$E$9:$E$14,Rates!$L$3:$L$8,'Males 5y'!C$16:C$21)+SUMPRODUCT(Rates!$F$9:$F$14,Rates!$L$3:$L$8,'Females 5y'!C$16:C$21),-1) -> 580 | G15: =ROUND(SUMPRODUCT(Rates!$E$9:$E$14,Rates!$L$3:$L$8,'Males 5y'!D$16:D$21)+SUMPRODUCT(Rates!$F$9:$F$14,Rates!$L$3:$L$8,'Females 5y'!D$16:D$21),-1) -> 590 | H15: =ROUND(SUMPRODUCT(Rates!$E$9:$E$14,Rates!$L$3:$L$8,'Males 5y'!E$16:E$21)+SUMPRODUCT(Rates!$F$9:$F$14,Rates!$L$3:$L$8,'Females 5y'!E$16:E$21),-1) -> 590 | I15: =ROUND(SUMPRODUCT(Rates!$E$9:$E$14,Rates!$L$3:$L$8,'Males 5y'!F$16:F$21)+SUMPRODUCT(Rates!$F$9:$F$14,Rates!$L$3:$L$8,'Females 5y'!F$16:F$21),-1) -> 600 | J15: =ROUND(SUMPRODUCT(Rates!$E$9:$E$14,Rates!$L$3:$L$8,'Males 5y'!G$16:G$21)+SUMPRODUCT(Rates!$F$9:$F$14,Rates!$L$3:$L$8,'Females 5y'!G$16:G$21),-1) -> 610 | K15: =ROUND(SUMPRODUCT(Rates!$E$9:$E$14,Rates!$L$3:$L$8,'Males 5y'!H$16:H$21)+SUMPRODUCT(Rates!$F$9:$F$14,Rates!$L$3:$L$8,'Females 5y'!H$16:H$21),-1) -> 620 | L15: =ROUND(SUMPRODUCT(Rates!$E$9:$E$14,Rates!$L$3:$L$8,'Males 5y'!I$16:I$21)+SUMPRODUCT(Rates!$F$9:$F$14,Rates!$L$3:$L$8,'Females 5y'!I$16:I$21),-1) -> 640 | M15: =ROUND(SUMPRODUCT(Rates!$E$9:$E$14,Rates!$L$3:$L$8,'Males 5y'!J$16:J$21)+SUMPRODUCT(Rates!$F$9:$F$14,Rates!$L$3:$L$8,'Females 5y'!J$16:J$21),-1) -> 650 | ... AE15: =ROUND(SUMPRODUCT(Rates!$E$9:$E$14,Rates!$L$3:$L$8,'Males 5y'!AB$16:AB$21)+SUMPRODUCT(Rates!$F$9:$F$14,Rates!$L$3:$L$8,'Females 5y'!AB$16:AB$21),-1) -> 860
A16: Late Onset - Moderate | B16: =S16/I16-1 -> 0.2 | C16: =AE16/F16-1 -> 0.5 | D16: =S16-I16 -> 70 | E16: =AE16-F16 -> 170 | F16: =ROUND(SUMPRODUCT(Rates!$E$9:$E$14,Rates!$M$3:$M$8,'Males 5y'!C$16:C$21)+SUMPRODUCT(Rates!$F$9:$F$14,Rates!$M$3:$M$8,'Females 5y'!C$16:C$21),-1) -> 340 | G16: =ROUND(SUMPRODUCT(Rates!$E$9:$E$14,Rates!$M$3:$M$8,'Males 5y'!D$16:D$21)+SUMPRODUCT(Rates!$F$9:$F$14,Rates!$M$3:$M$8,'Females 5y'!D$16:D$21),-1) -> 340 | H16: =ROUND(SUMPRODUCT(Rates!$E$9:$E$14,Rates!$M$3:$M$8,'Males 5y'!E$16:E$21)+SUMPRODUCT(Rates!$F$9:$F$14,Rates!$M$3:$M$8,'Females 5y'!E$16:E$21),-1) -> 340 | I16: =ROUND(SUMPRODUCT(Rates!$E$9:$E$14,Rates!$M$3:$M$8,'Males 5y'!F$16:F$21)+SUMPRODUCT(Rates!$F$9:$F$14,Rates!$M$3:$M$8,'Females 5y'!F$16:F$21),-1) -> 350 | J16: =ROUND(SUMPRODUCT(Rates!$E$9:$E$14,Rates!$M$3:$M$8,'Males 5y'!G$16:G$21)+SUMPRODUCT(Rates!$F$9:$F$14,Rates!$M$3:$M$8,'Females 5y'!G$16:G$21),-1) -> 350 | K16: =ROUND(SUMPRODUCT(Rates!$E$9:$E$14,Rates!$M$3:$M$8,'Males 5y'!H$16:H$21)+SUMPRODUCT(Rates!$F$9:$F$14,Rates!$M$3:$M$8,'Females 5y'!H$16:H$21),-1) -> 360 | L16: =ROUND(SUMPRODUCT(Rates!$E$9:$E$14,Rates!$M$3:$M$8,'Males 5y'!I$16:I$21)+SUMPRODUCT(Rates!$F$9:$F$14,Rates!$M$3:$M$8,'Females 5y'!I$16:I$21),-1) -> 370 | M16: =ROUND(SUMPRODUCT(Rates!$E$9:$E$14,Rates!$M$3:$M$8,'Males 5y'!J$16:J$21)+SUMPRODUCT(Rates!$F$9:$F$14,Rates!$M$3:$M$8,'Females 5y'!J$16:J$21),-1) -> 380 | ... AE16: =ROUND(SUMPRODUCT(Rates!$E$9:$E$14,Rates!$M$3:$M$8,'Males 5y'!AB$16:AB$21)+SUMPRODUCT(Rates!$F$9:$F$14,Rates!$M$3:$M$8,'Females 5y'!AB$16:AB$21),-1) -> 510
A17: Late Onset - Severe | B17: =S17/I17-1 -> 0.21428571 | C17: =AE17/F17-1 -> 0.53846154 | D17: =S17-I17 -> 30 | E17: =AE17-F17 -> 70 | F17: =ROUND(SUMPRODUCT(Rates!$E$9:$E$14,Rates!$N$3:$N$8,'Males 5y'!C$16:C$21)+SUMPRODUCT(Rates!$F$9:$F$14,Rates!$N$3:$N$8,'Females 5y'!C$16:C$21),-1) -> 130 | G17: =ROUND(SUMPRODUCT(Rates!$E$9:$E$14,Rates!$N$3:$N$8,'Males 5y'!D$16:D$21)+SUMPRODUCT(Rates!$F$9:$F$14,Rates!$N$3:$N$8,'Females 5y'!D$16:D$21),-1) -> 130 | H17: =ROUND(SUMPRODUCT(Rates!$E$9:$E$14,Rates!$N$3:$N$8,'Males 5y'!E$16:E$21)+SUMPRODUCT(Rates!$F$9:$F$14,Rates!$N$3:$N$8,'Females 5y'!E$16:E$21),-1) -> 130 | I17: =ROUND(SUMPRODUCT(Rates!$E$9:$E$14,Rates!$N$3:$N$8,'Males 5y'!F$16:F$21)+SUMPRODUCT(Rates!$F$9:$F$14,Rates!$N$3:$N$8,'Females 5y'!F$16:F$21),-1) -> 140 | J17: =ROUND(SUMPRODUCT(Rates!$E$9:$E$14,Rates!$N$3:$N$8,'Males 5y'!G$16:G$21)+SUMPRODUCT(Rates!$F$9:$F$14,Rates!$N$3:$N$8,'Females 5y'!G$16:G$21),-1) -> 140 | K17: =ROUND(SUMPRODUCT(Rates!$E$9:$E$14,Rates!$N$3:$N$8,'Males 5y'!H$16:H$21)+SUMPRODUCT(Rates!$F$9:$F$14,Rates!$N$3:$N$8,'Females 5y'!H$16:H$21),-1) -> 140 | L17: =ROUND(SUMPRODUCT(Rates!$E$9:$E$14,Rates!$N$3:$N$8,'Males 5y'!I$16:I$21)+SUMPRODUCT(Rates!$F$9:$F$14,Rates!$N$3:$N$8,'Females 5y'!I$16:I$21),-1) -> 140 | M17: =ROUND(SUMPRODUCT(Rates!$E$9:$E$14,Rates!$N$3:$N$8,'Males 5y'!J$16:J$21)+SUMPRODUCT(Rates!$F$9:$F$14,Rates!$N$3:$N$8,'Females 5y'!J$16:J$21),-1) -> 150 | ... AE17: =ROUND(SUMPRODUCT(Rates!$E$9:$E$14,Rates!$N$3:$N$8,'Males 5y'!AB$16:AB$21)+SUMPRODUCT(Rates!$F$9:$F$14,Rates!$N$3:$N$8,'Females 5y'!AB$16:AB$21),-1) -> 200
A18: Alzheimer’s disease | B18: =S18/I18-1 -> 0.1884058 | C18: =AE18/F18-1 -> 0.5 | D18: =S18-I18 -> 130 | E18: =AE18-F18 -> 330 | F18: =ROUND((F14*Rates!$I$3),-1) -> 660 | G18: =ROUND((G14*Rates!$I$3),-1) -> 670 | H18: =ROUND((H14*Rates!$I$3),-1) -> 680 | I18: =ROUND((I14*Rates!$I$3),-1) -> 690 | J18: =ROUND((J14*Rates!$I$3),-1) -> 690 | K18: =ROUND((K14*Rates!$I$3),-1) -> 710 | L18: =ROUND((L14*Rates!$I$3),-1) -> 730 | M18: =ROUND((M14*Rates!$I$3),-1) -> 740 | ... AE18: =ROUND((AE14*Rates!$I$3),-1) -> 990
A19: Vascular dementia | B19: =S19/I19-1 -> 0.15789474 | C19: =AE19/F19-1 -> 0.5 | D19: =S19-I19 -> 30 | E19: =AE19-F19 -> 90 | F19: =ROUND((F14*Rates!$I$4),-1) -> 180 | G19: =ROUND((G14*Rates!$I$4),-1) -> 180 | H19: =ROUND((H14*Rates!$I$4),-1) -> 190 | I19: =ROUND((I14*Rates!$I$4),-1) -> 190 | J19: =ROUND((J14*Rates!$I$4),-1) -> 190 | K19: =ROUND((K14*Rates!$I$4),-1) -> 190 | L19: =ROUND((L14*Rates!$I$4),-1) -> 200 | M19: =ROUND((M14*Rates!$I$4),-1) -> 200 | ... AE19: =ROUND((AE14*Rates!$I$4),-1) -> 270
A20: Mixed (AD and VD) | B20: =S20/I20-1 -> 0.18181818 | C20: =AE20/F20-1 -> 0.45454545 | D20: =S20-I20 -> 20 | E20: =AE20-F20 -> 50 | F20: =ROUND((F14*Rates!$I$5),-1) -> 110 | G20: =ROUND((G14*Rates!$I$5),-1) -> 110 | H20: =ROUND((H14*Rates!$I$5),-1) -> 110 | I20: =ROUND((I14*Rates!$I$5),-1) -> 110 | J20: =ROUND((J14*Rates!$I$5),-1) -> 110 | K20: =ROUND((K14*Rates!$I$5),-1) -> 110 | L20: =ROUND((L14*Rates!$I$5),-1) -> 120 | M20: =ROUND((M14*Rates!$I$5),-1) -> 120 | ... AE20: =ROUND((AE14*Rates!$I$5),-1) -> 160
A21: Dementia with Lewy bodies | B21: =S21/I21-1 -> 0.25 | C21: =AE21/F21-1 -> 0.5 | D21: =S21-I21 -> 10 | E21: =AE21-F21 -> 20 | F21: =ROUND((F14*Rates!$I$6),-1) -> 40 | G21: =ROUND((G14*Rates!$I$6),-1) -> 40 | H21: =ROUND((H14*Rates!$I$6),-1) -> 40 | I21: =ROUND((I14*Rates!$I$6),-1) -> 40 | J21: =ROUND((J14*Rates!$I$6),-1) -> 40 | K21: =ROUND((K14*Rates!$I$6),-1) -> 50 | L21: =ROUND((L14*Rates!$I$6),-1) -> 50 | M21: =ROUND((M14*Rates!$I$6),-1) -> 50 | ... AE21: =ROUND((AE14*Rates!$I$6),-1) -> 60
A22: Frontotemporal dementia | B22: =S22/I22-1 -> 0.5 | C22: =AE22/F22-1 -> 0.5 | D22: =S22-I22 -> 10 | E22: =AE22-F22 -> 10 | F22: =ROUND((F14*Rates!$I$7),-1) -> 20 | G22: =ROUND((G14*Rates!$I$7),-1) -> 20 | H22: =ROUND((H14*Rates!$I$7),-1) -> 20 | I22: =ROUND((I14*Rates!$I$7),-1) -> 20 | J22: =ROUND((J14*Rates!$I$7),-1) -> 20 | K22: =ROUND((K14*Rates!$I$7),-1) -> 20 | L22: =ROUND((L14*Rates!$I$7),-1) -> 20 | M22: =ROUND((M14*Rates!$I$7),-1) -> 20 | ... AE22: =ROUND((AE14*Rates!$I$7),-1) -> 30
A23: Parkinsons’ dementia | B23: =S23/I23-1 -> 0.5 | C23: =AE23/F23-1 -> 0.5 | D23: =S23-I23 -> 10 | E23: =AE23-F23 -> 10 | F23: =ROUND((F14*Rates!$I$8),-1) -> 20 | G23: =ROUND((G14*Rates!$I$8),-1) -> 20 | H23: =ROUND((H14*Rates!$I$8),-1) -> 20 | I23: =ROUND((I14*Rates!$I$8),-1) -> 20 | J23: =ROUND((J14*Rates!$I$8),-1) -> 20 | K23: =ROUND((K14*Rates!$I$8),-1) -> 20 | L23: =ROUND((L14*Rates!$I$8),-1) -> 20 | M23: =ROUND((M14*Rates!$I$8),-1) -> 20 | ... AE23: =ROUND((AE14*Rates!$I$8),-1) -> 30
A24: Other | B24: =S24/I24-1 -> 0.33333333 | C24: =AE24/F24-1 -> 0.66666667 | D24: =S24-I24 -> 10 | E24: =AE24-F24 -> 20 | F24: =ROUND((F14*Rates!$I$9),-1) -> 30 | G24: =ROUND((G14*Rates!$I$9),-1) -> 30 | H24: =ROUND((H14*Rates!$I$9),-1) -> 30 | I24: =ROUND((I14*Rates!$I$9),-1) -> 30 | J24: =ROUND((J14*Rates!$I$9),-1) -> 30 | K24: =ROUND((K14*Rates!$I$9),-1) -> 30 | L24: =ROUND((L14*Rates!$I$9),-1) -> 40 | M24: =ROUND((M14*Rates!$I$9),-1) -> 40 | ... AE24: =ROUND((AE14*Rates!$I$9),-1) -> 50
A25: Arun
A26: All dementia | B26: =S26/I26-1 -> 0.275 | C26: =AE26/F26-1 -> 0.68621701 | D26: =S26-I26 -> 990 | E26: =AE26-F26 -> 2340 | F26: =ROUND((SUMPRODUCT('Males 5y'!C$29:C$41,Rates!$E$2:$E$14)+SUMPRODUCT(Rates!$F$2:$F$14,'Females 5y'!C$29:C$41)),-1) -> 3410 | G26: =ROUND((SUMPRODUCT('Males 5y'!D$29:D$41,Rates!$E$2:$E$14)+SUMPRODUCT(Rates!$F$2:$F$14,'Females 5y'!D$29:D$41)),-1) -> 3460 | H26: =ROUND((SUMPRODUCT('Males 5y'!E$29:E$41,Rates!$E$2:$E$14)+SUMPRODUCT(Rates!$F$2:$F$14,'Females 5y'!E$29:E$41)),-1) -> 3530 | I26: =ROUND((SUMPRODUCT('Males 5y'!F$29:F$41,Rates!$E$2:$E$14)+SUMPRODUCT(Rates!$F$2:$F$14,'Females 5y'!F$29:F$41)),-1) -> 3600 | J26: =ROUND((SUMPRODUCT('Males 5y'!G$29:G$41,Rates!$E$2:$E$14)+SUMPRODUCT(Rates!$F$2:$F$14,'Females 5y'!G$29:G$41)),-1) -> 3670 | K26: =ROUND((SUMPRODUCT('Males 5y'!H$29:H$41,Rates!$E$2:$E$14)+SUMPRODUCT(Rates!$F$2:$F$14,'Females 5y'!H$29:H$41)),-1) -> 3770 | L26: =ROUND((SUMPRODUCT('Males 5y'!I$29:I$41,Rates!$E$2:$E$14)+SUMPRODUCT(Rates!$F$2:$F$14,'Females 5y'!I$29:I$41)),-1) -> 3880 | M26: =ROUND((SUMPRODUCT('Males 5y'!J$29:J$41,Rates!$E$2:$E$14)+SUMPRODUCT(Rates!$F$2:$F$14,'Females 5y'!J$29:J$41)),-1) -> 3980 | ... AE26: =ROUND((SUMPRODUCT('Males 5y'!AB$29:AB$41,Rates!$E$2:$E$14)+SUMPRODUCT(Rates!$F$2:$F$14,'Females 5y'!AB$29:AB$41)),-1) -> 5750
A27: Late Onset - Mild | B27: =S27/I27-1 -> 0.2755102 | C27: =AE27/F27-1 -> 0.67204301 | D27: =S27-I27 -> 540 | E27: =AE27-F27 -> 1250 | F27: =ROUND(SUMPRODUCT(Rates!$E$9:$E$14,Rates!$L$3:$L$8,'Males 5y'!C$36:C$41)+SUMPRODUCT(Rates!$F$9:$F$14,Rates!$L$3:$L$8,'Females 5y'!C$36:C$41),-1) -> 1860 | G27: =ROUND(SUMPRODUCT(Rates!$E$9:$E$14,Rates!$L$3:$L$8,'Males 5y'!D$36:D$41)+SUMPRODUCT(Rates!$F$9:$F$14,Rates!$L$3:$L$8,'Females 5y'!D$36:D$41),-1) -> 1890 | H27: =ROUND(SUMPRODUCT(Rates!$E$9:$E$14,Rates!$L$3:$L$8,'Males 5y'!E$36:E$41)+SUMPRODUCT(Rates!$F$9:$F$14,Rates!$L$3:$L$8,'Females 5y'!E$36:E$41),-1) -> 1920 | I27: =ROUND(SUMPRODUCT(Rates!$E$9:$E$14,Rates!$L$3:$L$8,'Males 5y'!F$36:F$41)+SUMPRODUCT(Rates!$F$9:$F$14,Rates!$L$3:$L$8,'Females 5y'!F$36:F$41),-1) -> 1960 | J27: =ROUND(SUMPRODUCT(Rates!$E$9:$E$14,Rates!$L$3:$L$8,'Males 5y'!G$36:G$41)+SUMPRODUCT(Rates!$F$9:$F$14,Rates!$L$3:$L$8,'Females 5y'!G$36:G$41),-1) -> 2000 | K27: =ROUND(SUMPRODUCT(Rates!$E$9:$E$14,Rates!$L$3:$L$8,'Males 5y'!H$36:H$41)+SUMPRODUCT(Rates!$F$9:$F$14,Rates!$L$3:$L$8,'Females 5y'!H$36:H$41),-1) -> 2060 | L27: =ROUND(SUMPRODUCT(Rates!$E$9:$E$14,Rates!$L$3:$L$8,'Males 5y'!I$36:I$41)+SUMPRODUCT(Rates!$F$9:$F$14,Rates!$L$3:$L$8,'Females 5y'!I$36:I$41),-1) -> 2120 | M27: =ROUND(SUMPRODUCT(Rates!$E$9:$E$14,Rates!$L$3:$L$8,'Males 5y'!J$36:J$41)+SUMPRODUCT(Rates!$F$9:$F$14,Rates!$L$3:$L$8,'Females 5y'!J$36:J$41),-1) -> 2170 | ... AE27: =ROUND(SUMPRODUCT(Rates!$E$9:$E$14,Rates!$L$3:$L$8,'Males 5y'!AB$36:AB$41)+SUMPRODUCT(Rates!$F$9:$F$14,Rates!$L$3:$L$8,'Females 5y'!AB$36:AB$41),-1) -> 3110
A28: Late Onset - Moderate | B28: =S28/I28-1 -> 0.28070175 | C28: =AE28/F28-1 -> 0.7037037 | D28: =S28-I28 -> 320 | E28: =AE28-F28 -> 760 | F28: =ROUND(SUMPRODUCT(Rates!$E$9:$E$14,Rates!$M$3:$M$8,'Males 5y'!C$36:C$41)+SUMPRODUCT(Rates!$F$9:$F$14,Rates!$M$3:$M$8,'Females 5y'!C$36:C$41),-1) -> 1080 | G28: =ROUND(SUMPRODUCT(Rates!$E$9:$E$14,Rates!$M$3:$M$8,'Males 5y'!D$36:D$41)+SUMPRODUCT(Rates!$F$9:$F$14,Rates!$M$3:$M$8,'Females 5y'!D$36:D$41),-1) -> 1100 | H28: =ROUND(SUMPRODUCT(Rates!$E$9:$E$14,Rates!$M$3:$M$8,'Males 5y'!E$36:E$41)+SUMPRODUCT(Rates!$F$9:$F$14,Rates!$M$3:$M$8,'Females 5y'!E$36:E$41),-1) -> 1120 | I28: =ROUND(SUMPRODUCT(Rates!$E$9:$E$14,Rates!$M$3:$M$8,'Males 5y'!F$36:F$41)+SUMPRODUCT(Rates!$F$9:$F$14,Rates!$M$3:$M$8,'Females 5y'!F$36:F$41),-1) -> 1140 | J28: =ROUND(SUMPRODUCT(Rates!$E$9:$E$14,Rates!$M$3:$M$8,'Males 5y'!G$36:G$41)+SUMPRODUCT(Rates!$F$9:$F$14,Rates!$M$3:$M$8,'Females 5y'!G$36:G$41),-1) -> 1160 | K28: =ROUND(SUMPRODUCT(Rates!$E$9:$E$14,Rates!$M$3:$M$8,'Males 5y'!H$36:H$41)+SUMPRODUCT(Rates!$F$9:$F$14,Rates!$M$3:$M$8,'Females 5y'!H$36:H$41),-1) -> 1200 | L28: =ROUND(SUMPRODUCT(Rates!$E$9:$E$14,Rates!$M$3:$M$8,'Males 5y'!I$36:I$41)+SUMPRODUCT(Rates!$F$9:$F$14,Rates!$M$3:$M$8,'Females 5y'!I$36:I$41),-1) -> 1230 | M28: =ROUND(SUMPRODUCT(Rates!$E$9:$E$14,Rates!$M$3:$M$8,'Males 5y'!J$36:J$41)+SUMPRODUCT(Rates!$F$9:$F$14,Rates!$M$3:$M$8,'Females 5y'!J$36:J$41),-1) -> 1260 | ... AE28: =ROUND(SUMPRODUCT(Rates!$E$9:$E$14,Rates!$M$3:$M$8,'Males 5y'!AB$36:AB$41)+SUMPRODUCT(Rates!$F$9:$F$14,Rates!$M$3:$M$8,'Females 5y'!AB$36:AB$41),-1) -> 1840
A29: Late Onset - Severe | B29: =S29/I29-1 -> 0.28888889 | C29: =AE29/F29-1 -> 0.74418605 | D29: =S29-I29 -> 130 | E29: =AE29-F29 -> 320 | F29: =ROUND(SUMPRODUCT(Rates!$E$9:$E$14,Rates!$N$3:$N$8,'Males 5y'!C$36:C$41)+SUMPRODUCT(Rates!$F$9:$F$14,Rates!$N$3:$N$8,'Females 5y'!C$36:C$41),-1) -> 430 | G29: =ROUND(SUMPRODUCT(Rates!$E$9:$E$14,Rates!$N$3:$N$8,'Males 5y'!D$36:D$41)+SUMPRODUCT(Rates!$F$9:$F$14,Rates!$N$3:$N$8,'Females 5y'!D$36:D$41),-1) -> 430 | H29: =ROUND(SUMPRODUCT(Rates!$E$9:$E$14,Rates!$N$3:$N$8,'Males 5y'!E$36:E$41)+SUMPRODUCT(Rates!$F$9:$F$14,Rates!$N$3:$N$8,'Females 5y'!E$36:E$41),-1) -> 440 | I29: =ROUND(SUMPRODUCT(Rates!$E$9:$E$14,Rates!$N$3:$N$8,'Males 5y'!F$36:F$41)+SUMPRODUCT(Rates!$F$9:$F$14,Rates!$N$3:$N$8,'Females 5y'!F$36:F$41),-1) -> 450 | J29: =ROUND(SUMPRODUCT(Rates!$E$9:$E$14,Rates!$N$3:$N$8,'Males 5y'!G$36:G$41)+SUMPRODUCT(Rates!$F$9:$F$14,Rates!$N$3:$N$8,'Females 5y'!G$36:G$41),-1) -> 460 | K29: =ROUND(SUMPRODUCT(Rates!$E$9:$E$14,Rates!$N$3:$N$8,'Males 5y'!H$36:H$41)+SUMPRODUCT(Rates!$F$9:$F$14,Rates!$N$3:$N$8,'Females 5y'!H$36:H$41),-1) -> 470 | L29: =ROUND(SUMPRODUCT(Rates!$E$9:$E$14,Rates!$N$3:$N$8,'Males 5y'!I$36:I$41)+SUMPRODUCT(Rates!$F$9:$F$14,Rates!$N$3:$N$8,'Females 5y'!I$36:I$41),-1) -> 480 | M29: =ROUND(SUMPRODUCT(Rates!$E$9:$E$14,Rates!$N$3:$N$8,'Males 5y'!J$36:J$41)+SUMPRODUCT(Rates!$F$9:$F$14,Rates!$N$3:$N$8,'Females 5y'!J$36:J$41),-1) -> 500 | ... AE29: =ROUND(SUMPRODUCT(Rates!$E$9:$E$14,Rates!$N$3:$N$8,'Males 5y'!AB$36:AB$41)+SUMPRODUCT(Rates!$F$9:$F$14,Rates!$N$3:$N$8,'Females 5y'!AB$36:AB$41),-1) -> 750
A30: Alzheimer’s disease | B30: =S30/I30-1 -> 0.27802691 | C30: =AE30/F30-1 -> 0.69194313 | D30: =S30-I30 -> 620 | E30: =AE30-F30 -> 1460 | F30: =ROUND((F26*Rates!$I$3),-1) -> 2110 | G30: =ROUND((G26*Rates!$I$3),-1) -> 2150 | H30: =ROUND((H26*Rates!$I$3),-1) -> 2190 | I30: =ROUND((I26*Rates!$I$3),-1) -> 2230 | J30: =ROUND((J26*Rates!$I$3),-1) -> 2280 | K30: =ROUND((K26*Rates!$I$3),-1) -> 2340 | L30: =ROUND((L26*Rates!$I$3),-1) -> 2410 | M30: =ROUND((M26*Rates!$I$3),-1) -> 2470 | ... AE30: =ROUND((AE26*Rates!$I$3),-1) -> 3570
A31: Vascular dementia | B31: =S31/I31-1 -> 0.27868852 | C31: =AE31/F31-1 -> 0.68965517 | D31: =S31-I31 -> 170 | E31: =AE31-F31 -> 400 | F31: =ROUND((F26*Rates!$I$4),-1) -> 580 | G31: =ROUND((G26*Rates!$I$4),-1) -> 590 | H31: =ROUND((H26*Rates!$I$4),-1) -> 600 | I31: =ROUND((I26*Rates!$I$4),-1) -> 610 | J31: =ROUND((J26*Rates!$I$4),-1) -> 620 | K31: =ROUND((K26*Rates!$I$4),-1) -> 640 | L31: =ROUND((L26*Rates!$I$4),-1) -> 660 | M31: =ROUND((M26*Rates!$I$4),-1) -> 680 | ... AE31: =ROUND((AE26*Rates!$I$4),-1) -> 980
A32: Mixed (AD and VD) | B32: =S32/I32-1 -> 0.27777778 | C32: =AE32/F32-1 -> 0.70588235 | D32: =S32-I32 -> 100 | E32: =AE32-F32 -> 240 | F32: =ROUND((F26*Rates!$I$5),-1) -> 340 | G32: =ROUND((G26*Rates!$I$5),-1) -> 350 | H32: =ROUND((H26*Rates!$I$5),-1) -> 350 | I32: =ROUND((I26*Rates!$I$5),-1) -> 360 | J32: =ROUND((J26*Rates!$I$5),-1) -> 370 | K32: =ROUND((K26*Rates!$I$5),-1) -> 380 | L32: =ROUND((L26*Rates!$I$5),-1) -> 390 | M32: =ROUND((M26*Rates!$I$5),-1) -> 400 | ... AE32: =ROUND((AE26*Rates!$I$5),-1) -> 580
A33: Dementia with Lewy bodies | B33: =S33/I33-1 -> 0.28571429 | C33: =AE33/F33-1 -> 0.64285714 | D33: =S33-I33 -> 40 | E33: =AE33-F33 -> 90 | F33: =ROUND((F26*Rates!$I$6),-1) -> 140 | G33: =ROUND((G26*Rates!$I$6),-1) -> 140 | H33: =ROUND((H26*Rates!$I$6),-1) -> 140 | I33: =ROUND((I26*Rates!$I$6),-1) -> 140 | J33: =ROUND((J26*Rates!$I$6),-1) -> 150 | K33: =ROUND((K26*Rates!$I$6),-1) -> 150 | L33: =ROUND((L26*Rates!$I$6),-1) -> 160 | M33: =ROUND((M26*Rates!$I$6),-1) -> 160 | ... AE33: =ROUND((AE26*Rates!$I$6),-1) -> 230
A34: Frontotemporal dementia | B34: =S34/I34-1 -> 0.28571429 | C34: =AE34/F34-1 -> 0.71428571 | D34: =S34-I34 -> 20 | E34: =AE34-F34 -> 50 | F34: =ROUND((F26*Rates!$I$7),-1) -> 70 | G34: =ROUND((G26*Rates!$I$7),-1) -> 70 | H34: =ROUND((H26*Rates!$I$7),-1) -> 70 | I34: =ROUND((I26*Rates!$I$7),-1) -> 70 | J34: =ROUND((J26*Rates!$I$7),-1) -> 70 | K34: =ROUND((K26*Rates!$I$7),-1) -> 80 | L34: =ROUND((L26*Rates!$I$7),-1) -> 80 | M34: =ROUND((M26*Rates!$I$7),-1) -> 80 | ... AE34: =ROUND((AE26*Rates!$I$7),-1) -> 120
A35: Parkinsons’ dementia | B35: =S35/I35-1 -> 0.28571429 | C35: =AE35/F35-1 -> 0.71428571 | D35: =S35-I35 -> 20 | E35: =AE35-F35 -> 50 | F35: =ROUND((F26*Rates!$I$8),-1) -> 70 | G35: =ROUND((G26*Rates!$I$8),-1) -> 70 | H35: =ROUND((H26*Rates!$I$8),-1) -> 70 | I35: =ROUND((I26*Rates!$I$8),-1) -> 70 | J35: =ROUND((J26*Rates!$I$8),-1) -> 70 | K35: =ROUND((K26*Rates!$I$8),-1) -> 80 | L35: =ROUND((L26*Rates!$I$8),-1) -> 80 | M35: =ROUND((M26*Rates!$I$8),-1) -> 80 | ... AE35: =ROUND((AE26*Rates!$I$8),-1) -> 120
A36: Other | B36: =S36/I36-1 -> 0.27272727 | C36: =AE36/F36-1 -> 0.7 | D36: =S36-I36 -> 30 | E36: =AE36-F36 -> 70 | F36: =ROUND((F26*Rates!$I$9),-1) -> 100 | G36: =ROUND((G26*Rates!$I$9),-1) -> 100 | H36: =ROUND((H26*Rates!$I$9),-1) -> 110 | I36: =ROUND((I26*Rates!$I$9),-1) -> 110 | J36: =ROUND((J26*Rates!$I$9),-1) -> 110 | K36: =ROUND((K26*Rates!$I$9),-1) -> 110 | L36: =ROUND((L26*Rates!$I$9),-1) -> 120 | M36: =ROUND((M26*Rates!$I$9),-1) -> 120 | ... AE36: =ROUND((AE26*Rates!$I$9),-1) -> 170
A37: Chichester
A38: All dementia | B38: =S38/I38-1 -> 0.29343629 | C38: =AE38/F38-1 -> 0.73966942 | D38: =S38-I38 -> 760 | E38: =AE38-F38 -> 1790 | F38: =ROUND((SUMPRODUCT('Males 5y'!C$49:C$61,Rates!$E$2:$E$14)+SUMPRODUCT(Rates!$F$2:$F$14,'Females 5y'!C$49:C$61)),-1) -> 2420 | G38: =ROUND((SUMPRODUCT('Males 5y'!D$49:D$61,Rates!$E$2:$E$14)+SUMPRODUCT(Rates!$F$2:$F$14,'Females 5y'!D$49:D$61)),-1) -> 2470 | H38: =ROUND((SUMPRODUCT('Males 5y'!E$49:E$61,Rates!$E$2:$E$14)+SUMPRODUCT(Rates!$F$2:$F$14,'Females 5y'!E$49:E$61)),-1) -> 2530 | I38: =ROUND((SUMPRODUCT('Males 5y'!F$49:F$61,Rates!$E$2:$E$14)+SUMPRODUCT(Rates!$F$2:$F$14,'Females 5y'!F$49:F$61)),-1) -> 2590 | J38: =ROUND((SUMPRODUCT('Males 5y'!G$49:G$61,Rates!$E$2:$E$14)+SUMPRODUCT(Rates!$F$2:$F$14,'Females 5y'!G$49:G$61)),-1) -> 2640 | K38: =ROUND((SUMPRODUCT('Males 5y'!H$49:H$61,Rates!$E$2:$E$14)+SUMPRODUCT(Rates!$F$2:$F$14,'Females 5y'!H$49:H$61)),-1) -> 2720 | L38: =ROUND((SUMPRODUCT('Males 5y'!I$49:I$61,Rates!$E$2:$E$14)+SUMPRODUCT(Rates!$F$2:$F$14,'Females 5y'!I$49:I$61)),-1) -> 2800 | M38: =ROUND((SUMPRODUCT('Males 5y'!J$49:J$61,Rates!$E$2:$E$14)+SUMPRODUCT(Rates!$F$2:$F$14,'Females 5y'!J$49:J$61)),-1) -> 2880 | ... AE38: =ROUND((SUMPRODUCT('Males 5y'!AB$49:AB$61,Rates!$E$2:$E$14)+SUMPRODUCT(Rates!$F$2:$F$14,'Females 5y'!AB$49:AB$61)),-1) -> 4210
A39: Late Onset - Mild | B39: =S39/I39-1 -> 0.29078014 | C39: =AE39/F39-1 -> 0.71969697 | D39: =S39-I39 -> 410 | E39: =AE39-F39 -> 950 | F39: =ROUND(SUMPRODUCT(Rates!$E$9:$E$14,Rates!$L$3:$L$8,'Males 5y'!C$56:C$61)+SUMPRODUCT(Rates!$F$9:$F$14,Rates!$L$3:$L$8,'Females 5y'!C$56:C$61),-1) -> 1320 | G39: =ROUND(SUMPRODUCT(Rates!$E$9:$E$14,Rates!$L$3:$L$8,'Males 5y'!D$56:D$61)+SUMPRODUCT(Rates!$F$9:$F$14,Rates!$L$3:$L$8,'Females 5y'!D$56:D$61),-1) -> 1350 | H39: =ROUND(SUMPRODUCT(Rates!$E$9:$E$14,Rates!$L$3:$L$8,'Males 5y'!E$56:E$61)+SUMPRODUCT(Rates!$F$9:$F$14,Rates!$L$3:$L$8,'Females 5y'!E$56:E$61),-1) -> 1380 | I39: =ROUND(SUMPRODUCT(Rates!$E$9:$E$14,Rates!$L$3:$L$8,'Males 5y'!F$56:F$61)+SUMPRODUCT(Rates!$F$9:$F$14,Rates!$L$3:$L$8,'Females 5y'!F$56:F$61),-1) -> 1410 | J39: =ROUND(SUMPRODUCT(Rates!$E$9:$E$14,Rates!$L$3:$L$8,'Males 5y'!G$56:G$61)+SUMPRODUCT(Rates!$F$9:$F$14,Rates!$L$3:$L$8,'Females 5y'!G$56:G$61),-1) -> 1440 | K39: =ROUND(SUMPRODUCT(Rates!$E$9:$E$14,Rates!$L$3:$L$8,'Males 5y'!H$56:H$61)+SUMPRODUCT(Rates!$F$9:$F$14,Rates!$L$3:$L$8,'Females 5y'!H$56:H$61),-1) -> 1480 | L39: =ROUND(SUMPRODUCT(Rates!$E$9:$E$14,Rates!$L$3:$L$8,'Males 5y'!I$56:I$61)+SUMPRODUCT(Rates!$F$9:$F$14,Rates!$L$3:$L$8,'Females 5y'!I$56:I$61),-1) -> 1530 | M39: =ROUND(SUMPRODUCT(Rates!$E$9:$E$14,Rates!$L$3:$L$8,'Males 5y'!J$56:J$61)+SUMPRODUCT(Rates!$F$9:$F$14,Rates!$L$3:$L$8,'Females 5y'!J$56:J$61),-1) -> 1570 | ... AE39: =ROUND(SUMPRODUCT(Rates!$E$9:$E$14,Rates!$L$3:$L$8,'Males 5y'!AB$56:AB$61)+SUMPRODUCT(Rates!$F$9:$F$14,Rates!$L$3:$L$8,'Females 5y'!AB$56:AB$61),-1) -> 2270
A40: Late Onset - Moderate | B40: =S40/I40-1 -> 0.30487805 | C40: =AE40/F40-1 -> 0.74025974 | D40: =S40-I40 -> 250 | E40: =AE40-F40 -> 570 | F40: =ROUND(SUMPRODUCT(Rates!$E$9:$E$14,Rates!$M$3:$M$8,'Males 5y'!C$56:C$61)+SUMPRODUCT(Rates!$F$9:$F$14,Rates!$M$3:$M$8,'Females 5y'!C$56:C$61),-1) -> 770 | G40: =ROUND(SUMPRODUCT(Rates!$E$9:$E$14,Rates!$M$3:$M$8,'Males 5y'!D$56:D$61)+SUMPRODUCT(Rates!$F$9:$F$14,Rates!$M$3:$M$8,'Females 5y'!D$56:D$61),-1) -> 780 | H40: =ROUND(SUMPRODUCT(Rates!$E$9:$E$14,Rates!$M$3:$M$8,'Males 5y'!E$56:E$61)+SUMPRODUCT(Rates!$F$9:$F$14,Rates!$M$3:$M$8,'Females 5y'!E$56:E$61),-1) -> 800 | I40: =ROUND(SUMPRODUCT(Rates!$E$9:$E$14,Rates!$M$3:$M$8,'Males 5y'!F$56:F$61)+SUMPRODUCT(Rates!$F$9:$F$14,Rates!$M$3:$M$8,'Females 5y'!F$56:F$61),-1) -> 820 | J40: =ROUND(SUMPRODUCT(Rates!$E$9:$E$14,Rates!$M$3:$M$8,'Males 5y'!G$56:G$61)+SUMPRODUCT(Rates!$F$9:$F$14,Rates!$M$3:$M$8,'Females 5y'!G$56:G$61),-1) -> 840 | K40: =ROUND(SUMPRODUCT(Rates!$E$9:$E$14,Rates!$M$3:$M$8,'Males 5y'!H$56:H$61)+SUMPRODUCT(Rates!$F$9:$F$14,Rates!$M$3:$M$8,'Females 5y'!H$56:H$61),-1) -> 860 | L40: =ROUND(SUMPRODUCT(Rates!$E$9:$E$14,Rates!$M$3:$M$8,'Males 5y'!I$56:I$61)+SUMPRODUCT(Rates!$F$9:$F$14,Rates!$M$3:$M$8,'Females 5y'!I$56:I$61),-1) -> 890 | M40: =ROUND(SUMPRODUCT(Rates!$E$9:$E$14,Rates!$M$3:$M$8,'Males 5y'!J$56:J$61)+SUMPRODUCT(Rates!$F$9:$F$14,Rates!$M$3:$M$8,'Females 5y'!J$56:J$61),-1) -> 910 | ... AE40: =ROUND(SUMPRODUCT(Rates!$E$9:$E$14,Rates!$M$3:$M$8,'Males 5y'!AB$56:AB$61)+SUMPRODUCT(Rates!$F$9:$F$14,Rates!$M$3:$M$8,'Females 5y'!AB$56:AB$61),-1) -> 1340
A41: Late Onset - Severe | B41: =S41/I41-1 -> 0.34375 | C41: =AE41/F41-1 -> 0.83333333 | D41: =S41-I41 -> 110 | E41: =AE41-F41 -> 250 | F41: =ROUND(SUMPRODUCT(Rates!$E$9:$E$14,Rates!$N$3:$N$8,'Males 5y'!C$56:C$61)+SUMPRODUCT(Rates!$F$9:$F$14,Rates!$N$3:$N$8,'Females 5y'!C$56:C$61),-1) -> 300 | G41: =ROUND(SUMPRODUCT(Rates!$E$9:$E$14,Rates!$N$3:$N$8,'Males 5y'!D$56:D$61)+SUMPRODUCT(Rates!$F$9:$F$14,Rates!$N$3:$N$8,'Females 5y'!D$56:D$61),-1) -> 310 | H41: =ROUND(SUMPRODUCT(Rates!$E$9:$E$14,Rates!$N$3:$N$8,'Males 5y'!E$56:E$61)+SUMPRODUCT(Rates!$F$9:$F$14,Rates!$N$3:$N$8,'Females 5y'!E$56:E$61),-1) -> 320 | I41: =ROUND(SUMPRODUCT(Rates!$E$9:$E$14,Rates!$N$3:$N$8,'Males 5y'!F$56:F$61)+SUMPRODUCT(Rates!$F$9:$F$14,Rates!$N$3:$N$8,'Females 5y'!F$56:F$61),-1) -> 320 | J41: =ROUND(SUMPRODUCT(Rates!$E$9:$E$14,Rates!$N$3:$N$8,'Males 5y'!G$56:G$61)+SUMPRODUCT(Rates!$F$9:$F$14,Rates!$N$3:$N$8,'Females 5y'!G$56:G$61),-1) -> 330 | K41: =ROUND(SUMPRODUCT(Rates!$E$9:$E$14,Rates!$N$3:$N$8,'Males 5y'!H$56:H$61)+SUMPRODUCT(Rates!$F$9:$F$14,Rates!$N$3:$N$8,'Females 5y'!H$56:H$61),-1) -> 340 | L41: =ROUND(SUMPRODUCT(Rates!$E$9:$E$14,Rates!$N$3:$N$8,'Males 5y'!I$56:I$61)+SUMPRODUCT(Rates!$F$9:$F$14,Rates!$N$3:$N$8,'Females 5y'!I$56:I$61),-1) -> 350 | M41: =ROUND(SUMPRODUCT(Rates!$E$9:$E$14,Rates!$N$3:$N$8,'Males 5y'!J$56:J$61)+SUMPRODUCT(Rates!$F$9:$F$14,Rates!$N$3:$N$8,'Females 5y'!J$56:J$61),-1) -> 360 | ... AE41: =ROUND(SUMPRODUCT(Rates!$E$9:$E$14,Rates!$N$3:$N$8,'Males 5y'!AB$56:AB$61)+SUMPRODUCT(Rates!$F$9:$F$14,Rates!$N$3:$N$8,'Females 5y'!AB$56:AB$61),-1) -> 550
A42: Alzheimer’s disease | B42: =S42/I42-1 -> 0.29192547 | C42: =AE42/F42-1 -> 0.74 | D42: =S42-I42 -> 470 | E42: =AE42-F42 -> 1110 | F42: =ROUND((F38*Rates!$I$3),-1) -> 1500 | G42: =ROUND((G38*Rates!$I$3),-1) -> 1530 | H42: =ROUND((H38*Rates!$I$3),-1) -> 1570 | I42: =ROUND((I38*Rates!$I$3),-1) -> 1610 | J42: =ROUND((J38*Rates!$I$3),-1) -> 1640 | K42: =ROUND((K38*Rates!$I$3),-1) -> 1690 | L42: =ROUND((L38*Rates!$I$3),-1) -> 1740 | M42: =ROUND((M38*Rates!$I$3),-1) -> 1790 | ... AE42: =ROUND((AE38*Rates!$I$3),-1) -> 2610
A43: Vascular dementia | B43: =S43/I43-1 -> 0.29545455 | C43: =AE43/F43-1 -> 0.75609756 | D43: =S43-I43 -> 130 | E43: =AE43-F43 -> 310 | F43: =ROUND((F38*Rates!$I$4),-1) -> 410 | G43: =ROUND((G38*Rates!$I$4),-1) -> 420 | H43: =ROUND((H38*Rates!$I$4),-1) -> 430 | I43: =ROUND((I38*Rates!$I$4),-1) -> 440 | J43: =ROUND((J38*Rates!$I$4),-1) -> 450 | K43: =ROUND((K38*Rates!$I$4),-1) -> 460 | L43: =ROUND((L38*Rates!$I$4),-1) -> 480 | M43: =ROUND((M38*Rates!$I$4),-1) -> 490 | ... AE43: =ROUND((AE38*Rates!$I$4),-1) -> 720
A44: Mixed (AD and VD) | B44: =S44/I44-1 -> 0.30769231 | C44: =AE44/F44-1 -> 0.75 | D44: =S44-I44 -> 80 | E44: =AE44-F44 -> 180 | F44: =ROUND((F38*Rates!$I$5),-1) -> 240 | G44: =ROUND((G38*Rates!$I$5),-1) -> 250 | H44: =ROUND((H38*Rates!$I$5),-1) -> 250 | I44: =ROUND((I38*Rates!$I$5),-1) -> 260 | J44: =ROUND((J38*Rates!$I$5),-1) -> 260 | K44: =ROUND((K38*Rates!$I$5),-1) -> 270 | L44: =ROUND((L38*Rates!$I$5),-1) -> 280 | M44: =ROUND((M38*Rates!$I$5),-1) -> 290 | ... AE44: =ROUND((AE38*Rates!$I$5),-1) -> 420
A45: Dementia with Lewy bodies | B45: =S45/I45-1 -> 0.3 | C45: =AE45/F45-1 -> 0.7 | D45: =S45-I45 -> 30 | E45: =AE45-F45 -> 70 | F45: =ROUND((F38*Rates!$I$6),-1) -> 100 | G45: =ROUND((G38*Rates!$I$6),-1) -> 100 | H45: =ROUND((H38*Rates!$I$6),-1) -> 100 | I45: =ROUND((I38*Rates!$I$6),-1) -> 100 | J45: =ROUND((J38*Rates!$I$6),-1) -> 110 | K45: =ROUND((K38*Rates!$I$6),-1) -> 110 | L45: =ROUND((L38*Rates!$I$6),-1) -> 110 | M45: =ROUND((M38*Rates!$I$6),-1) -> 120 | ... AE45: =ROUND((AE38*Rates!$I$6),-1) -> 170
A46: Frontotemporal dementia | B46: =S46/I46-1 -> 0.4 | C46: =AE46/F46-1 -> 0.6 | D46: =S46-I46 -> 20 | E46: =AE46-F46 -> 30 | F46: =ROUND((F38*Rates!$I$7),-1) -> 50 | G46: =ROUND((G38*Rates!$I$7),-1) -> 50 | H46: =ROUND((H38*Rates!$I$7),-1) -> 50 | I46: =ROUND((I38*Rates!$I$7),-1) -> 50 | J46: =ROUND((J38*Rates!$I$7),-1) -> 50 | K46: =ROUND((K38*Rates!$I$7),-1) -> 50 | L46: =ROUND((L38*Rates!$I$7),-1) -> 60 | M46: =ROUND((M38*Rates!$I$7),-1) -> 60 | ... AE46: =ROUND((AE38*Rates!$I$7),-1) -> 80
A47: Parkinsons’ dementia | B47: =S47/I47-1 -> 0.4 | C47: =AE47/F47-1 -> 0.6 | D47: =S47-I47 -> 20 | E47: =AE47-F47 -> 30 | F47: =ROUND((F38*Rates!$I$8),-1) -> 50 | G47: =ROUND((G38*Rates!$I$8),-1) -> 50 | H47: =ROUND((H38*Rates!$I$8),-1) -> 50 | I47: =ROUND((I38*Rates!$I$8),-1) -> 50 | J47: =ROUND((J38*Rates!$I$8),-1) -> 50 | K47: =ROUND((K38*Rates!$I$8),-1) -> 50 | L47: =ROUND((L38*Rates!$I$8),-1) -> 60 | M47: =ROUND((M38*Rates!$I$8),-1) -> 60 | ... AE47: =ROUND((AE38*Rates!$I$8),-1) -> 80
A48: Other | B48: =S48/I48-1 -> 0.25 | C48: =AE48/F48-1 -> 0.85714286 | D48: =S48-I48 -> 20 | E48: =AE48-F48 -> 60 | F48: =ROUND((F38*Rates!$I$9),-1) -> 70 | G48: =ROUND((G38*Rates!$I$9),-1) -> 70 | H48: =ROUND((H38*Rates!$I$9),-1) -> 80 | I48: =ROUND((I38*Rates!$I$9),-1) -> 80 | J48: =ROUND((J38*Rates!$I$9),-1) -> 80 | K48: =ROUND((K38*Rates!$I$9),-1) -> 80 | L48: =ROUND((L38*Rates!$I$9),-1) -> 80 | M48: =ROUND((M38*Rates!$I$9),-1) -> 90 | ... AE48: =ROUND((AE38*Rates!$I$9),-1) -> 130
A49: Crawley
A50: All dementia | B50: =S50/I50-1 -> 0.22429907 | C50: =AE50/F50-1 -> 0.5754717 | D50: =S50-I50 -> 240 | E50: =AE50-F50 -> 610 | F50: =ROUND((SUMPRODUCT('Males 5y'!C$69:C$81,Rates!$E$2:$E$14)+SUMPRODUCT(Rates!$F$2:$F$14,'Females 5y'!C$69:C$81)),-1) -> 1060 | G50: =ROUND((SUMPRODUCT('Males 5y'!D$69:D$81,Rates!$E$2:$E$14)+SUMPRODUCT(Rates!$F$2:$F$14,'Females 5y'!D$69:D$81)),-1) -> 1060 | H50: =ROUND((SUMPRODUCT('Males 5y'!E$69:E$81,Rates!$E$2:$E$14)+SUMPRODUCT(Rates!$F$2:$F$14,'Females 5y'!E$69:E$81)),-1) -> 1070 | I50: =ROUND((SUMPRODUCT('Males 5y'!F$69:F$81,Rates!$E$2:$E$14)+SUMPRODUCT(Rates!$F$2:$F$14,'Females 5y'!F$69:F$81)),-1) -> 1070 | J50: =ROUND((SUMPRODUCT('Males 5y'!G$69:G$81,Rates!$E$2:$E$14)+SUMPRODUCT(Rates!$F$2:$F$14,'Females 5y'!G$69:G$81)),-1) -> 1080 | K50: =ROUND((SUMPRODUCT('Males 5y'!H$69:H$81,Rates!$E$2:$E$14)+SUMPRODUCT(Rates!$F$2:$F$14,'Females 5y'!H$69:H$81)),-1) -> 1100 | L50: =ROUND((SUMPRODUCT('Males 5y'!I$69:I$81,Rates!$E$2:$E$14)+SUMPRODUCT(Rates!$F$2:$F$14,'Females 5y'!I$69:I$81)),-1) -> 1120 | M50: =ROUND((SUMPRODUCT('Males 5y'!J$69:J$81,Rates!$E$2:$E$14)+SUMPRODUCT(Rates!$F$2:$F$14,'Females 5y'!J$69:J$81)),-1) -> 1140 | ... AE50: =ROUND((SUMPRODUCT('Males 5y'!AB$69:AB$81,Rates!$E$2:$E$14)+SUMPRODUCT(Rates!$F$2:$F$14,'Females 5y'!AB$69:AB$81)),-1) -> 1670
A51: Late Onset - Mild | B51: =S51/I51-1 -> 0.22413793 | C51: =AE51/F51-1 -> 0.57894737 | D51: =S51-I51 -> 130 | E51: =AE51-F51 -> 330 | F51: =ROUND(SUMPRODUCT(Rates!$E$9:$E$14,Rates!$L$3:$L$8,'Males 5y'!C$76:C$81)+SUMPRODUCT(Rates!$F$9:$F$14,Rates!$L$3:$L$8,'Females 5y'!C$76:C$81),-1) -> 570 | G51: =ROUND(SUMPRODUCT(Rates!$E$9:$E$14,Rates!$L$3:$L$8,'Males 5y'!D$76:D$81)+SUMPRODUCT(Rates!$F$9:$F$14,Rates!$L$3:$L$8,'Females 5y'!D$76:D$81),-1) -> 570 | H51: =ROUND(SUMPRODUCT(Rates!$E$9:$E$14,Rates!$L$3:$L$8,'Males 5y'!E$76:E$81)+SUMPRODUCT(Rates!$F$9:$F$14,Rates!$L$3:$L$8,'Females 5y'!E$76:E$81),-1) -> 570 | I51: =ROUND(SUMPRODUCT(Rates!$E$9:$E$14,Rates!$L$3:$L$8,'Males 5y'!F$76:F$81)+SUMPRODUCT(Rates!$F$9:$F$14,Rates!$L$3:$L$8,'Females 5y'!F$76:F$81),-1) -> 580 | J51: =ROUND(SUMPRODUCT(Rates!$E$9:$E$14,Rates!$L$3:$L$8,'Males 5y'!G$76:G$81)+SUMPRODUCT(Rates!$F$9:$F$14,Rates!$L$3:$L$8,'Females 5y'!G$76:G$81),-1) -> 580 | K51: =ROUND(SUMPRODUCT(Rates!$E$9:$E$14,Rates!$L$3:$L$8,'Males 5y'!H$76:H$81)+SUMPRODUCT(Rates!$F$9:$F$14,Rates!$L$3:$L$8,'Females 5y'!H$76:H$81),-1) -> 590 | L51: =ROUND(SUMPRODUCT(Rates!$E$9:$E$14,Rates!$L$3:$L$8,'Males 5y'!I$76:I$81)+SUMPRODUCT(Rates!$F$9:$F$14,Rates!$L$3:$L$8,'Females 5y'!I$76:I$81),-1) -> 610 | M51: =ROUND(SUMPRODUCT(Rates!$E$9:$E$14,Rates!$L$3:$L$8,'Males 5y'!J$76:J$81)+SUMPRODUCT(Rates!$F$9:$F$14,Rates!$L$3:$L$8,'Females 5y'!J$76:J$81),-1) -> 620 | ... AE51: =ROUND(SUMPRODUCT(Rates!$E$9:$E$14,Rates!$L$3:$L$8,'Males 5y'!AB$76:AB$81)+SUMPRODUCT(Rates!$F$9:$F$14,Rates!$L$3:$L$8,'Females 5y'!AB$76:AB$81),-1) -> 900
A52: Late Onset - Moderate | B52: =S52/I52-1 -> 0.24242424 | C52: =AE52/F52-1 -> 0.57575758 | D52: =S52-I52 -> 80 | E52: =AE52-F52 -> 190 | F52: =ROUND(SUMPRODUCT(Rates!$E$9:$E$14,Rates!$M$3:$M$8,'Males 5y'!C$76:C$81)+SUMPRODUCT(Rates!$F$9:$F$14,Rates!$M$3:$M$8,'Females 5y'!C$76:C$81),-1) -> 330 | G52: =ROUND(SUMPRODUCT(Rates!$E$9:$E$14,Rates!$M$3:$M$8,'Males 5y'!D$76:D$81)+SUMPRODUCT(Rates!$F$9:$F$14,Rates!$M$3:$M$8,'Females 5y'!D$76:D$81),-1) -> 330 | H52: =ROUND(SUMPRODUCT(Rates!$E$9:$E$14,Rates!$M$3:$M$8,'Males 5y'!E$76:E$81)+SUMPRODUCT(Rates!$F$9:$F$14,Rates!$M$3:$M$8,'Females 5y'!E$76:E$81),-1) -> 330 | I52: =ROUND(SUMPRODUCT(Rates!$E$9:$E$14,Rates!$M$3:$M$8,'Males 5y'!F$76:F$81)+SUMPRODUCT(Rates!$F$9:$F$14,Rates!$M$3:$M$8,'Females 5y'!F$76:F$81),-1) -> 330 | J52: =ROUND(SUMPRODUCT(Rates!$E$9:$E$14,Rates!$M$3:$M$8,'Males 5y'!G$76:G$81)+SUMPRODUCT(Rates!$F$9:$F$14,Rates!$M$3:$M$8,'Females 5y'!G$76:G$81),-1) -> 340 | K52: =ROUND(SUMPRODUCT(Rates!$E$9:$E$14,Rates!$M$3:$M$8,'Males 5y'!H$76:H$81)+SUMPRODUCT(Rates!$F$9:$F$14,Rates!$M$3:$M$8,'Females 5y'!H$76:H$81),-1) -> 340 | L52: =ROUND(SUMPRODUCT(Rates!$E$9:$E$14,Rates!$M$3:$M$8,'Males 5y'!I$76:I$81)+SUMPRODUCT(Rates!$F$9:$F$14,Rates!$M$3:$M$8,'Females 5y'!I$76:I$81),-1) -> 350 | M52: =ROUND(SUMPRODUCT(Rates!$E$9:$E$14,Rates!$M$3:$M$8,'Males 5y'!J$76:J$81)+SUMPRODUCT(Rates!$F$9:$F$14,Rates!$M$3:$M$8,'Females 5y'!J$76:J$81),-1) -> 360 | ... AE52: =ROUND(SUMPRODUCT(Rates!$E$9:$E$14,Rates!$M$3:$M$8,'Males 5y'!AB$76:AB$81)+SUMPRODUCT(Rates!$F$9:$F$14,Rates!$M$3:$M$8,'Females 5y'!AB$76:AB$81),-1) -> 520
A53: Late Onset - Severe | B53: =S53/I53-1 -> 0.23076923 | C53: =AE53/F53-1 -> 0.61538462 | D53: =S53-I53 -> 30 | E53: =AE53-F53 -> 80 | F53: =ROUND(SUMPRODUCT(Rates!$E$9:$E$14,Rates!$N$3:$N$8,'Males 5y'!C$76:C$81)+SUMPRODUCT(Rates!$F$9:$F$14,Rates!$N$3:$N$8,'Females 5y'!C$76:C$81),-1) -> 130 | G53: =ROUND(SUMPRODUCT(Rates!$E$9:$E$14,Rates!$N$3:$N$8,'Males 5y'!D$76:D$81)+SUMPRODUCT(Rates!$F$9:$F$14,Rates!$N$3:$N$8,'Females 5y'!D$76:D$81),-1) -> 130 | H53: =ROUND(SUMPRODUCT(Rates!$E$9:$E$14,Rates!$N$3:$N$8,'Males 5y'!E$76:E$81)+SUMPRODUCT(Rates!$F$9:$F$14,Rates!$N$3:$N$8,'Females 5y'!E$76:E$81),-1) -> 130 | I53: =ROUND(SUMPRODUCT(Rates!$E$9:$E$14,Rates!$N$3:$N$8,'Males 5y'!F$76:F$81)+SUMPRODUCT(Rates!$F$9:$F$14,Rates!$N$3:$N$8,'Females 5y'!F$76:F$81),-1) -> 130 | J53: =ROUND(SUMPRODUCT(Rates!$E$9:$E$14,Rates!$N$3:$N$8,'Males 5y'!G$76:G$81)+SUMPRODUCT(Rates!$F$9:$F$14,Rates!$N$3:$N$8,'Females 5y'!G$76:G$81),-1) -> 130 | K53: =ROUND(SUMPRODUCT(Rates!$E$9:$E$14,Rates!$N$3:$N$8,'Males 5y'!H$76:H$81)+SUMPRODUCT(Rates!$F$9:$F$14,Rates!$N$3:$N$8,'Females 5y'!H$76:H$81),-1) -> 130 | L53: =ROUND(SUMPRODUCT(Rates!$E$9:$E$14,Rates!$N$3:$N$8,'Males 5y'!I$76:I$81)+SUMPRODUCT(Rates!$F$9:$F$14,Rates!$N$3:$N$8,'Females 5y'!I$76:I$81),-1) -> 130 | M53: =ROUND(SUMPRODUCT(Rates!$E$9:$E$14,Rates!$N$3:$N$8,'Males 5y'!J$76:J$81)+SUMPRODUCT(Rates!$F$9:$F$14,Rates!$N$3:$N$8,'Females 5y'!J$76:J$81),-1) -> 140 | ... AE53: =ROUND(SUMPRODUCT(Rates!$E$9:$E$14,Rates!$N$3:$N$8,'Males 5y'!AB$76:AB$81)+SUMPRODUCT(Rates!$F$9:$F$14,Rates!$N$3:$N$8,'Females 5y'!AB$76:AB$81),-1) -> 210
A54: Alzheimer’s disease | B54: =S54/I54-1 -> 0.22727273 | C54: =AE54/F54-1 -> 0.57575758 | D54: =S54-I54 -> 150 | E54: =AE54-F54 -> 380 | F54: =ROUND((F50*Rates!$I$3),-1) -> 660 | G54: =ROUND((G50*Rates!$I$3),-1) -> 660 | H54: =ROUND((H50*Rates!$I$3),-1) -> 660 | I54: =ROUND((I50*Rates!$I$3),-1) -> 660 | J54: =ROUND((J50*Rates!$I$3),-1) -> 670 | K54: =ROUND((K50*Rates!$I$3),-1) -> 680 | L54: =ROUND((L50*Rates!$I$3),-1) -> 690 | M54: =ROUND((M50*Rates!$I$3),-1) -> 710 | ... AE54: =ROUND((AE50*Rates!$I$3),-1) -> 1040
A55: Vascular dementia | B55: =S55/I55-1 -> 0.22222222 | C55: =AE55/F55-1 -> 0.55555556 | D55: =S55-I55 -> 40 | E55: =AE55-F55 -> 100 | F55: =ROUND((F50*Rates!$I$4),-1) -> 180 | G55: =ROUND((G50*Rates!$I$4),-1) -> 180 | H55: =ROUND((H50*Rates!$I$4),-1) -> 180 | I55: =ROUND((I50*Rates!$I$4),-1) -> 180 | J55: =ROUND((J50*Rates!$I$4),-1) -> 180 | K55: =ROUND((K50*Rates!$I$4),-1) -> 190 | L55: =ROUND((L50*Rates!$I$4),-1) -> 190 | M55: =ROUND((M50*Rates!$I$4),-1) -> 190 | ... AE55: =ROUND((AE50*Rates!$I$4),-1) -> 280
A56: Mixed (AD and VD) | B56: =S56/I56-1 -> 0.18181818 | C56: =AE56/F56-1 -> 0.54545455 | D56: =S56-I56 -> 20 | E56: =AE56-F56 -> 60 | F56: =ROUND((F50*Rates!$I$5),-1) -> 110 | G56: =ROUND((G50*Rates!$I$5),-1) -> 110 | H56: =ROUND((H50*Rates!$I$5),-1) -> 110 | I56: =ROUND((I50*Rates!$I$5),-1) -> 110 | J56: =ROUND((J50*Rates!$I$5),-1) -> 110 | K56: =ROUND((K50*Rates!$I$5),-1) -> 110 | L56: =ROUND((L50*Rates!$I$5),-1) -> 110 | M56: =ROUND((M50*Rates!$I$5),-1) -> 110 | ... AE56: =ROUND((AE50*Rates!$I$5),-1) -> 170
A57: Dementia with Lewy bodies | B57: =S57/I57-1 -> 0.25 | C57: =AE57/F57-1 -> 0.75 | D57: =S57-I57 -> 10 | E57: =AE57-F57 -> 30 | F57: =ROUND((F50*Rates!$I$6),-1) -> 40 | G57: =ROUND((G50*Rates!$I$6),-1) -> 40 | H57: =ROUND((H50*Rates!$I$6),-1) -> 40 | I57: =ROUND((I50*Rates!$I$6),-1) -> 40 | J57: =ROUND((J50*Rates!$I$6),-1) -> 40 | K57: =ROUND((K50*Rates!$I$6),-1) -> 40 | L57: =ROUND((L50*Rates!$I$6),-1) -> 40 | M57: =ROUND((M50*Rates!$I$6),-1) -> 50 | ... AE57: =ROUND((AE50*Rates!$I$6),-1) -> 70
A58: Frontotemporal dementia | B58: =S58/I58-1 -> 0.5 | C58: =AE58/F58-1 -> 0.5 | D58: =S58-I58 -> 10 | E58: =AE58-F58 -> 10 | F58: =ROUND((F50*Rates!$I$7),-1) -> 20 | G58: =ROUND((G50*Rates!$I$7),-1) -> 20 | H58: =ROUND((H50*Rates!$I$7),-1) -> 20 | I58: =ROUND((I50*Rates!$I$7),-1) -> 20 | J58: =ROUND((J50*Rates!$I$7),-1) -> 20 | K58: =ROUND((K50*Rates!$I$7),-1) -> 20 | L58: =ROUND((L50*Rates!$I$7),-1) -> 20 | M58: =ROUND((M50*Rates!$I$7),-1) -> 20 | ... AE58: =ROUND((AE50*Rates!$I$7),-1) -> 30
A59: Parkinsons’ dementia | B59: =S59/I59-1 -> 0.5 | C59: =AE59/F59-1 -> 0.5 | D59: =S59-I59 -> 10 | E59: =AE59-F59 -> 10 | F59: =ROUND((F50*Rates!$I$8),-1) -> 20 | G59: =ROUND((G50*Rates!$I$8),-1) -> 20 | H59: =ROUND((H50*Rates!$I$8),-1) -> 20 | I59: =ROUND((I50*Rates!$I$8),-1) -> 20 | J59: =ROUND((J50*Rates!$I$8),-1) -> 20 | K59: =ROUND((K50*Rates!$I$8),-1) -> 20 | L59: =ROUND((L50*Rates!$I$8),-1) -> 20 | M59: =ROUND((M50*Rates!$I$8),-1) -> 20 | ... AE59: =ROUND((AE50*Rates!$I$8),-1) -> 30
A60: Other | B60: =S60/I60-1 -> 0.33333333 | C60: =AE60/F60-1 -> 0.66666667 | D60: =S60-I60 -> 10 | E60: =AE60-F60 -> 20 | F60: =ROUND((F50*Rates!$I$9),-1) -> 30 | G60: =ROUND((G50*Rates!$I$9),-1) -> 30 | H60: =ROUND((H50*Rates!$I$9),-1) -> 30 | I60: =ROUND((I50*Rates!$I$9),-1) -> 30 | J60: =ROUND((J50*Rates!$I$9),-1) -> 30 | K60: =ROUND((K50*Rates!$I$9),-1) -> 30 | L60: =ROUND((L50*Rates!$I$9),-1) -> 30 | M60: =ROUND((M50*Rates!$I$9),-1) -> 30 | ... AE60: =ROUND((AE50*Rates!$I$9),-1) -> 50
A61: Horsham
A62: All dementia | B62: =S62/I62-1 -> 0.34749035 | C62: =AE62/F62-1 -> 0.85774059 | D62: =S62-I62 -> 900 | E62: =AE62-F62 -> 2050 | F62: =ROUND((SUMPRODUCT('Males 5y'!C$89:C$101,Rates!$E$2:$E$14)+SUMPRODUCT(Rates!$F$2:$F$14,'Females 5y'!C$89:C$101)),-1) -> 2390 | G62: =ROUND((SUMPRODUCT('Males 5y'!D$89:D$101,Rates!$E$2:$E$14)+SUMPRODUCT(Rates!$F$2:$F$14,'Females 5y'!D$89:D$101)),-1) -> 2450 | H62: =ROUND((SUMPRODUCT('Males 5y'!E$89:E$101,Rates!$E$2:$E$14)+SUMPRODUCT(Rates!$F$2:$F$14,'Females 5y'!E$89:E$101)),-1) -> 2520 | I62: =ROUND((SUMPRODUCT('Males 5y'!F$89:F$101,Rates!$E$2:$E$14)+SUMPRODUCT(Rates!$F$2:$F$14,'Females 5y'!F$89:F$101)),-1) -> 2590 | J62: =ROUND((SUMPRODUCT('Males 5y'!G$89:G$101,Rates!$E$2:$E$14)+SUMPRODUCT(Rates!$F$2:$F$14,'Females 5y'!G$89:G$101)),-1) -> 2670 | K62: =ROUND((SUMPRODUCT('Males 5y'!H$89:H$101,Rates!$E$2:$E$14)+SUMPRODUCT(Rates!$F$2:$F$14,'Females 5y'!H$89:H$101)),-1) -> 2760 | L62: =ROUND((SUMPRODUCT('Males 5y'!I$89:I$101,Rates!$E$2:$E$14)+SUMPRODUCT(Rates!$F$2:$F$14,'Females 5y'!I$89:I$101)),-1) -> 2850 | M62: =ROUND((SUMPRODUCT('Males 5y'!J$89:J$101,Rates!$E$2:$E$14)+SUMPRODUCT(Rates!$F$2:$F$14,'Females 5y'!J$89:J$101)),-1) -> 2940 | ... AE62: =ROUND((SUMPRODUCT('Males 5y'!AB$89:AB$101,Rates!$E$2:$E$14)+SUMPRODUCT(Rates!$F$2:$F$14,'Females 5y'!AB$89:AB$101)),-1) -> 4440
A63: Late Onset - Mild | B63: =S63/I63-1 -> 0.34042553 | C63: =AE63/F63-1 -> 0.85271318 | D63: =S63-I63 -> 480 | E63: =AE63-F63 -> 1100 | F63: =ROUND(SUMPRODUCT(Rates!$E$9:$E$14,Rates!$L$3:$L$8,'Males 5y'!C$96:C$101)+SUMPRODUCT(Rates!$F$9:$F$14,Rates!$L$3:$L$8,'Females 5y'!C$96:C$101),-1) -> 1290 | G63: =ROUND(SUMPRODUCT(Rates!$E$9:$E$14,Rates!$L$3:$L$8,'Males 5y'!D$96:D$101)+SUMPRODUCT(Rates!$F$9:$F$14,Rates!$L$3:$L$8,'Females 5y'!D$96:D$101),-1) -> 1330 | H63: =ROUND(SUMPRODUCT(Rates!$E$9:$E$14,Rates!$L$3:$L$8,'Males 5y'!E$96:E$101)+SUMPRODUCT(Rates!$F$9:$F$14,Rates!$L$3:$L$8,'Females 5y'!E$96:E$101),-1) -> 1370 | I63: =ROUND(SUMPRODUCT(Rates!$E$9:$E$14,Rates!$L$3:$L$8,'Males 5y'!F$96:F$101)+SUMPRODUCT(Rates!$F$9:$F$14,Rates!$L$3:$L$8,'Females 5y'!F$96:F$101),-1) -> 1410 | J63: =ROUND(SUMPRODUCT(Rates!$E$9:$E$14,Rates!$L$3:$L$8,'Males 5y'!G$96:G$101)+SUMPRODUCT(Rates!$F$9:$F$14,Rates!$L$3:$L$8,'Females 5y'!G$96:G$101),-1) -> 1450 | K63: =ROUND(SUMPRODUCT(Rates!$E$9:$E$14,Rates!$L$3:$L$8,'Males 5y'!H$96:H$101)+SUMPRODUCT(Rates!$F$9:$F$14,Rates!$L$3:$L$8,'Females 5y'!H$96:H$101),-1) -> 1500 | L63: =ROUND(SUMPRODUCT(Rates!$E$9:$E$14,Rates!$L$3:$L$8,'Males 5y'!I$96:I$101)+SUMPRODUCT(Rates!$F$9:$F$14,Rates!$L$3:$L$8,'Females 5y'!I$96:I$101),-1) -> 1550 | M63: =ROUND(SUMPRODUCT(Rates!$E$9:$E$14,Rates!$L$3:$L$8,'Males 5y'!J$96:J$101)+SUMPRODUCT(Rates!$F$9:$F$14,Rates!$L$3:$L$8,'Females 5y'!J$96:J$101),-1) -> 1600 | ... AE63: =ROUND(SUMPRODUCT(Rates!$E$9:$E$14,Rates!$L$3:$L$8,'Males 5y'!AB$96:AB$101)+SUMPRODUCT(Rates!$F$9:$F$14,Rates!$L$3:$L$8,'Females 5y'!AB$96:AB$101),-1) -> 2390
A64: Late Onset - Moderate | B64: =S64/I64-1 -> 0.35365854 | C64: =AE64/F64-1 -> 0.89333333 | D64: =S64-I64 -> 290 | E64: =AE64-F64 -> 670 | F64: =ROUND(SUMPRODUCT(Rates!$E$9:$E$14,Rates!$M$3:$M$8,'Males 5y'!C$96:C$101)+SUMPRODUCT(Rates!$F$9:$F$14,Rates!$M$3:$M$8,'Females 5y'!C$96:C$101),-1) -> 750 | G64: =ROUND(SUMPRODUCT(Rates!$E$9:$E$14,Rates!$M$3:$M$8,'Males 5y'!D$96:D$101)+SUMPRODUCT(Rates!$F$9:$F$14,Rates!$M$3:$M$8,'Females 5y'!D$96:D$101),-1) -> 770 | H64: =ROUND(SUMPRODUCT(Rates!$E$9:$E$14,Rates!$M$3:$M$8,'Males 5y'!E$96:E$101)+SUMPRODUCT(Rates!$F$9:$F$14,Rates!$M$3:$M$8,'Females 5y'!E$96:E$101),-1) -> 790 | I64: =ROUND(SUMPRODUCT(Rates!$E$9:$E$14,Rates!$M$3:$M$8,'Males 5y'!F$96:F$101)+SUMPRODUCT(Rates!$F$9:$F$14,Rates!$M$3:$M$8,'Females 5y'!F$96:F$101),-1) -> 820 | J64: =ROUND(SUMPRODUCT(Rates!$E$9:$E$14,Rates!$M$3:$M$8,'Males 5y'!G$96:G$101)+SUMPRODUCT(Rates!$F$9:$F$14,Rates!$M$3:$M$8,'Females 5y'!G$96:G$101),-1) -> 840 | K64: =ROUND(SUMPRODUCT(Rates!$E$9:$E$14,Rates!$M$3:$M$8,'Males 5y'!H$96:H$101)+SUMPRODUCT(Rates!$F$9:$F$14,Rates!$M$3:$M$8,'Females 5y'!H$96:H$101),-1) -> 870 | L64: =ROUND(SUMPRODUCT(Rates!$E$9:$E$14,Rates!$M$3:$M$8,'Males 5y'!I$96:I$101)+SUMPRODUCT(Rates!$F$9:$F$14,Rates!$M$3:$M$8,'Females 5y'!I$96:I$101),-1) -> 900 | M64: =ROUND(SUMPRODUCT(Rates!$E$9:$E$14,Rates!$M$3:$M$8,'Males 5y'!J$96:J$101)+SUMPRODUCT(Rates!$F$9:$F$14,Rates!$M$3:$M$8,'Females 5y'!J$96:J$101),-1) -> 930 | ... AE64: =ROUND(SUMPRODUCT(Rates!$E$9:$E$14,Rates!$M$3:$M$8,'Males 5y'!AB$96:AB$101)+SUMPRODUCT(Rates!$F$9:$F$14,Rates!$M$3:$M$8,'Females 5y'!AB$96:AB$101),-1) -> 1420
A65: Late Onset - Severe | B65: =S65/I65-1 -> 0.375 | C65: =AE65/F65-1 -> 0.93333333 | D65: =S65-I65 -> 120 | E65: =AE65-F65 -> 280 | F65: =ROUND(SUMPRODUCT(Rates!$E$9:$E$14,Rates!$N$3:$N$8,'Males 5y'!C$96:C$101)+SUMPRODUCT(Rates!$F$9:$F$14,Rates!$N$3:$N$8,'Females 5y'!C$96:C$101),-1) -> 300 | G65: =ROUND(SUMPRODUCT(Rates!$E$9:$E$14,Rates!$N$3:$N$8,'Males 5y'!D$96:D$101)+SUMPRODUCT(Rates!$F$9:$F$14,Rates!$N$3:$N$8,'Females 5y'!D$96:D$101),-1) -> 300 | H65: =ROUND(SUMPRODUCT(Rates!$E$9:$E$14,Rates!$N$3:$N$8,'Males 5y'!E$96:E$101)+SUMPRODUCT(Rates!$F$9:$F$14,Rates!$N$3:$N$8,'Females 5y'!E$96:E$101),-1) -> 310 | I65: =ROUND(SUMPRODUCT(Rates!$E$9:$E$14,Rates!$N$3:$N$8,'Males 5y'!F$96:F$101)+SUMPRODUCT(Rates!$F$9:$F$14,Rates!$N$3:$N$8,'Females 5y'!F$96:F$101),-1) -> 320 | J65: =ROUND(SUMPRODUCT(Rates!$E$9:$E$14,Rates!$N$3:$N$8,'Males 5y'!G$96:G$101)+SUMPRODUCT(Rates!$F$9:$F$14,Rates!$N$3:$N$8,'Females 5y'!G$96:G$101),-1) -> 330 | K65: =ROUND(SUMPRODUCT(Rates!$E$9:$E$14,Rates!$N$3:$N$8,'Males 5y'!H$96:H$101)+SUMPRODUCT(Rates!$F$9:$F$14,Rates!$N$3:$N$8,'Females 5y'!H$96:H$101),-1) -> 340 | L65: =ROUND(SUMPRODUCT(Rates!$E$9:$E$14,Rates!$N$3:$N$8,'Males 5y'!I$96:I$101)+SUMPRODUCT(Rates!$F$9:$F$14,Rates!$N$3:$N$8,'Females 5y'!I$96:I$101),-1) -> 350 | M65: =ROUND(SUMPRODUCT(Rates!$E$9:$E$14,Rates!$N$3:$N$8,'Males 5y'!J$96:J$101)+SUMPRODUCT(Rates!$F$9:$F$14,Rates!$N$3:$N$8,'Females 5y'!J$96:J$101),-1) -> 370 | ... AE65: =ROUND(SUMPRODUCT(Rates!$E$9:$E$14,Rates!$N$3:$N$8,'Males 5y'!AB$96:AB$101)+SUMPRODUCT(Rates!$F$9:$F$14,Rates!$N$3:$N$8,'Females 5y'!AB$96:AB$101),-1) -> 580
A66: Alzheimer’s disease | B66: =S66/I66-1 -> 0.34161491 | C66: =AE66/F66-1 -> 0.85810811 | D66: =S66-I66 -> 550 | E66: =AE66-F66 -> 1270 | F66: =ROUND((F62*Rates!$I$3),-1) -> 1480 | G66: =ROUND((G62*Rates!$I$3),-1) -> 1520 | H66: =ROUND((H62*Rates!$I$3),-1) -> 1560 | I66: =ROUND((I62*Rates!$I$3),-1) -> 1610 | J66: =ROUND((J62*Rates!$I$3),-1) -> 1660 | K66: =ROUND((K62*Rates!$I$3),-1) -> 1710 | L66: =ROUND((L62*Rates!$I$3),-1) -> 1770 | M66: =ROUND((M62*Rates!$I$3),-1) -> 1820 | ... AE66: =ROUND((AE62*Rates!$I$3),-1) -> 2750
A67: Vascular dementia | B67: =S67/I67-1 -> 0.34090909 | C67: =AE67/F67-1 -> 0.82926829 | D67: =S67-I67 -> 150 | E67: =AE67-F67 -> 340 | F67: =ROUND((F62*Rates!$I$4),-1) -> 410 | G67: =ROUND((G62*Rates!$I$4),-1) -> 420 | H67: =ROUND((H62*Rates!$I$4),-1) -> 430 | I67: =ROUND((I62*Rates!$I$4),-1) -> 440 | J67: =ROUND((J62*Rates!$I$4),-1) -> 450 | K67: =ROUND((K62*Rates!$I$4),-1) -> 470 | L67: =ROUND((L62*Rates!$I$4),-1) -> 480 | M67: =ROUND((M62*Rates!$I$4),-1) -> 500 | ... AE67: =ROUND((AE62*Rates!$I$4),-1) -> 750
A68: Mixed (AD and VD) | B68: =S68/I68-1 -> 0.34615385 | C68: =AE68/F68-1 -> 0.83333333 | D68: =S68-I68 -> 90 | E68: =AE68-F68 -> 200 | F68: =ROUND((F62*Rates!$I$5),-1) -> 240 | G68: =ROUND((G62*Rates!$I$5),-1) -> 250 | H68: =ROUND((H62*Rates!$I$5),-1) -> 250 | I68: =ROUND((I62*Rates!$I$5),-1) -> 260 | J68: =ROUND((J62*Rates!$I$5),-1) -> 270 | K68: =ROUND((K62*Rates!$I$5),-1) -> 280 | L68: =ROUND((L62*Rates!$I$5),-1) -> 290 | M68: =ROUND((M62*Rates!$I$5),-1) -> 290 | ... AE68: =ROUND((AE62*Rates!$I$5),-1) -> 440
A69: Dementia with Lewy bodies | B69: =S69/I69-1 -> 0.4 | C69: =AE69/F69-1 -> 0.8 | D69: =S69-I69 -> 40 | E69: =AE69-F69 -> 80 | F69: =ROUND((F62*Rates!$I$6),-1) -> 100 | G69: =ROUND((G62*Rates!$I$6),-1) -> 100 | H69: =ROUND((H62*Rates!$I$6),-1) -> 100 | I69: =ROUND((I62*Rates!$I$6),-1) -> 100 | J69: =ROUND((J62*Rates!$I$6),-1) -> 110 | K69: =ROUND((K62*Rates!$I$6),-1) -> 110 | L69: =ROUND((L62*Rates!$I$6),-1) -> 110 | M69: =ROUND((M62*Rates!$I$6),-1) -> 120 | ... AE69: =ROUND((AE62*Rates!$I$6),-1) -> 180
A70: Frontotemporal dementia | B70: =S70/I70-1 -> 0.4 | C70: =AE70/F70-1 -> 0.8 | D70: =S70-I70 -> 20 | E70: =AE70-F70 -> 40 | F70: =ROUND((F62*Rates!$I$7),-1) -> 50 | G70: =ROUND((G62*Rates!$I$7),-1) -> 50 | H70: =ROUND((H62*Rates!$I$7),-1) -> 50 | I70: =ROUND((I62*Rates!$I$7),-1) -> 50 | J70: =ROUND((J62*Rates!$I$7),-1) -> 50 | K70: =ROUND((K62*Rates!$I$7),-1) -> 60 | L70: =ROUND((L62*Rates!$I$7),-1) -> 60 | M70: =ROUND((M62*Rates!$I$7),-1) -> 60 | ... AE70: =ROUND((AE62*Rates!$I$7),-1) -> 90
A71: Parkinsons’ dementia | B71: =S71/I71-1 -> 0.4 | C71: =AE71/F71-1 -> 0.8 | D71: =S71-I71 -> 20 | E71: =AE71-F71 -> 40 | F71: =ROUND((F62*Rates!$I$8),-1) -> 50 | G71: =ROUND((G62*Rates!$I$8),-1) -> 50 | H71: =ROUND((H62*Rates!$I$8),-1) -> 50 | I71: =ROUND((I62*Rates!$I$8),-1) -> 50 | J71: =ROUND((J62*Rates!$I$8),-1) -> 50 | K71: =ROUND((K62*Rates!$I$8),-1) -> 60 | L71: =ROUND((L62*Rates!$I$8),-1) -> 60 | M71: =ROUND((M62*Rates!$I$8),-1) -> 60 | ... AE71: =ROUND((AE62*Rates!$I$8),-1) -> 90
A72: Other | B72: =S72/I72-1 -> 0.25 | C72: =AE72/F72-1 -> 0.85714286 | D72: =S72-I72 -> 20 | E72: =AE72-F72 -> 60 | F72: =ROUND((F62*Rates!$I$9),-1) -> 70 | G72: =ROUND((G62*Rates!$I$9),-1) -> 70 | H72: =ROUND((H62*Rates!$I$9),-1) -> 80 | I72: =ROUND((I62*Rates!$I$9),-1) -> 80 | J72: =ROUND((J62*Rates!$I$9),-1) -> 80 | K72: =ROUND((K62*Rates!$I$9),-1) -> 80 | L72: =ROUND((L62*Rates!$I$9),-1) -> 90 | M72: =ROUND((M62*Rates!$I$9),-1) -> 90 | ... AE72: =ROUND((AE62*Rates!$I$9),-1) -> 130
A73: Mid Sussex
A74: All dementia | B74: =S74/I74-1 -> 0.29338843 | C74: =AE74/F74-1 -> 0.71681416 | D74: =S74-I74 -> 710 | E74: =AE74-F74 -> 1620 | F74: =ROUND((SUMPRODUCT('Males 5y'!C$109:C$121,Rates!$E$2:$E$14)+SUMPRODUCT(Rates!$F$2:$F$14,'Females 5y'!C$109:C$121)),-1) -> 2260 | G74: =ROUND((SUMPRODUCT('Males 5y'!D$109:D$121,Rates!$E$2:$E$14)+SUMPRODUCT(Rates!$F$2:$F$14,'Females 5y'!D$109:D$121)),-1) -> 2310 | H74: =ROUND((SUMPRODUCT('Males 5y'!E$109:E$121,Rates!$E$2:$E$14)+SUMPRODUCT(Rates!$F$2:$F$14,'Females 5y'!E$109:E$121)),-1) -> 2370 | I74: =ROUND((SUMPRODUCT('Males 5y'!F$109:F$121,Rates!$E$2:$E$14)+SUMPRODUCT(Rates!$F$2:$F$14,'Females 5y'!F$109:F$121)),-1) -> 2420 | J74: =ROUND((SUMPRODUCT('Males 5y'!G$109:G$121,Rates!$E$2:$E$14)+SUMPRODUCT(Rates!$F$2:$F$14,'Females 5y'!G$109:G$121)),-1) -> 2470 | K74: =ROUND((SUMPRODUCT('Males 5y'!H$109:H$121,Rates!$E$2:$E$14)+SUMPRODUCT(Rates!$F$2:$F$14,'Females 5y'!H$109:H$121)),-1) -> 2550 | L74: =ROUND((SUMPRODUCT('Males 5y'!I$109:I$121,Rates!$E$2:$E$14)+SUMPRODUCT(Rates!$F$2:$F$14,'Females 5y'!I$109:I$121)),-1) -> 2620 | M74: =ROUND((SUMPRODUCT('Males 5y'!J$109:J$121,Rates!$E$2:$E$14)+SUMPRODUCT(Rates!$F$2:$F$14,'Females 5y'!J$109:J$121)),-1) -> 2700 | ... AE74: =ROUND((SUMPRODUCT('Males 5y'!AB$109:AB$121,Rates!$E$2:$E$14)+SUMPRODUCT(Rates!$F$2:$F$14,'Females 5y'!AB$109:AB$121)),-1) -> 3880
A75: Late Onset - Mild | B75: =S75/I75-1 -> 0.29007634 | C75: =AE75/F75-1 -> 0.70491803 | D75: =S75-I75 -> 380 | E75: =AE75-F75 -> 860 | F75: =ROUND(SUMPRODUCT(Rates!$E$9:$E$14,Rates!$L$3:$L$8,'Males 5y'!C$116:C$121)+SUMPRODUCT(Rates!$F$9:$F$14,Rates!$L$3:$L$8,'Females 5y'!C$116:C$121),-1) -> 1220 | G75: =ROUND(SUMPRODUCT(Rates!$E$9:$E$14,Rates!$L$3:$L$8,'Males 5y'!D$116:D$121)+SUMPRODUCT(Rates!$F$9:$F$14,Rates!$L$3:$L$8,'Females 5y'!D$116:D$121),-1) -> 1250 | H75: =ROUND(SUMPRODUCT(Rates!$E$9:$E$14,Rates!$L$3:$L$8,'Males 5y'!E$116:E$121)+SUMPRODUCT(Rates!$F$9:$F$14,Rates!$L$3:$L$8,'Females 5y'!E$116:E$121),-1) -> 1280 | I75: =ROUND(SUMPRODUCT(Rates!$E$9:$E$14,Rates!$L$3:$L$8,'Males 5y'!F$116:F$121)+SUMPRODUCT(Rates!$F$9:$F$14,Rates!$L$3:$L$8,'Females 5y'!F$116:F$121),-1) -> 1310 | J75: =ROUND(SUMPRODUCT(Rates!$E$9:$E$14,Rates!$L$3:$L$8,'Males 5y'!G$116:G$121)+SUMPRODUCT(Rates!$F$9:$F$14,Rates!$L$3:$L$8,'Females 5y'!G$116:G$121),-1) -> 1340 | K75: =ROUND(SUMPRODUCT(Rates!$E$9:$E$14,Rates!$L$3:$L$8,'Males 5y'!H$116:H$121)+SUMPRODUCT(Rates!$F$9:$F$14,Rates!$L$3:$L$8,'Females 5y'!H$116:H$121),-1) -> 1380 | L75: =ROUND(SUMPRODUCT(Rates!$E$9:$E$14,Rates!$L$3:$L$8,'Males 5y'!I$116:I$121)+SUMPRODUCT(Rates!$F$9:$F$14,Rates!$L$3:$L$8,'Females 5y'!I$116:I$121),-1) -> 1420 | M75: =ROUND(SUMPRODUCT(Rates!$E$9:$E$14,Rates!$L$3:$L$8,'Males 5y'!J$116:J$121)+SUMPRODUCT(Rates!$F$9:$F$14,Rates!$L$3:$L$8,'Females 5y'!J$116:J$121),-1) -> 1470 | ... AE75: =ROUND(SUMPRODUCT(Rates!$E$9:$E$14,Rates!$L$3:$L$8,'Males 5y'!AB$116:AB$121)+SUMPRODUCT(Rates!$F$9:$F$14,Rates!$L$3:$L$8,'Females 5y'!AB$116:AB$121),-1) -> 2080
A76: Late Onset - Moderate | B76: =S76/I76-1 -> 0.31578947 | C76: =AE76/F76-1 -> 0.74647887 | D76: =S76-I76 -> 240 | E76: =AE76-F76 -> 530 | F76: =ROUND(SUMPRODUCT(Rates!$E$9:$E$14,Rates!$M$3:$M$8,'Males 5y'!C$116:C$121)+SUMPRODUCT(Rates!$F$9:$F$14,Rates!$M$3:$M$8,'Females 5y'!C$116:C$121),-1) -> 710 | G76: =ROUND(SUMPRODUCT(Rates!$E$9:$E$14,Rates!$M$3:$M$8,'Males 5y'!D$116:D$121)+SUMPRODUCT(Rates!$F$9:$F$14,Rates!$M$3:$M$8,'Females 5y'!D$116:D$121),-1) -> 730 | H76: =ROUND(SUMPRODUCT(Rates!$E$9:$E$14,Rates!$M$3:$M$8,'Males 5y'!E$116:E$121)+SUMPRODUCT(Rates!$F$9:$F$14,Rates!$M$3:$M$8,'Females 5y'!E$116:E$121),-1) -> 750 | I76: =ROUND(SUMPRODUCT(Rates!$E$9:$E$14,Rates!$M$3:$M$8,'Males 5y'!F$116:F$121)+SUMPRODUCT(Rates!$F$9:$F$14,Rates!$M$3:$M$8,'Females 5y'!F$116:F$121),-1) -> 760 | J76: =ROUND(SUMPRODUCT(Rates!$E$9:$E$14,Rates!$M$3:$M$8,'Males 5y'!G$116:G$121)+SUMPRODUCT(Rates!$F$9:$F$14,Rates!$M$3:$M$8,'Females 5y'!G$116:G$121),-1) -> 780 | K76: =ROUND(SUMPRODUCT(Rates!$E$9:$E$14,Rates!$M$3:$M$8,'Males 5y'!H$116:H$121)+SUMPRODUCT(Rates!$F$9:$F$14,Rates!$M$3:$M$8,'Females 5y'!H$116:H$121),-1) -> 800 | L76: =ROUND(SUMPRODUCT(Rates!$E$9:$E$14,Rates!$M$3:$M$8,'Males 5y'!I$116:I$121)+SUMPRODUCT(Rates!$F$9:$F$14,Rates!$M$3:$M$8,'Females 5y'!I$116:I$121),-1) -> 830 | M76: =ROUND(SUMPRODUCT(Rates!$E$9:$E$14,Rates!$M$3:$M$8,'Males 5y'!J$116:J$121)+SUMPRODUCT(Rates!$F$9:$F$14,Rates!$M$3:$M$8,'Females 5y'!J$116:J$121),-1) -> 850 | ... AE76: =ROUND(SUMPRODUCT(Rates!$E$9:$E$14,Rates!$M$3:$M$8,'Males 5y'!AB$116:AB$121)+SUMPRODUCT(Rates!$F$9:$F$14,Rates!$M$3:$M$8,'Females 5y'!AB$116:AB$121),-1) -> 1240
A77: Late Onset - Severe | B77: =S77/I77-1 -> 0.33333333 | C77: =AE77/F77-1 -> 0.82142857 | D77: =S77-I77 -> 100 | E77: =AE77-F77 -> 230 | F77: =ROUND(SUMPRODUCT(Rates!$E$9:$E$14,Rates!$N$3:$N$8,'Males 5y'!C$116:C$121)+SUMPRODUCT(Rates!$F$9:$F$14,Rates!$N$3:$N$8,'Females 5y'!C$116:C$121),-1) -> 280 | G77: =ROUND(SUMPRODUCT(Rates!$E$9:$E$14,Rates!$N$3:$N$8,'Males 5y'!D$116:D$121)+SUMPRODUCT(Rates!$F$9:$F$14,Rates!$N$3:$N$8,'Females 5y'!D$116:D$121),-1) -> 290 | H77: =ROUND(SUMPRODUCT(Rates!$E$9:$E$14,Rates!$N$3:$N$8,'Males 5y'!E$116:E$121)+SUMPRODUCT(Rates!$F$9:$F$14,Rates!$N$3:$N$8,'Females 5y'!E$116:E$121),-1) -> 290 | I77: =ROUND(SUMPRODUCT(Rates!$E$9:$E$14,Rates!$N$3:$N$8,'Males 5y'!F$116:F$121)+SUMPRODUCT(Rates!$F$9:$F$14,Rates!$N$3:$N$8,'Females 5y'!F$116:F$121),-1) -> 300 | J77: =ROUND(SUMPRODUCT(Rates!$E$9:$E$14,Rates!$N$3:$N$8,'Males 5y'!G$116:G$121)+SUMPRODUCT(Rates!$F$9:$F$14,Rates!$N$3:$N$8,'Females 5y'!G$116:G$121),-1) -> 310 | K77: =ROUND(SUMPRODUCT(Rates!$E$9:$E$14,Rates!$N$3:$N$8,'Males 5y'!H$116:H$121)+SUMPRODUCT(Rates!$F$9:$F$14,Rates!$N$3:$N$8,'Females 5y'!H$116:H$121),-1) -> 320 | L77: =ROUND(SUMPRODUCT(Rates!$E$9:$E$14,Rates!$N$3:$N$8,'Males 5y'!I$116:I$121)+SUMPRODUCT(Rates!$F$9:$F$14,Rates!$N$3:$N$8,'Females 5y'!I$116:I$121),-1) -> 330 | M77: =ROUND(SUMPRODUCT(Rates!$E$9:$E$14,Rates!$N$3:$N$8,'Males 5y'!J$116:J$121)+SUMPRODUCT(Rates!$F$9:$F$14,Rates!$N$3:$N$8,'Females 5y'!J$116:J$121),-1) -> 340 | ... AE77: =ROUND(SUMPRODUCT(Rates!$E$9:$E$14,Rates!$N$3:$N$8,'Males 5y'!AB$116:AB$121)+SUMPRODUCT(Rates!$F$9:$F$14,Rates!$N$3:$N$8,'Females 5y'!AB$116:AB$121),-1) -> 510
A78: Alzheimer’s disease | B78: =S78/I78-1 -> 0.29333333 | C78: =AE78/F78-1 -> 0.72142857 | D78: =S78-I78 -> 440 | E78: =AE78-F78 -> 1010 | F78: =ROUND((F74*Rates!$I$3),-1) -> 1400 | G78: =ROUND((G74*Rates!$I$3),-1) -> 1430 | H78: =ROUND((H74*Rates!$I$3),-1) -> 1470 | I78: =ROUND((I74*Rates!$I$3),-1) -> 1500 | J78: =ROUND((J74*Rates!$I$3),-1) -> 1530 | K78: =ROUND((K74*Rates!$I$3),-1) -> 1580 | L78: =ROUND((L74*Rates!$I$3),-1) -> 1620 | M78: =ROUND((M74*Rates!$I$3),-1) -> 1670 | ... AE78: =ROUND((AE74*Rates!$I$3),-1) -> 2410
A79: Vascular dementia | B79: =S79/I79-1 -> 0.29268293 | C79: =AE79/F79-1 -> 0.73684211 | D79: =S79-I79 -> 120 | E79: =AE79-F79 -> 280 | F79: =ROUND((F74*Rates!$I$4),-1) -> 380 | G79: =ROUND((G74*Rates!$I$4),-1) -> 390 | H79: =ROUND((H74*Rates!$I$4),-1) -> 400 | I79: =ROUND((I74*Rates!$I$4),-1) -> 410 | J79: =ROUND((J74*Rates!$I$4),-1) -> 420 | K79: =ROUND((K74*Rates!$I$4),-1) -> 430 | L79: =ROUND((L74*Rates!$I$4),-1) -> 450 | M79: =ROUND((M74*Rates!$I$4),-1) -> 460 | ... AE79: =ROUND((AE74*Rates!$I$4),-1) -> 660
A80: Mixed (AD and VD) | B80: =S80/I80-1 -> 0.29166667 | C80: =AE80/F80-1 -> 0.69565217 | D80: =S80-I80 -> 70 | E80: =AE80-F80 -> 160 | F80: =ROUND((F74*Rates!$I$5),-1) -> 230 | G80: =ROUND((G74*Rates!$I$5),-1) -> 230 | H80: =ROUND((H74*Rates!$I$5),-1) -> 240 | I80: =ROUND((I74*Rates!$I$5),-1) -> 240 | J80: =ROUND((J74*Rates!$I$5),-1) -> 250 | K80: =ROUND((K74*Rates!$I$5),-1) -> 260 | L80: =ROUND((L74*Rates!$I$5),-1) -> 260 | M80: =ROUND((M74*Rates!$I$5),-1) -> 270 | ... AE80: =ROUND((AE74*Rates!$I$5),-1) -> 390
A81: Dementia with Lewy bodies | B81: =S81/I81-1 -> 0.3 | C81: =AE81/F81-1 -> 0.77777778 | D81: =S81-I81 -> 30 | E81: =AE81-F81 -> 70 | F81: =ROUND((F74*Rates!$I$6),-1) -> 90 | G81: =ROUND((G74*Rates!$I$6),-1) -> 90 | H81: =ROUND((H74*Rates!$I$6),-1) -> 90 | I81: =ROUND((I74*Rates!$I$6),-1) -> 100 | J81: =ROUND((J74*Rates!$I$6),-1) -> 100 | K81: =ROUND((K74*Rates!$I$6),-1) -> 100 | L81: =ROUND((L74*Rates!$I$6),-1) -> 100 | M81: =ROUND((M74*Rates!$I$6),-1) -> 110 | ... AE81: =ROUND((AE74*Rates!$I$6),-1) -> 160
A82: Frontotemporal dementia | B82: =S82/I82-1 -> 0.2 | C82: =AE82/F82-1 -> 0.6 | D82: =S82-I82 -> 10 | E82: =AE82-F82 -> 30 | F82: =ROUND((F74*Rates!$I$7),-1) -> 50 | G82: =ROUND((G74*Rates!$I$7),-1) -> 50 | H82: =ROUND((H74*Rates!$I$7),-1) -> 50 | I82: =ROUND((I74*Rates!$I$7),-1) -> 50 | J82: =ROUND((J74*Rates!$I$7),-1) -> 50 | K82: =ROUND((K74*Rates!$I$7),-1) -> 50 | L82: =ROUND((L74*Rates!$I$7),-1) -> 50 | M82: =ROUND((M74*Rates!$I$7),-1) -> 50 | ... AE82: =ROUND((AE74*Rates!$I$7),-1) -> 80
A83: Parkinsons’ dementia | B83: =S83/I83-1 -> 0.2 | C83: =AE83/F83-1 -> 0.6 | D83: =S83-I83 -> 10 | E83: =AE83-F83 -> 30 | F83: =ROUND((F74*Rates!$I$8),-1) -> 50 | G83: =ROUND((G74*Rates!$I$8),-1) -> 50 | H83: =ROUND((H74*Rates!$I$8),-1) -> 50 | I83: =ROUND((I74*Rates!$I$8),-1) -> 50 | J83: =ROUND((J74*Rates!$I$8),-1) -> 50 | K83: =ROUND((K74*Rates!$I$8),-1) -> 50 | L83: =ROUND((L74*Rates!$I$8),-1) -> 50 | M83: =ROUND((M74*Rates!$I$8),-1) -> 50 | ... AE83: =ROUND((AE74*Rates!$I$8),-1) -> 80
A84: Other | B84: =S84/I84-1 -> 0.28571429 | C84: =AE84/F84-1 -> 0.71428571 | D84: =S84-I84 -> 20 | E84: =AE84-F84 -> 50 | F84: =ROUND((F74*Rates!$I$9),-1) -> 70 | G84: =ROUND((G74*Rates!$I$9),-1) -> 70 | H84: =ROUND((H74*Rates!$I$9),-1) -> 70 | I84: =ROUND((I74*Rates!$I$9),-1) -> 70 | J84: =ROUND((J74*Rates!$I$9),-1) -> 70 | K84: =ROUND((K74*Rates!$I$9),-1) -> 80 | L84: =ROUND((L74*Rates!$I$9),-1) -> 80 | M84: =ROUND((M74*Rates!$I$9),-1) -> 80 | ... AE84: =ROUND((AE74*Rates!$I$9),-1) -> 120
A85: Worthing
A86: All dementia | B86: =S86/I86-1 -> 0.27319588 | C86: =AE86/F86-1 -> 0.67027027 | D86: =S86-I86 -> 530 | E86: =AE86-F86 -> 1240 | F86: =ROUND((SUMPRODUCT('Males 5y'!C$129:C$141,Rates!$E$2:$E$14)+SUMPRODUCT(Rates!$F$2:$F$14,'Females 5y'!C$129:C$141)),-1) -> 1850 | G86: =ROUND((SUMPRODUCT('Males 5y'!D$129:D$141,Rates!$E$2:$E$14)+SUMPRODUCT(Rates!$F$2:$F$14,'Females 5y'!D$129:D$141)),-1) -> 1870 | H86: =ROUND((SUMPRODUCT('Males 5y'!E$129:E$141,Rates!$E$2:$E$14)+SUMPRODUCT(Rates!$F$2:$F$14,'Females 5y'!E$129:E$141)),-1) -> 1900 | I86: =ROUND((SUMPRODUCT('Males 5y'!F$129:F$141,Rates!$E$2:$E$14)+SUMPRODUCT(Rates!$F$2:$F$14,'Females 5y'!F$129:F$141)),-1) -> 1940 | J86: =ROUND((SUMPRODUCT('Males 5y'!G$129:G$141,Rates!$E$2:$E$14)+SUMPRODUCT(Rates!$F$2:$F$14,'Females 5y'!G$129:G$141)),-1) -> 1970 | K86: =ROUND((SUMPRODUCT('Males 5y'!H$129:H$141,Rates!$E$2:$E$14)+SUMPRODUCT(Rates!$F$2:$F$14,'Females 5y'!H$129:H$141)),-1) -> 2030 | L86: =ROUND((SUMPRODUCT('Males 5y'!I$129:I$141,Rates!$E$2:$E$14)+SUMPRODUCT(Rates!$F$2:$F$14,'Females 5y'!I$129:I$141)),-1) -> 2090 | M86: =ROUND((SUMPRODUCT('Males 5y'!J$129:J$141,Rates!$E$2:$E$14)+SUMPRODUCT(Rates!$F$2:$F$14,'Females 5y'!J$129:J$141)),-1) -> 2140 | ... AE86: =ROUND((SUMPRODUCT('Males 5y'!AB$129:AB$141,Rates!$E$2:$E$14)+SUMPRODUCT(Rates!$F$2:$F$14,'Females 5y'!AB$129:AB$141)),-1) -> 3090
A87: Late Onset - Mild | B87: =S87/I87-1 -> 0.27619048 | C87: =AE87/F87-1 -> 0.67 | D87: =S87-I87 -> 290 | E87: =AE87-F87 -> 670 | F87: =ROUND(SUMPRODUCT(Rates!$E$9:$E$14,Rates!$L$3:$L$8,'Males 5y'!C$136:C$141)+SUMPRODUCT(Rates!$F$9:$F$14,Rates!$L$3:$L$8,'Females 5y'!C$136:C$141),-1) -> 1000 | G87: =ROUND(SUMPRODUCT(Rates!$E$9:$E$14,Rates!$L$3:$L$8,'Males 5y'!D$136:D$141)+SUMPRODUCT(Rates!$F$9:$F$14,Rates!$L$3:$L$8,'Females 5y'!D$136:D$141),-1) -> 1010 | H87: =ROUND(SUMPRODUCT(Rates!$E$9:$E$14,Rates!$L$3:$L$8,'Males 5y'!E$136:E$141)+SUMPRODUCT(Rates!$F$9:$F$14,Rates!$L$3:$L$8,'Females 5y'!E$136:E$141),-1) -> 1030 | I87: =ROUND(SUMPRODUCT(Rates!$E$9:$E$14,Rates!$L$3:$L$8,'Males 5y'!F$136:F$141)+SUMPRODUCT(Rates!$F$9:$F$14,Rates!$L$3:$L$8,'Females 5y'!F$136:F$141),-1) -> 1050 | J87: =ROUND(SUMPRODUCT(Rates!$E$9:$E$14,Rates!$L$3:$L$8,'Males 5y'!G$136:G$141)+SUMPRODUCT(Rates!$F$9:$F$14,Rates!$L$3:$L$8,'Females 5y'!G$136:G$141),-1) -> 1070 | K87: =ROUND(SUMPRODUCT(Rates!$E$9:$E$14,Rates!$L$3:$L$8,'Males 5y'!H$136:H$141)+SUMPRODUCT(Rates!$F$9:$F$14,Rates!$L$3:$L$8,'Females 5y'!H$136:H$141),-1) -> 1100 | L87: =ROUND(SUMPRODUCT(Rates!$E$9:$E$14,Rates!$L$3:$L$8,'Males 5y'!I$136:I$141)+SUMPRODUCT(Rates!$F$9:$F$14,Rates!$L$3:$L$8,'Females 5y'!I$136:I$141),-1) -> 1130 | M87: =ROUND(SUMPRODUCT(Rates!$E$9:$E$14,Rates!$L$3:$L$8,'Males 5y'!J$136:J$141)+SUMPRODUCT(Rates!$F$9:$F$14,Rates!$L$3:$L$8,'Females 5y'!J$136:J$141),-1) -> 1160 | ... AE87: =ROUND(SUMPRODUCT(Rates!$E$9:$E$14,Rates!$L$3:$L$8,'Males 5y'!AB$136:AB$141)+SUMPRODUCT(Rates!$F$9:$F$14,Rates!$L$3:$L$8,'Females 5y'!AB$136:AB$141),-1) -> 1670
A88: Late Onset - Moderate | B88: =S88/I88-1 -> 0.29508197 | C88: =AE88/F88-1 -> 0.70689655 | D88: =S88-I88 -> 180 | E88: =AE88-F88 -> 410 | F88: =ROUND(SUMPRODUCT(Rates!$E$9:$E$14,Rates!$M$3:$M$8,'Males 5y'!C$136:C$141)+SUMPRODUCT(Rates!$F$9:$F$14,Rates!$M$3:$M$8,'Females 5y'!C$136:C$141),-1) -> 580 | G88: =ROUND(SUMPRODUCT(Rates!$E$9:$E$14,Rates!$M$3:$M$8,'Males 5y'!D$136:D$141)+SUMPRODUCT(Rates!$F$9:$F$14,Rates!$M$3:$M$8,'Females 5y'!D$136:D$141),-1) -> 590 | H88: =ROUND(SUMPRODUCT(Rates!$E$9:$E$14,Rates!$M$3:$M$8,'Males 5y'!E$136:E$141)+SUMPRODUCT(Rates!$F$9:$F$14,Rates!$M$3:$M$8,'Females 5y'!E$136:E$141),-1) -> 600 | I88: =ROUND(SUMPRODUCT(Rates!$E$9:$E$14,Rates!$M$3:$M$8,'Males 5y'!F$136:F$141)+SUMPRODUCT(Rates!$F$9:$F$14,Rates!$M$3:$M$8,'Females 5y'!F$136:F$141),-1) -> 610 | J88: =ROUND(SUMPRODUCT(Rates!$E$9:$E$14,Rates!$M$3:$M$8,'Males 5y'!G$136:G$141)+SUMPRODUCT(Rates!$F$9:$F$14,Rates!$M$3:$M$8,'Females 5y'!G$136:G$141),-1) -> 620 | K88: =ROUND(SUMPRODUCT(Rates!$E$9:$E$14,Rates!$M$3:$M$8,'Males 5y'!H$136:H$141)+SUMPRODUCT(Rates!$F$9:$F$14,Rates!$M$3:$M$8,'Females 5y'!H$136:H$141),-1) -> 640 | L88: =ROUND(SUMPRODUCT(Rates!$E$9:$E$14,Rates!$M$3:$M$8,'Males 5y'!I$136:I$141)+SUMPRODUCT(Rates!$F$9:$F$14,Rates!$M$3:$M$8,'Females 5y'!I$136:I$141),-1) -> 660 | M88: =ROUND(SUMPRODUCT(Rates!$E$9:$E$14,Rates!$M$3:$M$8,'Males 5y'!J$136:J$141)+SUMPRODUCT(Rates!$F$9:$F$14,Rates!$M$3:$M$8,'Females 5y'!J$136:J$141),-1) -> 680 | ... AE88: =ROUND(SUMPRODUCT(Rates!$E$9:$E$14,Rates!$M$3:$M$8,'Males 5y'!AB$136:AB$141)+SUMPRODUCT(Rates!$F$9:$F$14,Rates!$M$3:$M$8,'Females 5y'!AB$136:AB$141),-1) -> 990
A89: Late Onset - Severe | B89: =S89/I89-1 -> 0.33333333 | C89: =AE89/F89-1 -> 0.73913043 | D89: =S89-I89 -> 80 | E89: =AE89-F89 -> 170 | F89: =ROUND(SUMPRODUCT(Rates!$E$9:$E$14,Rates!$N$3:$N$8,'Males 5y'!C$136:C$141)+SUMPRODUCT(Rates!$F$9:$F$14,Rates!$N$3:$N$8,'Females 5y'!C$136:C$141),-1) -> 230 | G89: =ROUND(SUMPRODUCT(Rates!$E$9:$E$14,Rates!$N$3:$N$8,'Males 5y'!D$136:D$141)+SUMPRODUCT(Rates!$F$9:$F$14,Rates!$N$3:$N$8,'Females 5y'!D$136:D$141),-1) -> 240 | H89: =ROUND(SUMPRODUCT(Rates!$E$9:$E$14,Rates!$N$3:$N$8,'Males 5y'!E$136:E$141)+SUMPRODUCT(Rates!$F$9:$F$14,Rates!$N$3:$N$8,'Females 5y'!E$136:E$141),-1) -> 240 | I89: =ROUND(SUMPRODUCT(Rates!$E$9:$E$14,Rates!$N$3:$N$8,'Males 5y'!F$136:F$141)+SUMPRODUCT(Rates!$F$9:$F$14,Rates!$N$3:$N$8,'Females 5y'!F$136:F$141),-1) -> 240 | J89: =ROUND(SUMPRODUCT(Rates!$E$9:$E$14,Rates!$N$3:$N$8,'Males 5y'!G$136:G$141)+SUMPRODUCT(Rates!$F$9:$F$14,Rates!$N$3:$N$8,'Females 5y'!G$136:G$141),-1) -> 250 | K89: =ROUND(SUMPRODUCT(Rates!$E$9:$E$14,Rates!$N$3:$N$8,'Males 5y'!H$136:H$141)+SUMPRODUCT(Rates!$F$9:$F$14,Rates!$N$3:$N$8,'Females 5y'!H$136:H$141),-1) -> 250 | L89: =ROUND(SUMPRODUCT(Rates!$E$9:$E$14,Rates!$N$3:$N$8,'Males 5y'!I$136:I$141)+SUMPRODUCT(Rates!$F$9:$F$14,Rates!$N$3:$N$8,'Females 5y'!I$136:I$141),-1) -> 260 | M89: =ROUND(SUMPRODUCT(Rates!$E$9:$E$14,Rates!$N$3:$N$8,'Males 5y'!J$136:J$141)+SUMPRODUCT(Rates!$F$9:$F$14,Rates!$N$3:$N$8,'Females 5y'!J$136:J$141),-1) -> 270 | ... AE89: =ROUND(SUMPRODUCT(Rates!$E$9:$E$14,Rates!$N$3:$N$8,'Males 5y'!AB$136:AB$141)+SUMPRODUCT(Rates!$F$9:$F$14,Rates!$N$3:$N$8,'Females 5y'!AB$136:AB$141),-1) -> 400
A90: Alzheimer’s disease | B90: =S90/I90-1 -> 0.275 | C90: =AE90/F90-1 -> 0.66956522 | D90: =S90-I90 -> 330 | E90: =AE90-F90 -> 770 | F90: =ROUND((F86*Rates!$I$3),-1) -> 1150 | G90: =ROUND((G86*Rates!$I$3),-1) -> 1160 | H90: =ROUND((H86*Rates!$I$3),-1) -> 1180 | I90: =ROUND((I86*Rates!$I$3),-1) -> 1200 | J90: =ROUND((J86*Rates!$I$3),-1) -> 1220 | K90: =ROUND((K86*Rates!$I$3),-1) -> 1260 | L90: =ROUND((L86*Rates!$I$3),-1) -> 1300 | M90: =ROUND((M86*Rates!$I$3),-1) -> 1330 | ... AE90: =ROUND((AE86*Rates!$I$3),-1) -> 1920
A91: Vascular dementia | B91: =S91/I91-1 -> 0.27272727 | C91: =AE91/F91-1 -> 0.70967742 | D91: =S91-I91 -> 90 | E91: =AE91-F91 -> 220 | F91: =ROUND((F86*Rates!$I$4),-1) -> 310 | G91: =ROUND((G86*Rates!$I$4),-1) -> 320 | H91: =ROUND((H86*Rates!$I$4),-1) -> 320 | I91: =ROUND((I86*Rates!$I$4),-1) -> 330 | J91: =ROUND((J86*Rates!$I$4),-1) -> 330 | K91: =ROUND((K86*Rates!$I$4),-1) -> 350 | L91: =ROUND((L86*Rates!$I$4),-1) -> 360 | M91: =ROUND((M86*Rates!$I$4),-1) -> 360 | ... AE91: =ROUND((AE86*Rates!$I$4),-1) -> 530
A92: Mixed (AD and VD) | B92: =S92/I92-1 -> 0.31578947 | C92: =AE92/F92-1 -> 0.63157895 | D92: =S92-I92 -> 60 | E92: =AE92-F92 -> 120 | F92: =ROUND((F86*Rates!$I$5),-1) -> 190 | G92: =ROUND((G86*Rates!$I$5),-1) -> 190 | H92: =ROUND((H86*Rates!$I$5),-1) -> 190 | I92: =ROUND((I86*Rates!$I$5),-1) -> 190 | J92: =ROUND((J86*Rates!$I$5),-1) -> 200 | K92: =ROUND((K86*Rates!$I$5),-1) -> 200 | L92: =ROUND((L86*Rates!$I$5),-1) -> 210 | M92: =ROUND((M86*Rates!$I$5),-1) -> 210 | ... AE92: =ROUND((AE86*Rates!$I$5),-1) -> 310
A93: Dementia with Lewy bodies | B93: =S93/I93-1 -> 0.25 | C93: =AE93/F93-1 -> 0.71428571 | D93: =S93-I93 -> 20 | E93: =AE93-F93 -> 50 | F93: =ROUND((F86*Rates!$I$6),-1) -> 70 | G93: =ROUND((G86*Rates!$I$6),-1) -> 70 | H93: =ROUND((H86*Rates!$I$6),-1) -> 80 | I93: =ROUND((I86*Rates!$I$6),-1) -> 80 | J93: =ROUND((J86*Rates!$I$6),-1) -> 80 | K93: =ROUND((K86*Rates!$I$6),-1) -> 80 | L93: =ROUND((L86*Rates!$I$6),-1) -> 80 | M93: =ROUND((M86*Rates!$I$6),-1) -> 90 | ... AE93: =ROUND((AE86*Rates!$I$6),-1) -> 120
A94: Frontotemporal dementia | B94: =S94/I94-1 -> 0.25 | C94: =AE94/F94-1 -> 0.5 | D94: =S94-I94 -> 10 | E94: =AE94-F94 -> 20 | F94: =ROUND((F86*Rates!$I$7),-1) -> 40 | G94: =ROUND((G86*Rates!$I$7),-1) -> 40 | H94: =ROUND((H86*Rates!$I$7),-1) -> 40 | I94: =ROUND((I86*Rates!$I$7),-1) -> 40 | J94: =ROUND((J86*Rates!$I$7),-1) -> 40 | K94: =ROUND((K86*Rates!$I$7),-1) -> 40 | L94: =ROUND((L86*Rates!$I$7),-1) -> 40 | M94: =ROUND((M86*Rates!$I$7),-1) -> 40 | ... AE94: =ROUND((AE86*Rates!$I$7),-1) -> 60
A95: Parkinsons’ dementia | B95: =S95/I95-1 -> 0.25 | C95: =AE95/F95-1 -> 0.5 | D95: =S95-I95 -> 10 | E95: =AE95-F95 -> 20 | F95: =ROUND((F86*Rates!$I$8),-1) -> 40 | G95: =ROUND((G86*Rates!$I$8),-1) -> 40 | H95: =ROUND((H86*Rates!$I$8),-1) -> 40 | I95: =ROUND((I86*Rates!$I$8),-1) -> 40 | J95: =ROUND((J86*Rates!$I$8),-1) -> 40 | K95: =ROUND((K86*Rates!$I$8),-1) -> 40 | L95: =ROUND((L86*Rates!$I$8),-1) -> 40 | M95: =ROUND((M86*Rates!$I$8),-1) -> 40 | ... AE95: =ROUND((AE86*Rates!$I$8),-1) -> 60
A96: Other | B96: =S96/I96-1 -> 0.16666667 | C96: =AE96/F96-1 -> 0.5 | D96: =S96-I96 -> 10 | E96: =AE96-F96 -> 30 | F96: =ROUND((F86*Rates!$I$9),-1) -> 60 | G96: =ROUND((G86*Rates!$I$9),-1) -> 60 | H96: =ROUND((H86*Rates!$I$9),-1) -> 60 | I96: =ROUND((I86*Rates!$I$9),-1) -> 60 | J96: =ROUND((J86*Rates!$I$9),-1) -> 60 | K96: =ROUND((K86*Rates!$I$9),-1) -> 60 | L96: =ROUND((L86*Rates!$I$9),-1) -> 60 | M96: =ROUND((M86*Rates!$I$9),-1) -> 60 | ... AE96: =ROUND((AE86*Rates!$I$9),-1) -> 90

Sheet Metadata
A2: West Sussex Joint Strategic Needs Assessment CORE Dataset
A3: Data Type | B3: Projections for people with dementia every year 2022 - 2047
A4: Description | B4: ONS population projections applied to prevalence rates for different types of dementia
A5: Subject | B5: Prevalence
A6: Keyword(s) | B6: dementia, prevalence, long term conditions
A7: Collected | B7: 46304
A8: Population data | B8: ONS population projections 2022-47 accessed via Nomis on 09/10/2026
A9: Prevalence estimates for population under 65 (early-onset) | B9: Projecting Adult Needs and Service Information (PANSI), Institute of Public Care, Oxford Brookes, University Figures are taken from Dementia UK: Update (2014) prepared by King’s College London and the London School of Economics for the Alzheimer’s Society.
A10: Prevalence estimates for population aged 65+ | B10: A two-decade comparison of prevalence of dementia in individuals aged 65 years and older from three geographical areas of England: results of the Cognitive Function and Ageing Study I and II - ScienceDirect
A11: Severity | B11: The 2014 Dementia UK: Update continued to use the severity estimates by age from the 2007 Dementia UK: Update. In that report the consensus estimates were based upon findings from three population-based studies of late-onset dementia (O’Connor et al, 1989; Brayne et al, 1989; Clarke et al, 1991)
A12: Geographic Level - lowest | B12: District
A13: Time Period Covered | B13: Mid 2022 to Mid 2047
A14: Last Updated | B14: 46304
A15: File Type | B15: Excel
A16: WSCC Contacts | B16: Henry McLaughlin; henry.mclaughlin@westsussex.gov.uk
A17: Warnings or Caveats | B17: The Cognitive Functioning and Ageing Study II (CFAS II) estimates are used by the NHS and on the DHSC Fingertips Public Health Profile to calculate diagnosis rates but the prevalence rates will not exactly match these estimates because the NHS use the patients registered for General Medical Services, whereas WSCC uses ONS population estimates. The differences are very small, for example in 2023 the NHS late-onset dementia prevalence estimate for Adur was 1,053 while the WSCC estimate for Adur is 1,080. At district and borough level there is likely to be variation from the prevalence in these estimates influenced by factors such as the number of care home beds, and the number of care homes specialising in dementia.

Sheet Rates
D1: Age Group | E1: Males % with dementia | F1: Females % with dementia
C2: Early Onset | D2: 30-34 | E2: 8.9e-05 | F2: 9.5e-05 | H2: Type of Dementia | I2: Proportion of People | K2: Age | L2: Mild | M2: Moderate | N2: Severe
D3: 35-39 | E3: 6.3e-05 | F3: 9.3e-05 | H3: Alzheimer’s disease | I3: 0.62 | K3: 65-69 | L3: 0.62 | M3: 0.32 | N3: 0.06
D4: 40-44 | E4: 8.1e-05 | F4: 0.000196 | H4: Vascular dementia | I4: 0.17 | K4: 70-74 | L4: 0.63 | M4: 0.3 | N4: 0.07
D5: 45-49 | E5: 0.000318 | F5: 0.000273 | H5: Mixed (AD and VD) | I5: 0.1 | K5: 75-79 | L5: 0.57 | M5: 0.31 | N5: 0.12
D6: 50-54 | E6: 0.000627 | F6: 0.000551 | H6: Dementia with Lewy bodies | I6: 0.04 | K6: 80-84 | L6: 0.57 | M6: 0.32 | N6: 0.11
D7: 55-59 | E7: 0.001795 | F7: 0.000971 | H7: Frontotemporal dementia | I7: 0.02 | K7: 85-89 | L7: 0.54 | M7: 0.33 | N7: 0.13
D8: 60-64 | E8: 0.001989 | F8: 0.00118 | H8: Parkinsons’ dementia | I8: 0.02 | K8: 90-94 | L8: 0.49 | M8: 0.33 | N8: 0.18
C9: late onset | D9: 65-69 | E9: 0.012 | F9: 0.018 | H9: Other | I9: 0.03 | K9: 95+ | L9: 0.42 | M9: 0.35 | N9: 0.23
D10: 70-74 | E10: 0.03 | F10: 0.025 | H10: Total | I10: =SUM(I3:I9) -> 1
D11: 75-79 | E11: 0.052 | F11: 0.062 | H11: p.62 https://www.alzheimers.org.uk/sites/default/files/migrate/downloads/dementia_uk_update.pdf
D12: 80-84 | E12: 0.106 | F12: 0.095
D13: 85-89 | E13: 0.128 | F13: 0.181
D14: 90+ | E14: 0.171 | F14: 0.35

Sheet Males 5y
A1: Age Groups | B1: Males | C1: 2022 | D1: 2023 | E1: 2024 | F1: 2025 | G1: 2026 | H1: 2027 | I1: 2028 | J1: 2029 | K1: 2030 | L1: 2031 | M1: 2032 | N1: 2033 | O1: 2034 | P1: 2035 | Q1: 2036 | R1: 2037 | S1: 2038 | T1: 2039 | U1: 2040 | V1: 2041 | W1: 2042 | X1: 2043 | Y1: 2044 | Z1: 2045 | AA1: 2046 | AB1: 2047
A2: All Ages - Adur | B2: Adur | C2: 31225 | D2: 31263 | E2: 31320 | F2: 31354 | G2: 31386 | H2: 31413 | I2: 31454 | J2: 31495 | K2: 31531 | L2: 31568 | M2: 31612 | N2: 31661 | O2: 31715 | P2: 31769 | Q2: 31834 | R2: 31906 | S2: 31983 | T2: 32068 | U2: 32162 | V2: 32260 | W2: 32364 | X2: 32471 | Y2: 32581 | Z2: 32693 | AA2: 32805 | AB2: 32918
A3: 0-4 - Adur | B3: 0 | C3: 1575 | D3: 1542 | E3: 1517 | F3: 1487 | G3: 1463 | H3: 1451 | I3: 1445 | J3: 1442 | K3: 1441 | L3: 1443 | M3: 1442 | N3: 1442 | O3: 1444 | P3: 1445 | Q3: 1448 | R3: 1453 | S3: 1460 | T3: 1468 | U3: 1477 | V3: 1487 | W3: 1496 | X3: 1506 | Y3: 1514 | Z3: 1523 | AA3: 1529 | AB3: 1534
A4: 5-9 - Adur | B4: 5 | C4: 1933 | D4: 1887 | E4: 1833 | F4: 1787 | G4: 1725 | H4: 1694 | I4: 1657 | J4: 1630 | K4: 1602 | L4: 1584 | M4: 1574 | N4: 1569 | O4: 1568 | P4: 1567 | Q4: 1569 | R4: 1570 | S4: 1569 | T4: 1571 | U4: 1575 | V4: 1578 | W4: 1584 | X4: 1590 | Y4: 1598 | Z4: 1609 | AA4: 1619 | AB4: 1630
A5: 10-14 - Adur | B5: 10 | C5: 2098 | D5: 2100 | E5: 2136 | F5: 2137 | G5: 2115 | H5: 2042 | I5: 1998 | J5: 1945 | K5: 1900 | L5: 1841 | M5: 1806 | N5: 1766 | O5: 1739 | P5: 1712 | Q5: 1696 | R5: 1684 | S5: 1682 | T5: 1682 | U5: 1683 | V5: 1684 | W5: 1684 | X5: 1686 | Y5: 1688 | Z5: 1691 | AA5: 1696 | AB5: 1700
A6: 15-19 - Adur | B6: 15 | C6: 1786 | D6: 1839 | E6: 1849 | F6: 1870 | G6: 1928 | H6: 1977 | I6: 1984 | J6: 1997 | K6: 1986 | L6: 1961 | M6: 1905 | N6: 1867 | O6: 1822 | P6: 1781 | Q6: 1732 | R6: 1701 | S6: 1668 | T6: 1641 | U6: 1620 | V6: 1606 | W6: 1599 | X6: 1597 | Y6: 1598 | Z6: 1599 | AA6: 1600 | AB6: 1601
A7: 20-24 - Adur | B7: 20 | C7: 1359 | D7: 1355 | E7: 1355 | F7: 1369 | G7: 1394 | H7: 1417 | I7: 1452 | J7: 1457 | K7: 1470 | L7: 1506 | M7: 1537 | N7: 1536 | O7: 1542 | P7: 1535 | Q7: 1517 | R7: 1484 | S7: 1459 | T7: 1438 | U7: 1414 | V7: 1381 | W7: 1360 | X7: 1337 | Y7: 1317 | Z7: 1300 | AA7: 1290 | AB7: 1281
A8: 25-29 - Adur | B8: 25 | C8: 1495 | D8: 1506 | E8: 1524 | F8: 1528 | G8: 1512 | H8: 1505 | I8: 1509 | J8: 1518 | K8: 1541 | L8: 1566 | M8: 1593 | N8: 1626 | O8: 1634 | P8: 1651 | Q8: 1682 | R8: 1707 | S8: 1704 | T8: 1701 | U8: 1691 | V8: 1676 | W8: 1648 | X8: 1628 | Y8: 1610 | Z8: 1589 | AA8: 1559 | AB8: 1538
A9: 30-34 - Adur | B9: 30 | C9: 1739 | D9: 1705 | E9: 1703 | F9: 1687 | G9: 1668 | H9: 1655 | I9: 1657 | J9: 1666 | K9: 1665 | L9: 1659 | M9: 1652 | N9: 1659 | O9: 1672 | P9: 1694 | Q9: 1720 | R9: 1749 | S9: 1779 | T9: 1790 | U9: 1808 | V9: 1838 | W9: 1859 | X9: 1858 | Y9: 1854 | Z9: 1845 | AA9: 1829 | AB9: 1804
A10: 35-39 - Adur | B10: 35 | C10: 1835 | D10: 1863 | E10: 1889 | F10: 1888 | G10: 1894 | H10: 1910 | I10: 1892 | J10: 1899 | K10: 1888 | L10: 1876 | M10: 1872 | N10: 1878 | O10: 1885 | P10: 1888 | Q10: 1884 | R10: 1878 | S10: 1888 | T10: 1904 | U10: 1929 | V10: 1955 | W10: 1987 | X10: 2017 | Y10: 2030 | Z10: 2050 | AA10: 2080 | AB10: 2101
A11: 40-44 - Adur | B11: 40 | C11: 2048 | D11: 2067 | E11: 2022 | F11: 2034 | G11: 2023 | H11: 1987 | I11: 2019 | J11: 2043 | K11: 2055 | L11: 2073 | M11: 2091 | N11: 2084 | O11: 2098 | P11: 2089 | Q11: 2082 | R11: 2085 | S11: 2093 | T11: 2102 | U11: 2109 | V11: 2107 | W11: 2102 | X11: 2113 | Y11: 2130 | Z11: 2156 | AA11: 2183 | AB11: 2217
A12: 45-49 - Adur | B12: 45 | C12: 2037 | D12: 2015 | E12: 2007 | F12: 2033 | G12: 2076 | H12: 2119 | I12: 2139 | J12: 2107 | K12: 2117 | L12: 2110 | M12: 2090 | N12: 2123 | O12: 2149 | P12: 2169 | Q12: 2193 | R12: 2214 | S12: 2209 | T12: 2224 | U12: 2220 | V12: 2217 | W12: 2223 | X12: 2232 | Y12: 2244 | Z12: 2252 | AA12: 2250 | AB12: 2245
A13: 50-54 - Adur | B13: 50 | C13: 2349 | D13: 2320 | E13: 2284 | F13: 2229 | G13: 2115 | H13: 2029 | I13: 2003 | J13: 1996 | K13: 2020 | L13: 2062 | M13: 2104 | N13: 2122 | O13: 2100 | P13: 2110 | Q13: 2106 | R13: 2098 | S13: 2130 | T13: 2157 | U13: 2179 | V13: 2205 | W13: 2229 | X13: 2229 | Y13: 2244 | Z13: 2242 | AA13: 2242 | AB13: 2247
A14: 55-59 - Adur | B14: 55 | C14: 2279 | D14: 2273 | E14: 2287 | F14: 2203 | G14: 2241 | H14: 2284 | I14: 2256 | J14: 2219 | K14: 2166 | L14: 2067 | M14: 1989 | N14: 1961 | O14: 1956 | P14: 1981 | Q14: 2021 | R14: 2059 | S14: 2079 | T14: 2064 | U14: 2072 | V14: 2071 | W14: 2069 | X14: 2103 | Y14: 2130 | Z14: 2154 | AA14: 2184 | AB14: 2206
... A21: 90+ - Adur | B21: 90 | C21: 257 | D21: 251 | E21: 249 | F21: 260 | G21: 268 | H21: 278 | I21: 285 | J21: 294 | K21: 301 | L21: 306 | M21: 313 | N21: 338 | O21: 358 | P21: 378 | Q21: 396 | R21: 433 | S21: 463 | T21: 472 | U21: 470 | V21: 470 | W21: 463 | X21: 467 | Y21: 469 | Z21: 474 | AA21: 482 | AB21: 492
A22: All Ages - Arun | B22: Arun | C22: 79980 | D22: 80824 | E22: 81599 | F22: 82195 | G22: 82717 | H22: 83223 | I22: 83747 | J22: 84298 | K22: 84852 | L22: 85388 | M22: 85914 | N22: 86434 | O22: 86942 | P22: 87434 | Q22: 87912 | R22: 88382 | S22: 88844 | T22: 89302 | U22: 89762 | V22: 90220 | W22: 90674 | X22: 91129 | Y22: 91579 | Z22: 92022 | AA22: 92460 | AB22: 92892
A23: 0-4 - Arun | B23: 0 | C23: 3632 | D23: 3573 | E23: 3536 | F23: 3485 | G23: 3493 | H23: 3445 | I23: 3430 | J23: 3419 | K23: 3407 | L23: 3396 | M23: 3389 | N23: 3383 | O23: 3381 | P23: 3380 | Q23: 3384 | R23: 3391 | S23: 3401 | T23: 3415 | U23: 3429 | V23: 3443 | W23: 3460 | X23: 3474 | Y23: 3483 | Z23: 3491 | AA23: 3493 | AB23: 3494
A24: 5-9 - Arun | B24: 5 | C24: 4155 | D24: 4134 | E24: 4165 | F24: 4105 | G24: 4020 | H24: 3964 | I24: 3884 | J24: 3826 | K24: 3774 | L24: 3779 | M24: 3736 | N24: 3728 | O24: 3717 | P24: 3708 | Q24: 3700 | R24: 3693 | S24: 3689 | T24: 3689 | U24: 3691 | V24: 3696 | W24: 3705 | X24: 3717 | Y24: 3733 | Z24: 3752 | AA24: 3769 | AB24: 3787
A25: 10-14 - Arun | B25: 10 | C25: 4448 | D25: 4466 | E25: 4385 | F25: 4392 | G25: 4345 | H25: 4301 | I25: 4259 | J25: 4273 | K25: 4211 | L25: 4127 | M25: 4070 | N25: 3990 | O25: 3930 | P25: 3878 | Q25: 3878 | R25: 3838 | S25: 3828 | T25: 3822 | U25: 3813 | V25: 3806 | W25: 3802 | X25: 3800 | Y25: 3799 | Z25: 3804 | AA25: 3811 | AB25: 3820
A26: 15-19 - Arun | B26: 15 | C26: 4070 | D26: 4150 | E26: 4241 | F26: 4273 | G26: 4353 | H26: 4417 | I26: 4421 | J26: 4342 | K26: 4339 | L26: 4290 | M26: 4248 | N26: 4216 | O26: 4212 | P26: 4158 | Q26: 4069 | R26: 4012 | S26: 3937 | T26: 3879 | U26: 3835 | V26: 3826 | W26: 3791 | X26: 3785 | Y26: 3781 | Z26: 3772 | AA26: 3767 | AB26: 3765
A27: 20-24 - Arun | B27: 20 | C27: 3570 | D27: 3633 | E27: 3659 | F27: 3724 | G27: 3720 | H27: 3769 | I27: 3821 | J27: 3873 | K27: 3911 | L27: 3979 | M27: 4035 | N27: 4041 | O27: 3994 | P27: 3988 | Q27: 3945 | R27: 3904 | S27: 3868 | T27: 3856 | U27: 3808 | V27: 3734 | W27: 3689 | X27: 3628 | Y27: 3576 | Z27: 3536 | AA27: 3519 | AB27: 3487
A28: 25-29 - Arun | B28: 25 | C28: 4062 | D28: 4103 | E28: 4096 | F28: 4019 | G28: 3961 | H28: 3889 | I28: 3895 | J28: 3912 | K28: 3983 | L28: 4016 | M28: 4087 | N28: 4154 | O28: 4200 | P28: 4243 | Q28: 4314 | R28: 4367 | S28: 4369 | T28: 4334 | U28: 4316 | V28: 4278 | W28: 4230 | X28: 4188 | Y28: 4167 | Z28: 4119 | AA28: 4047 | AB28: 4002
A29: 30-34 - Arun | B29: 30 | C29: 4516 | D29: 4558 | E29: 4552 | F29: 4505 | G29: 4436 | H29: 4412 | I29: 4400 | J29: 4377 | K29: 4328 | L29: 4298 | M29: 4254 | N29: 4271 | O29: 4296 | P29: 4362 | Q29: 4406 | R29: 4479 | S29: 4546 | T29: 4591 | U29: 4637 | V29: 4709 | W29: 4764 | X29: 4765 | Y29: 4737 | Z29: 4715 | AA29: 4677 | AB29: 4625
A30: 35-39 - Arun | B30: 35 | C30: 4581 | D30: 4654 | E30: 4788 | F30: 4868 | G30: 4954 | H30: 4942 | I30: 4941 | J30: 4929 | K30: 4891 | L30: 4846 | M30: 4841 | N30: 4841 | O30: 4833 | P30: 4799 | Q30: 4776 | R30: 4741 | S30: 4761 | T30: 4792 | U30: 4861 | V30: 4913 | W30: 4991 | X30: 5064 | Y30: 5108 | Z30: 5159 | AA30: 5237 | AB30: 5292
A31: 40-44 - Arun | B31: 40 | C31: 4428 | D31: 4571 | E31: 4600 | F31: 4716 | G31: 4766 | H31: 4891 | I31: 4952 | J31: 5063 | K31: 5144 | L31: 5234 | M31: 5245 | N31: 5253 | O31: 5255 | P31: 5228 | Q31: 5192 | R31: 5194 | S31: 5202 | T31: 5202 | U31: 5178 | V31: 5162 | W31: 5132 | X31: 5154 | Y31: 5191 | Z31: 5261 | AA31: 5318 | AB31: 5398
A32: 45-49 - Arun | B32: 45 | C32: 4223 | D32: 4150 | E32: 4252 | F32: 4347 | G32: 4498 | H32: 4647 | I32: 4766 | J32: 4789 | K32: 4892 | L32: 4943 | M32: 5058 | N32: 5135 | O32: 5241 | P32: 5323 | Q32: 5415 | R32: 5438 | S32: 5447 | T32: 5459 | U32: 5438 | V32: 5413 | W32: 5420 | X32: 5434 | Y32: 5441 | Z32: 5428 | AA32: 5416 | AB32: 5390
A33: 50-54 - Arun | B33: 50 | C33: 5448 | D33: 5353 | E33: 5157 | F33: 4968 | G33: 4766 | H33: 4585 | I33: 4506 | J33: 4585 | K33: 4683 | L33: 4831 | M33: 4979 | N33: 5097 | O33: 5123 | P33: 5215 | Q33: 5264 | R33: 5372 | S33: 5457 | T33: 5566 | U33: 5651 | V33: 5745 | W33: 5779 | X33: 5793 | Y33: 5811 | Z33: 5797 | AA33: 5777 | AB33: 5793
A34: 55-59 - Arun | B34: 55 | C34: 5892 | D34: 5950 | E34: 5943 | F34: 5902 | G34: 5888 | H34: 5799 | I34: 5700 | J34: 5518 | K34: 5346 | L34: 5157 | M34: 4984 | N34: 4912 | O34: 4987 | P34: 5088 | Q34: 5232 | R34: 5380 | S34: 5498 | T34: 5525 | U34: 5608 | V34: 5656 | W34: 5755 | X34: 5850 | Y34: 5962 | Z34: 6052 | AA34: 6150 | AB34: 6195
... A41: 90+ - Arun | B41: 90 | C41: 935 | D41: 921 | E41: 932 | F41: 962 | G41: 994 | H41: 1039 | I41: 1089 | J41: 1131 | K41: 1163 | L41: 1171 | M41: 1220 | N41: 1301 | O41: 1388 | P41: 1477 | Q41: 1560 | R41: 1738 | S41: 1863 | T41: 1929 | U41: 1956 | V41: 1956 | W41: 1956 | X41: 1960 | Y41: 1980 | Z41: 2000 | AA41: 2035 | AB41: 2091
A42: All Ages - Chichester | B42: Chichester | C42: 60412 | D42: 61104 | E42: 61735 | F42: 62153 | G42: 62510 | H42: 62872 | I42: 63251 | J42: 63652 | K42: 64057 | L42: 64449 | M42: 64826 | N42: 65194 | O42: 65548 | P42: 65903 | Q42: 66253 | R42: 66598 | S42: 66935 | T42: 67270 | U42: 67607 | V42: 67941 | W42: 68269 | X42: 68599 | Y42: 68930 | Z42: 69264 | AA42: 69600 | AB42: 69934
A43: 0-4 - Chichester | B43: 0 | C43: 2708 | D43: 2727 | E43: 2689 | F43: 2676 | G43: 2666 | H43: 2649 | I43: 2647 | J43: 2647 | K43: 2644 | L43: 2643 | M43: 2640 | N43: 2641 | O43: 2639 | P43: 2641 | Q43: 2645 | R43: 2649 | S43: 2658 | T43: 2670 | U43: 2684 | V43: 2699 | W43: 2715 | X43: 2732 | Y43: 2745 | Z43: 2760 | AA43: 2769 | AB43: 2777
A44: 5-9 - Chichester | B44: 5 | C44: 3158 | D44: 3060 | E44: 3106 | F44: 3039 | G44: 3002 | H44: 2974 | I44: 2955 | J44: 2901 | K44: 2882 | L44: 2875 | M44: 2858 | N44: 2861 | O44: 2863 | P44: 2860 | Q44: 2859 | R44: 2859 | S44: 2859 | T44: 2860 | U44: 2863 | V44: 2869 | W44: 2878 | X44: 2889 | Y44: 2902 | Z44: 2917 | AA44: 2934 | AB44: 2952
A45: 10-14 - Chichester | B45: 10 | C45: 3455 | D45: 3487 | E45: 3409 | F45: 3422 | G45: 3347 | H45: 3270 | I45: 3169 | J45: 3186 | K45: 3126 | L45: 3087 | M45: 3060 | N45: 3031 | O45: 2980 | P45: 2959 | Q45: 2948 | R45: 2931 | S45: 2934 | T45: 2935 | U45: 2934 | V45: 2933 | W45: 2934 | X45: 2934 | Y45: 2936 | Z45: 2941 | AA45: 2947 | AB45: 2955
A46: 15-19 - Chichester | B46: 15 | C46: 3344 | D46: 3401 | E46: 3459 | F46: 3482 | G46: 3509 | H46: 3539 | I46: 3551 | J46: 3491 | K46: 3494 | L46: 3435 | M46: 3363 | N46: 3285 | O46: 3290 | P46: 3244 | Q46: 3196 | R46: 3166 | S46: 3127 | T46: 3079 | U46: 3053 | V46: 3040 | W46: 3016 | X46: 3017 | Y46: 3019 | Z46: 3018 | AA46: 3017 | AB46: 3017
A47: 20-24 - Chichester | B47: 20 | C47: 3144 | D47: 3231 | E47: 3290 | F47: 3332 | G47: 3402 | H47: 3473 | I47: 3522 | J47: 3559 | K47: 3588 | L47: 3638 | M47: 3680 | N47: 3690 | O47: 3648 | P47: 3633 | Q47: 3597 | R47: 3548 | S47: 3500 | T47: 3486 | U47: 3448 | V47: 3393 | W47: 3357 | X47: 3307 | Y47: 3261 | Z47: 3231 | AA47: 3215 | AB47: 3193
A48: 25-29 - Chichester | B48: 25 | C48: 3161 | D48: 3134 | E48: 3111 | F48: 3041 | G48: 2965 | H48: 2913 | I48: 2925 | J48: 2942 | K48: 2984 | L48: 3033 | M48: 3093 | N48: 3140 | O48: 3168 | P48: 3199 | Q48: 3244 | R48: 3279 | S48: 3281 | T48: 3261 | U48: 3249 | V48: 3224 | W48: 3186 | X48: 3152 | Y48: 3134 | Z48: 3102 | AA48: 3056 | AB48: 3026
A49: 30-34 - Chichester | B49: 30 | C49: 3295 | D49: 3280 | E49: 3344 | F49: 3363 | G49: 3364 | H49: 3327 | I49: 3293 | J49: 3269 | K49: 3236 | L49: 3201 | M49: 3173 | N49: 3189 | O49: 3207 | P49: 3251 | Q49: 3294 | R49: 3347 | S49: 3395 | T49: 3424 | U49: 3457 | V49: 3503 | W49: 3539 | X49: 3540 | Y49: 3524 | Z49: 3509 | AA49: 3484 | AB49: 3448
A50: 35-39 - Chichester | B50: 35 | C50: 3300 | D50: 3425 | E50: 3522 | F50: 3525 | G50: 3541 | H50: 3624 | I50: 3590 | J50: 3618 | K50: 3633 | L50: 3637 | M50: 3627 | N50: 3622 | O50: 3614 | P50: 3595 | Q50: 3574 | R50: 3554 | S50: 3569 | T50: 3590 | U50: 3635 | V50: 3680 | W50: 3736 | X50: 3785 | Y50: 3816 | Z50: 3851 | AA50: 3902 | AB50: 3939
A51: 40-44 - Chichester | B51: 40 | C51: 3152 | D51: 3277 | E51: 3324 | F51: 3413 | G51: 3490 | H51: 3533 | I51: 3616 | J51: 3690 | K51: 3712 | L51: 3747 | M51: 3823 | N51: 3804 | O51: 3834 | P51: 3847 | Q51: 3852 | R51: 3854 | S51: 3857 | T51: 3860 | U51: 3851 | V51: 3836 | W51: 3817 | X51: 3836 | Y51: 3861 | Z51: 3908 | AA51: 3955 | AB51: 4014
A52: 45-49 - Chichester | B52: 45 | C52: 3318 | D52: 3291 | E52: 3284 | F52: 3376 | G52: 3410 | H52: 3458 | I52: 3553 | J52: 3585 | K52: 3658 | L52: 3726 | M52: 3775 | N52: 3856 | O52: 3934 | P52: 3965 | Q52: 4010 | R52: 4079 | S52: 4070 | T52: 4100 | U52: 4113 | V52: 4118 | W52: 4127 | X52: 4139 | Y52: 4148 | Z52: 4146 | AA52: 4136 | AB52: 4121
A53: 50-54 - Chichester | B53: 50 | C53: 4007 | D53: 3995 | E53: 3916 | F53: 3796 | G53: 3726 | H53: 3603 | I53: 3557 | J53: 3549 | K53: 3637 | L53: 3689 | M53: 3749 | N53: 3840 | O53: 3871 | P53: 3934 | Q53: 3993 | R53: 4048 | S53: 4125 | T53: 4207 | U53: 4248 | V53: 4298 | W53: 4364 | X53: 4363 | Y53: 4394 | Z53: 4407 | AA53: 4415 | AB53: 4429
A54: 55-59 - Chichester | B54: 55 | C54: 4496 | D54: 4400 | E54: 4407 | F54: 4376 | G54: 4333 | H54: 4319 | I54: 4292 | J54: 4207 | K54: 4095 | L54: 4015 | M54: 3894 | N54: 3848 | O54: 3850 | P54: 3934 | Q54: 3996 | R54: 4063 | S54: 4153 | T54: 4181 | U54: 4236 | V54: 4291 | W54: 4346 | X54: 4425 | Y54: 4508 | Z54: 4557 | AA54: 4615 | AB54: 4680
... A61: 90+ - Chichester | B61: 90 | C61: 654 | D61: 647 | E61: 684 | F61: 703 | G61: 726 | H61: 751 | I61: 783 | J61: 810 | K61: 842 | L61: 856 | M61: 892 | N61: 947 | O61: 1019 | P61: 1071 | Q61: 1128 | R61: 1255 | S61: 1328 | T61: 1379 | U61: 1389 | V61: 1397 | W61: 1398 | X61: 1418 | Y61: 1441 | Z61: 1461 | AA61: 1491 | AB61: 1528
A62: All Ages - Crawley | B62: Crawley | C62: 59688 | D62: 60518 | E62: 61186 | F62: 61500 | G62: 61729 | H62: 61936 | I62: 62172 | J62: 62438 | K62: 62721 | L62: 63003 | M62: 63285 | N62: 63567 | O62: 63847 | P62: 64128 | Q62: 64411 | R62: 64694 | S62: 64970 | T62: 65240 | U62: 65510 | V62: 65779 | W62: 66051 | X62: 66319 | Y62: 66578 | Z62: 66829 | AA62: 67071 | AB62: 67305
A63: 0-4 - Crawley | B63: 0 | C63: 4042 | D63: 4008 | E63: 3918 | F63: 3800 | G63: 3689 | H63: 3615 | I63: 3594 | J63: 3575 | K63: 3553 | L63: 3535 | M63: 3525 | N63: 3519 | O63: 3518 | P63: 3519 | Q63: 3524 | R63: 3534 | S63: 3547 | T63: 3563 | U63: 3579 | V63: 3598 | W63: 3615 | X63: 3631 | Y63: 3644 | Z63: 3651 | AA63: 3655 | AB63: 3656
A64: 5-9 - Crawley | B64: 5 | C64: 4255 | D64: 4206 | E64: 4175 | F64: 4144 | G64: 4110 | H64: 4070 | I64: 3999 | J64: 3893 | K64: 3791 | L64: 3703 | M64: 3646 | N64: 3632 | O64: 3618 | P64: 3603 | Q64: 3589 | R64: 3583 | S64: 3580 | T64: 3580 | U64: 3585 | V64: 3592 | W64: 3603 | X64: 3619 | Y64: 3635 | Z64: 3653 | AA64: 3672 | AB64: 3691
A65: 10-14 - Crawley | B65: 10 | C65: 4216 | D65: 4267 | E65: 4335 | F65: 4294 | G65: 4256 | H65: 4172 | I65: 4097 | J65: 4047 | K65: 4013 | L65: 3979 | M65: 3946 | N65: 3882 | O65: 3787 | P65: 3699 | Q65: 3621 | R65: 3569 | S65: 3558 | T65: 3548 | U65: 3534 | V65: 3525 | W65: 3519 | X65: 3519 | Y65: 3520 | Z65: 3525 | AA65: 3533 | AB65: 3545
A66: 15-19 - Crawley | B66: 15 | C66: 3516 | D66: 3660 | E66: 3736 | F66: 3856 | G66: 3957 | H66: 4046 | I66: 4065 | J66: 4090 | K66: 4055 | L66: 4019 | M66: 3949 | N66: 3879 | O66: 3836 | P66: 3805 | Q66: 3778 | R66: 3747 | S66: 3677 | T66: 3591 | U66: 3513 | V66: 3450 | W66: 3412 | X66: 3403 | Y66: 3396 | Z66: 3386 | AA66: 3379 | AB66: 3375
A67: 20-24 - Crawley | B67: 20 | C67: 3291 | D67: 3399 | E67: 3510 | F67: 3530 | G67: 3505 | H67: 3514 | I67: 3576 | J67: 3605 | K67: 3685 | L67: 3764 | M67: 3832 | N67: 3843 | O67: 3861 | P67: 3836 | Q67: 3804 | R67: 3746 | S67: 3694 | T67: 3668 | U67: 3641 | V67: 3599 | W67: 3566 | X67: 3512 | Y67: 3447 | Z67: 3392 | AA67: 3350 | AB67: 3313
A68: 25-29 - Crawley | B68: 25 | C68: 4029 | D68: 4130 | E68: 4161 | F68: 4240 | G68: 4297 | H68: 4279 | I68: 4291 | J68: 4340 | K68: 4386 | L68: 4407 | M68: 4456 | N68: 4533 | O68: 4572 | P68: 4644 | Q68: 4725 | R68: 4790 | S68: 4795 | T68: 4797 | U68: 4767 | V68: 4732 | W68: 4670 | X68: 4618 | Y68: 4585 | Z68: 4547 | AA68: 4489 | AB68: 4448
A69: 30-34 - Crawley | B69: 30 | C69: 4886 | D69: 4882 | E69: 4911 | F69: 4817 | G69: 4748 | H69: 4697 | I69: 4716 | J69: 4717 | K69: 4782 | L69: 4838 | M69: 4840 | N69: 4867 | O69: 4916 | P69: 4967 | Q69: 5001 | R69: 5057 | S69: 5133 | T69: 5174 | U69: 5242 | V69: 5319 | W69: 5382 | X69: 5384 | Y69: 5376 | Z69: 5344 | AA69: 5309 | AB69: 5248
A70: 35-39 - Crawley | B70: 35 | C70: 4799 | D70: 4899 | E70: 4942 | F70: 5031 | G70: 5062 | H70: 5139 | I70: 5081 | J70: 5076 | K70: 5016 | L70: 4983 | M70: 4974 | N70: 5013 | O70: 5033 | P70: 5088 | Q70: 5134 | R70: 5135 | S70: 5167 | T70: 5213 | U70: 5269 | V70: 5309 | W70: 5371 | X70: 5445 | Y70: 5486 | Z70: 5548 | AA70: 5623 | AB70: 5681
A71: 40-44 - Crawley | B71: 40 | C71: 4705 | D71: 4820 | E71: 4868 | F71: 4823 | G71: 4798 | H71: 4798 | I71: 4851 | J71: 4871 | K71: 4953 | L71: 5000 | M71: 5078 | N71: 5047 | O71: 5055 | P71: 5017 | Q71: 4999 | R71: 5004 | S71: 5045 | T71: 5072 | U71: 5122 | V71: 5160 | W71: 5162 | X71: 5194 | Y71: 5240 | Z71: 5295 | AA71: 5340 | AB71: 5401
A72: 45-49 - Crawley | B72: 45 | C72: 4053 | D72: 4119 | E72: 4215 | F72: 4330 | G72: 4477 | H72: 4573 | I72: 4645 | J72: 4665 | K72: 4636 | L72: 4626 | M72: 4638 | N72: 4697 | O72: 4726 | P72: 4804 | Q72: 4854 | R72: 4924 | S72: 4904 | T72: 4919 | U72: 4892 | V72: 4883 | W72: 4895 | X72: 4940 | Y72: 4968 | Z72: 5014 | AA72: 5048 | AB72: 5049
A73: 50-54 - Crawley | B73: 50 | C73: 3923 | D73: 3918 | E73: 3978 | F73: 3933 | G73: 3909 | H73: 3890 | I73: 3926 | J73: 3997 | K73: 4099 | L73: 4229 | M73: 4325 | N73: 4390 | O73: 4410 | P73: 4389 | Q73: 4385 | R73: 4401 | S73: 4460 | T73: 4494 | U73: 4567 | V73: 4617 | W73: 4683 | X73: 4669 | Y73: 4687 | Z73: 4670 | AA73: 4666 | AB73: 4683
A74: 55-59 - Crawley | B74: 55 | C74: 3674 | D74: 3735 | E74: 3706 | F74: 3736 | G74: 3720 | H74: 3713 | I74: 3692 | J74: 3730 | K74: 3691 | L74: 3665 | M74: 3645 | N74: 3676 | O74: 3738 | P74: 3831 | Q74: 3947 | R74: 4035 | S74: 4093 | T74: 4111 | U74: 4098 | V74: 4097 | W74: 4116 | X74: 4173 | Y74: 4209 | Z74: 4276 | AA74: 4325 | AB74: 4386
... A81: 90+ - Crawley | B81: 90 | C81: 280 | D81: 279 | E81: 283 | F81: 280 | G81: 275 | H81: 273 | I81: 274 | J81: 277 | K81: 276 | L81: 278 | M81: 278 | N81: 285 | O81: 300 | P81: 317 | Q81: 330 | R81: 368 | S81: 393 | T81: 406 | U81: 415 | V81: 420 | W81: 423 | X81: 429 | Y81: 435 | Z81: 448 | AA81: 464 | AB81: 475
A82: All Ages - Horsham | B82: Horsham | C82: 72655 | D82: 73625 | E82: 74569 | F82: 75370 | G82: 76121 | H82: 76849 | I82: 77543 | J82: 78231 | K82: 78940 | L82: 79636 | M82: 80315 | N82: 80989 | O82: 81647 | P82: 82268 | Q82: 82869 | R82: 83473 | S82: 84068 | T82: 84659 | U82: 85229 | V82: 85794 | W82: 86370 | X82: 86939 | Y82: 87493 | Z82: 88035 | AA82: 88562 | AB82: 89081
A83: 0-4 - Horsham | B83: 0 | C83: 3780 | D83: 3761 | E83: 3740 | F83: 3758 | G83: 3712 | H83: 3689 | I83: 3718 | J83: 3748 | K83: 3769 | L83: 3785 | M83: 3797 | N83: 3810 | O83: 3822 | P83: 3835 | Q83: 3849 | R83: 3867 | S83: 3888 | T83: 3913 | U83: 3941 | V83: 3970 | W83: 4001 | X83: 4032 | Y83: 4060 | Z83: 4084 | AA83: 4104 | AB83: 4120
A84: 5-9 - Horsham | B84: 5 | C84: 4281 | D84: 4300 | E84: 4335 | F84: 4314 | G84: 4309 | H84: 4268 | I84: 4217 | J84: 4171 | K84: 4177 | L84: 4134 | M84: 4112 | N84: 4139 | O84: 4168 | P84: 4187 | Q84: 4201 | R84: 4212 | S84: 4225 | T84: 4238 | U84: 4252 | V84: 4269 | W84: 4288 | X84: 4312 | Y84: 4339 | Z84: 4369 | AA84: 4403 | AB84: 4436
A85: 10-14 - Horsham | B85: 10 | C85: 4711 | D85: 4786 | E85: 4754 | F85: 4660 | G85: 4706 | H85: 4749 | I85: 4738 | J85: 4750 | K85: 4715 | L85: 4696 | M85: 4654 | N85: 4595 | O85: 4543 | P85: 4531 | Q85: 4489 | R85: 4465 | S85: 4490 | T85: 4515 | U85: 4530 | V85: 4544 | W85: 4555 | X85: 4568 | Y85: 4580 | Z85: 4596 | AA85: 4612 | AB85: 4633
A86: 15-19 - Horsham | B86: 15 | C86: 4193 | D86: 4137 | E86: 4229 | F86: 4357 | G86: 4366 | H86: 4384 | I86: 4396 | J86: 4334 | K86: 4287 | L86: 4310 | M86: 4332 | N86: 4321 | O86: 4320 | P86: 4265 | Q86: 4233 | R86: 4206 | S86: 4144 | T86: 4101 | U86: 4072 | V86: 4039 | W86: 4033 | X86: 4054 | Y86: 4069 | Z86: 4080 | AA86: 4090 | AB86: 4100
A87: 20-24 - Horsham | B87: 20 | C87: 3066 | D87: 3085 | E87: 3011 | F87: 2992 | G87: 2993 | H87: 3030 | I87: 3024 | J87: 3058 | K87: 3119 | L87: 3152 | M87: 3177 | N87: 3192 | O87: 3184 | P87: 3160 | Q87: 3148 | R87: 3128 | S87: 3104 | T87: 3092 | U87: 3062 | V87: 3025 | W87: 2994 | X87: 2952 | Y87: 2912 | Z87: 2885 | AA87: 2864 | AB87: 2839
A88: 25-29 - Horsham | B88: 25 | C88: 3664 | D88: 3711 | E88: 3847 | F88: 3900 | G88: 3936 | H88: 3916 | I88: 3938 | J88: 3927 | K88: 3954 | L88: 3985 | M88: 4042 | N88: 4081 | O88: 4122 | P88: 4179 | Q88: 4234 | R88: 4275 | S88: 4280 | T88: 4263 | U88: 4234 | V88: 4211 | W88: 4171 | X88: 4133 | Y88: 4107 | Z88: 4067 | AA88: 4008 | AB88: 3968
A89: 30-34 - Horsham | B89: 30 | C89: 4157 | D89: 4227 | E89: 4288 | F89: 4313 | G89: 4295 | H89: 4315 | I89: 4335 | J89: 4411 | K89: 4453 | L89: 4487 | M89: 4481 | N89: 4510 | O89: 4522 | P89: 4565 | Q89: 4608 | R89: 4672 | S89: 4724 | T89: 4766 | U89: 4822 | V89: 4887 | W89: 4936 | X89: 4940 | Y89: 4923 | Z89: 4892 | AA89: 4864 | AB89: 4814
A90: 35-39 - Horsham | B90: 35 | C90: 4310 | D90: 4562 | E90: 4721 | F90: 4835 | G90: 4966 | H90: 5030 | I90: 5056 | J90: 5100 | K90: 5117 | L90: 5110 | M90: 5139 | N90: 5173 | O90: 5242 | P90: 5286 | Q90: 5319 | R90: 5318 | S90: 5349 | T90: 5377 | U90: 5431 | V90: 5484 | W90: 5558 | X90: 5624 | Y90: 5668 | Z90: 5729 | AA90: 5806 | AB90: 5862
A91: 40-44 - Horsham | B91: 40 | C91: 4583 | D91: 4683 | E91: 4735 | F91: 4827 | G91: 4866 | H91: 4995 | I91: 5195 | J91: 5331 | K91: 5443 | L91: 5569 | M91: 5641 | N91: 5663 | O91: 5712 | P91: 5728 | Q91: 5728 | R91: 5761 | S91: 5804 | T91: 5869 | U91: 5913 | V91: 5946 | W91: 5944 | X91: 5981 | Y91: 6017 | Z91: 6081 | AA91: 6142 | AB91: 6222
A92: 45-49 - Horsham | B92: 45 | C92: 4412 | D92: 4450 | E92: 4486 | F92: 4628 | G92: 4831 | H92: 5021 | I92: 5102 | J92: 5138 | K92: 5214 | L92: 5254 | M92: 5369 | N92: 5552 | O92: 5680 | P92: 5790 | Q92: 5911 | R92: 5985 | S92: 6005 | T92: 6055 | U92: 6069 | V92: 6073 | W92: 6111 | X92: 6157 | Y92: 6221 | Z92: 6264 | AA92: 6295 | AB92: 6295
A93: 50-54 - Horsham | B93: 50 | C93: 5191 | D93: 5075 | E93: 5049 | F93: 4961 | G93: 4834 | H93: 4655 | I93: 4665 | J93: 4694 | K93: 4824 | L93: 5008 | M93: 5183 | N93: 5263 | O93: 5296 | P93: 5360 | Q93: 5395 | R93: 5499 | S93: 5661 | T93: 5783 | U93: 5890 | V93: 6003 | W93: 6077 | X93: 6097 | Y93: 6147 | Z93: 6162 | AA93: 6168 | AB93: 6208
A94: 55-59 - Horsham | B94: 55 | C94: 5559 | D94: 5558 | E94: 5560 | F94: 5464 | G94: 5360 | H94: 5348 | I94: 5238 | J94: 5204 | K94: 5117 | L94: 4994 | M94: 4828 | N94: 4831 | O94: 4859 | P94: 4983 | Q94: 5150 | R94: 5312 | S94: 5390 | T94: 5420 | U94: 5475 | V94: 5508 | W94: 5602 | X94: 5753 | Y94: 5868 | Z94: 5970 | AA94: 6081 | AB94: 6155
... A101: 90+ - Horsham | B101: 90 | C101: 679 | D101: 686 | E101: 701 | F101: 733 | G101: 772 | H101: 804 | I101: 858 | J101: 878 | K101: 910 | L101: 932 | M101: 967 | N101: 1024 | O101: 1095 | P101: 1167 | Q101: 1241 | R101: 1381 | S101: 1473 | T101: 1542 | U101: 1577 | V101: 1595 | W101: 1600 | X101: 1619 | Y101: 1641 | Z101: 1659 | AA101: 1697 | AB101: 1733
A102: All Ages - Mid Sussex | B102: Mid Sussex | C102: 75292 | D102: 76168 | E102: 77012 | F102: 77689 | G102: 78288 | H102: 78871 | I102: 79458 | J102: 80043 | K102: 80632 | L102: 81213 | M102: 81790 | N102: 82366 | O102: 82922 | P102: 83468 | Q102: 84013 | R102: 84555 | S102: 85103 | T102: 85656 | U102: 86211 | V102: 86758 | W102: 87325 | X102: 87897 | Y102: 88458 | Z102: 89007 | AA102: 89547 | AB102: 90079
A103: 0-4 - Mid Sussex | B103: 0 | C103: 4270 | D103: 4203 | E103: 4170 | F103: 4143 | G103: 4125 | H103: 4065 | I103: 4094 | J103: 4123 | K103: 4144 | L103: 4162 | M103: 4174 | N103: 4190 | O103: 4206 | P103: 4221 | Q103: 4239 | R103: 4260 | S103: 4285 | T103: 4315 | U103: 4346 | V103: 4383 | W103: 4420 | X103: 4456 | Y103: 4491 | Z103: 4523 | AA103: 4551 | AB103: 4573
A104: 5-9 - Mid Sussex | B104: 5 | C104: 4838 | D104: 4853 | E104: 4831 | F104: 4756 | G104: 4680 | H104: 4681 | I104: 4586 | J104: 4532 | K104: 4500 | L104: 4480 | M104: 4428 | N104: 4456 | O104: 4485 | P104: 4504 | Q104: 4520 | R104: 4534 | S104: 4550 | T104: 4566 | U104: 4582 | V104: 4601 | W104: 4624 | X104: 4651 | Y104: 4682 | Z104: 4717 | AA104: 4754 | AB104: 4793
A105: 10-14 - Mid Sussex | B105: 10 | C105: 5108 | D105: 5179 | E105: 5227 | F105: 5225 | G105: 5224 | H105: 5182 | I105: 5164 | J105: 5126 | K105: 5051 | L105: 4974 | M105: 4967 | N105: 4872 | O105: 4810 | P105: 4774 | Q105: 4748 | R105: 4699 | S105: 4726 | T105: 4750 | U105: 4769 | V105: 4784 | W105: 4797 | X105: 4813 | Y105: 4829 | Z105: 4845 | AA105: 4866 | AB105: 4890
A106: 15-19 - Mid Sussex | B106: 15 | C106: 4431 | D106: 4416 | E106: 4471 | F106: 4593 | G106: 4674 | H106: 4730 | I106: 4766 | J106: 4760 | K106: 4755 | L106: 4747 | M106: 4712 | N106: 4696 | O106: 4647 | P106: 4579 | Q106: 4515 | R106: 4503 | S106: 4422 | T106: 4364 | U106: 4327 | V106: 4292 | W106: 4278 | X106: 4299 | Y106: 4317 | Z106: 4329 | AA106: 4342 | AB106: 4353
A107: 20-24 - Mid Sussex | B107: 20 | C107: 3228 | D107: 3240 | E107: 3223 | F107: 3194 | G107: 3186 | H107: 3203 | I107: 3208 | J107: 3224 | K107: 3281 | L107: 3342 | M107: 3381 | N107: 3394 | O107: 3399 | P107: 3393 | Q107: 3373 | R107: 3334 | S107: 3310 | T107: 3290 | U107: 3253 | V107: 3204 | W107: 3183 | X107: 3132 | Y107: 3088 | Z107: 3054 | AA107: 3034 | AB107: 3006
A108: 25-29 - Mid Sussex | B108: 25 | C108: 3776 | D108: 3923 | E108: 3942 | F108: 4017 | G108: 4052 | H108: 4060 | I108: 4073 | J108: 4089 | K108: 4116 | L108: 4144 | M108: 4192 | N108: 4237 | O108: 4270 | P108: 4326 | Q108: 4393 | R108: 4439 | S108: 4443 | T108: 4429 | U108: 4408 | V108: 4380 | W108: 4333 | X108: 4295 | Y108: 4265 | Z108: 4222 | AA108: 4156 | AB108: 4119
A109: 30-34 - Mid Sussex | B109: 30 | C109: 4435 | D109: 4449 | E109: 4581 | F109: 4545 | G109: 4538 | H109: 4557 | I109: 4635 | J109: 4642 | K109: 4700 | L109: 4735 | M109: 4743 | N109: 4769 | O109: 4797 | P109: 4840 | Q109: 4885 | R109: 4949 | S109: 5006 | T109: 5043 | U109: 5100 | V109: 5173 | W109: 5224 | X109: 5226 | Y109: 5213 | Z109: 5185 | AA109: 5152 | AB109: 5098
A110: 35-39 - Mid Sussex | B110: 35 | C110: 4858 | D110: 5025 | E110: 5093 | F110: 5236 | G110: 5346 | H110: 5423 | I110: 5412 | J110: 5496 | K110: 5474 | L110: 5481 | M110: 5513 | N110: 5591 | O110: 5618 | P110: 5673 | Q110: 5709 | R110: 5712 | S110: 5745 | T110: 5785 | U110: 5845 | V110: 5903 | W110: 5977 | X110: 6048 | Y110: 6092 | Z110: 6153 | AA110: 6237 | AB110: 6294
A111: 40-44 - Mid Sussex | B111: 40 | C111: 5253 | D111: 5352 | E111: 5461 | F111: 5473 | G111: 5534 | H111: 5630 | I111: 5765 | J111: 5827 | K111: 5962 | L111: 6079 | M111: 6167 | N111: 6169 | O111: 6247 | P111: 6239 | Q111: 6250 | R111: 6291 | S111: 6370 | T111: 6407 | U111: 6464 | V111: 6498 | W111: 6503 | X111: 6540 | Y111: 6589 | Z111: 6658 | AA111: 6724 | AB111: 6810
A112: 45-49 - Mid Sussex | B112: 45 | C112: 5306 | D112: 5315 | E112: 5357 | F112: 5518 | G112: 5634 | H112: 5732 | I112: 5808 | J112: 5887 | K112: 5900 | L112: 5957 | M112: 6050 | N112: 6185 | O112: 6257 | P112: 6389 | Q112: 6508 | R112: 6597 | S112: 6603 | T112: 6680 | U112: 6678 | V112: 6693 | W112: 6740 | X112: 6821 | Y112: 6862 | Z112: 6919 | AA112: 6951 | AB112: 6957
A113: 50-54 - Mid Sussex | B113: 50 | C113: 5580 | D113: 5560 | E113: 5633 | F113: 5560 | G113: 5473 | H113: 5424 | I113: 5410 | J113: 5448 | K113: 5598 | L113: 5714 | M113: 5815 | N113: 5893 | O113: 5960 | P113: 5974 | Q113: 6025 | R113: 6112 | S113: 6240 | T113: 6316 | U113: 6444 | V113: 6558 | W113: 6646 | X113: 6655 | Y113: 6727 | Z113: 6729 | AA113: 6746 | AB113: 6796
A114: 55-59 - Mid Sussex | B114: 55 | C114: 5318 | D114: 5430 | E114: 5390 | F114: 5366 | G114: 5415 | H114: 5408 | I114: 5372 | J114: 5418 | K114: 5347 | L114: 5258 | M114: 5205 | N114: 5192 | O114: 5232 | P114: 5367 | Q114: 5480 | R114: 5574 | S114: 5648 | T114: 5702 | U114: 5718 | V114: 5765 | W114: 5843 | X114: 5963 | Y114: 6039 | Z114: 6155 | AA114: 6262 | AB114: 6345
... A121: 90+ - Mid Sussex | B121: 90 | C121: 611 | D121: 618 | E121: 620 | F121: 637 | G121: 668 | H121: 687 | I121: 727 | J121: 750 | K121: 767 | L121: 767 | M121: 802 | N121: 875 | O121: 944 | P121: 998 | Q121: 1052 | R121: 1185 | S121: 1268 | T121: 1299 | U121: 1320 | V121: 1325 | W121: 1332 | X121: 1327 | Y121: 1343 | Z121: 1369 | AA121: 1396 | AB121: 1422
A122: All Ages - Worthing | B122: Worthing | C122: 54103 | D122: 54514 | E122: 54919 | F122: 55214 | G122: 55471 | H122: 55710 | I122: 55970 | J122: 56240 | K122: 56503 | L122: 56771 | M122: 57036 | N122: 57307 | O122: 57580 | P122: 57850 | Q122: 58114 | R122: 58376 | S122: 58639 | T122: 58906 | U122: 59181 | V122: 59463 | W122: 59744 | X122: 60024 | Y122: 60301 | Z122: 60576 | AA122: 60846 | AB122: 61114
A123: 0-4 - Worthing | B123: 0 | C123: 2653 | D123: 2596 | E123: 2538 | F123: 2496 | G123: 2483 | H123: 2500 | I123: 2492 | J123: 2490 | K123: 2489 | L123: 2489 | M123: 2492 | N123: 2491 | O123: 2492 | P123: 2497 | Q123: 2503 | R123: 2513 | S123: 2522 | T123: 2535 | U123: 2550 | V123: 2564 | W123: 2581 | X123: 2595 | Y123: 2607 | Z123: 2617 | AA123: 2626 | AB123: 2633
A124: 5-9 - Worthing | B124: 5 | C124: 3026 | D124: 2982 | E124: 2974 | F124: 2924 | G124: 2863 | H124: 2754 | I124: 2682 | J124: 2620 | K124: 2579 | L124: 2567 | M124: 2578 | N124: 2574 | O124: 2571 | P124: 2569 | Q124: 2572 | R124: 2574 | S124: 2574 | T124: 2576 | U124: 2582 | V124: 2589 | W124: 2597 | X124: 2609 | Y124: 2622 | Z124: 2637 | AA124: 2652 | AB124: 2670
A125: 10-14 - Worthing | B125: 10 | C125: 3283 | D125: 3288 | E125: 3269 | F125: 3212 | G125: 3089 | H125: 3068 | I125: 3017 | J125: 2998 | K125: 2947 | L125: 2889 | M125: 2791 | N125: 2722 | O125: 2663 | P125: 2622 | Q125: 2611 | R125: 2617 | S125: 2612 | T125: 2610 | U125: 2611 | V125: 2611 | W125: 2613 | X125: 2615 | Y125: 2616 | Z125: 2622 | AA125: 2629 | AB125: 2638
A126: 15-19 - Worthing | B126: 15 | C126: 3007 | D126: 3064 | E126: 3037 | F126: 3101 | G126: 3194 | H126: 3191 | I126: 3191 | J126: 3156 | K126: 3100 | L126: 3009 | M126: 2979 | N126: 2939 | O126: 2919 | P126: 2873 | Q126: 2809 | R126: 2721 | S126: 2658 | T126: 2606 | U126: 2573 | V126: 2565 | W126: 2564 | X126: 2560 | Y126: 2559 | Z126: 2560 | AA126: 2560 | AB126: 2562
A127: 20-24 - Worthing | B127: 20 | C127: 2575 | D127: 2585 | E127: 2642 | F127: 2662 | G127: 2661 | H127: 2685 | I127: 2731 | J127: 2720 | K127: 2764 | L127: 2832 | M127: 2846 | N127: 2846 | O127: 2830 | P127: 2802 | Q127: 2746 | R127: 2717 | S127: 2684 | T127: 2668 | U127: 2632 | V127: 2579 | W127: 2524 | X127: 2479 | Y127: 2441 | Z127: 2410 | AA127: 2397 | AB127: 2384
A128: 25-29 - Worthing | B128: 25 | C128: 3043 | D128: 3004 | E128: 3016 | F128: 2996 | G128: 3015 | H128: 3027 | I128: 3030 | J128: 3072 | K128: 3113 | L128: 3140 | M128: 3185 | N128: 3241 | O128: 3253 | P128: 3294 | Q128: 3356 | R128: 3383 | S128: 3381 | T128: 3364 | U128: 3339 | V128: 3296 | W128: 3259 | X128: 3223 | Y128: 3200 | Z128: 3162 | AA128: 3105 | AB128: 3058
A129: 30-34 - Worthing | B129: 30 | C129: 3401 | D129: 3437 | E129: 3473 | F129: 3423 | G129: 3394 | H129: 3390 | I129: 3348 | J129: 3344 | K129: 3333 | L129: 3344 | M129: 3346 | N129: 3360 | O129: 3397 | P129: 3442 | Q129: 3478 | R129: 3530 | S129: 3587 | T129: 3606 | U129: 3645 | V129: 3707 | W129: 3740 | X129: 3740 | Y129: 3723 | Z129: 3699 | AA129: 3663 | AB129: 3623
A130: 35-39 - Worthing | B130: 35 | C130: 3439 | D130: 3578 | E130: 3630 | F130: 3733 | G130: 3810 | H130: 3805 | I130: 3813 | J130: 3833 | K130: 3796 | L130: 3780 | M130: 3787 | N130: 3767 | O130: 3774 | P130: 3770 | Q130: 3775 | R130: 3773 | S130: 3791 | T130: 3826 | U130: 3877 | V130: 3919 | W130: 3975 | X130: 4036 | Y130: 4060 | Z130: 4100 | AA130: 4164 | AB130: 4202
A131: 40-44 - Worthing | B131: 40 | C131: 3435 | D131: 3518 | E131: 3618 | F131: 3673 | G131: 3679 | H131: 3730 | I131: 3841 | J131: 3885 | K131: 3978 | L131: 4059 | M131: 4072 | N131: 4080 | O131: 4106 | P131: 4081 | Q131: 4068 | R131: 4082 | S131: 4077 | T131: 4088 | U131: 4089 | V131: 4093 | W131: 4089 | X131: 4110 | Y131: 4147 | Z131: 4201 | AA131: 4246 | AB131: 4307
A132: 45-49 - Worthing | B132: 45 | C132: 3588 | D132: 3537 | E132: 3514 | F132: 3543 | G132: 3589 | H132: 3660 | I132: 3725 | J132: 3796 | K132: 3847 | L132: 3856 | M132: 3909 | N132: 4012 | O132: 4064 | P132: 4150 | Q132: 4230 | R132: 4250 | S132: 4260 | T132: 4288 | U132: 4270 | V132: 4263 | W132: 4280 | X132: 4283 | Y132: 4297 | Z132: 4302 | AA132: 4307 | AB132: 4302
A133: 50-54 - Worthing | B133: 50 | C133: 3997 | D133: 3929 | E133: 3901 | F133: 3847 | G133: 3745 | H133: 3637 | I133: 3578 | J133: 3559 | K133: 3594 | L133: 3647 | M133: 3720 | N133: 3781 | O133: 3839 | P133: 3883 | Q133: 3895 | R133: 3944 | S133: 4041 | T133: 4093 | U133: 4174 | V133: 4251 | W133: 4277 | X133: 4288 | Y133: 4317 | Z133: 4305 | AA133: 4301 | AB133: 4322
A134: 55-59 - Worthing | B134: 55 | C134: 4102 | D134: 4166 | E134: 4153 | F134: 4074 | G134: 4061 | H134: 4014 | I134: 3944 | J134: 3909 | K134: 3851 | L134: 3747 | M134: 3640 | N134: 3585 | O134: 3574 | P134: 3615 | Q134: 3673 | R134: 3744 | S134: 3805 | T134: 3854 | U134: 3893 | V134: 3908 | W134: 3955 | X134: 4045 | Y134: 4100 | Z134: 4176 | AA134: 4252 | AB134: 4284
... A141: 90+ - Worthing | B141: 90 | C141: 506 | D141: 502 | E141: 497 | F141: 524 | G141: 535 | H141: 553 | I141: 581 | J141: 603 | K141: 617 | L141: 618 | M141: 630 | N141: 676 | O141: 722 | P141: 765 | Q141: 822 | R141: 923 | S141: 985 | T141: 1020 | U141: 1028 | V141: 1024 | W141: 1019 | X141: 1024 | Y141: 1036 | Z141: 1044 | AA141: 1062 | AB141: 1088
A142: All Ages West Sussex | B142: West Sussex | C142: =SUM(C143:C161) -> 433355 | D142: =SUM(D143:D161) -> 438022 | E142: =SUM(E143:E161) -> 442345 | F142: =SUM(F143:F161) -> 445473 | G142: =SUM(G143:G161) -> 448213 | H142: =SUM(H143:H161) -> 450865 | I142: =SUM(I143:I161) -> 453595 | J142: =SUM(J143:J161) -> 456379 | ... AB142: =SUM(AB143:AB161) -> 503331
...

Sheet Females 5y
A1: Age Groups | B1: Row Labels | C1: 2022 | D1: 2023 | E1: 2024 | F1: 2025 | G1: 2026 | H1: 2027 | I1: 2028 | J1: 2029 | K1: 2030 | L1: 2031 | M1: 2032 | N1: 2033 | O1: 2034 | P1: 2035 | Q1: 2036 | R1: 2037 | S1: 2038 | T1: 2039 | U1: 2040 | V1: 2041 | W1: 2042 | X1: 2043 | Y1: 2044 | Z1: 2045 | AA1: 2046 | AB1: 2047
A2: All Ages - Adur | B2: Adur | C2: 33500 | D2: 33608 | E2: 33740 | F2: 33865 | G2: 33983 | H2: 34082 | I2: 34183 | J2: 34282 | K2: 34379 | L2: 34468 | M2: 34558 | N2: 34650 | O2: 34742 | P2: 34830 | Q2: 34922 | R2: 35018 | S2: 35115 | T2: 35215 | U2: 35325 | V2: 35440 | W2: 35559 | X2: 35681 | Y2: 35803 | Z2: 35924 | AA2: 36043 | AB2: 36161
A3: 0-4 - Adur | B3: 0 | C3: 1565 | D3: 1534 | E3: 1464 | F3: 1433 | G3: 1427 | H3: 1410 | I3: 1403 | J3: 1401 | K3: 1400 | L3: 1400 | M3: 1401 | N3: 1401 | O3: 1402 | P3: 1404 | Q3: 1406 | R3: 1413 | S3: 1417 | T3: 1424 | U3: 1433 | V3: 1443 | W3: 1453 | X3: 1462 | Y3: 1470 | Z3: 1478 | AA3: 1483 | AB3: 1490
A4: 5-9 - Adur | B4: 5 | C4: 1833 | D4: 1801 | E4: 1814 | F4: 1767 | G4: 1706 | H4: 1675 | I4: 1641 | J4: 1576 | K4: 1545 | L4: 1538 | M4: 1522 | N4: 1517 | O4: 1516 | P4: 1516 | Q4: 1517 | R4: 1519 | S4: 1518 | T4: 1521 | U4: 1523 | V4: 1527 | W4: 1532 | X4: 1539 | Y4: 1548 | Z4: 1557 | AA4: 1567 | AB4: 1577
A5: 10-14 - Adur | B5: 10 | C5: 1952 | D5: 1943 | E5: 1951 | F5: 1946 | G5: 1937 | H5: 1884 | I5: 1851 | J5: 1857 | K5: 1811 | L5: 1751 | M5: 1720 | N5: 1685 | O5: 1627 | P5: 1595 | Q5: 1588 | R5: 1571 | S5: 1570 | T5: 1569 | U5: 1569 | V5: 1570 | W5: 1572 | X5: 1572 | Y5: 1575 | Z5: 1577 | AA5: 1581 | AB5: 1587
A6: 15-19 - Adur | B6: 15 | C6: 1566 | D6: 1655 | E6: 1707 | F6: 1765 | G6: 1820 | H6: 1869 | I6: 1862 | J6: 1856 | K6: 1849 | L6: 1832 | M6: 1790 | N6: 1762 | O6: 1758 | P6: 1721 | Q6: 1669 | R6: 1642 | S6: 1603 | T6: 1558 | U6: 1534 | V6: 1525 | W6: 1513 | X6: 1512 | Y6: 1513 | Z6: 1514 | AA6: 1515 | AB6: 1516
A7: 20-24 - Adur | B7: 20 | C7: 1186 | D7: 1179 | E7: 1187 | F7: 1169 | G7: 1182 | H7: 1206 | I7: 1250 | J7: 1270 | K7: 1296 | L7: 1322 | M7: 1351 | N7: 1347 | O7: 1342 | P7: 1337 | Q7: 1326 | R7: 1303 | S7: 1287 | T7: 1283 | U7: 1263 | V7: 1233 | W7: 1217 | X7: 1196 | Y7: 1172 | Z7: 1155 | AA7: 1147 | AB7: 1136
A8: 25-29 - Adur | B8: 25 | C8: 1547 | D8: 1509 | E8: 1481 | F8: 1498 | G8: 1493 | H8: 1469 | I8: 1454 | J8: 1459 | K8: 1454 | L8: 1468 | M8: 1493 | N8: 1529 | O8: 1550 | P8: 1574 | Q8: 1598 | R8: 1621 | S8: 1617 | T8: 1610 | U8: 1603 | V8: 1592 | W8: 1570 | X8: 1554 | Y8: 1545 | Z8: 1526 | AA8: 1497 | AB8: 1480
A9: 30-34 - Adur | B9: 30 | C9: 1965 | D9: 1912 | E9: 1883 | F9: 1906 | G9: 1878 | H9: 1854 | I9: 1835 | J9: 1815 | K9: 1812 | L9: 1799 | M9: 1767 | N9: 1748 | O9: 1751 | P9: 1749 | Q9: 1763 | R9: 1790 | S9: 1826 | T9: 1847 | U9: 1871 | V9: 1898 | W9: 1923 | X9: 1920 | Y9: 1914 | Z9: 1905 | AA9: 1894 | AB9: 1870
A10: 35-39 - Adur | B10: 35 | C10: 2056 | D10: 2147 | E10: 2217 | F10: 2239 | G10: 2267 | H10: 2289 | I10: 2252 | J10: 2233 | K10: 2245 | L10: 2221 | M10: 2206 | N10: 2196 | O10: 2179 | P10: 2170 | Q10: 2153 | R10: 2120 | S10: 2101 | T10: 2102 | U10: 2105 | V10: 2122 | W10: 2150 | X10: 2187 | Y10: 2212 | Z10: 2238 | AA10: 2269 | AB10: 2294
A11: 40-44 - Adur | B11: 40 | C11: 2199 | D11: 2235 | E11: 2226 | F11: 2233 | G11: 2211 | H11: 2241 | I11: 2313 | J11: 2373 | K11: 2407 | L11: 2439 | M11: 2464 | N11: 2437 | O11: 2424 | P11: 2429 | Q11: 2408 | R11: 2396 | S11: 2391 | T11: 2375 | U11: 2365 | V11: 2349 | W11: 2315 | X11: 2296 | Y11: 2298 | Z11: 2304 | AA11: 2319 | AB11: 2348
A12: 45-49 - Adur | B12: 45 | C12: 2210 | D12: 2155 | E12: 2180 | F12: 2169 | G12: 2199 | H12: 2238 | I12: 2272 | J12: 2264 | K12: 2265 | L12: 2252 | M12: 2278 | N12: 2345 | O12: 2402 | P12: 2439 | Q12: 2473 | R12: 2498 | S12: 2475 | T12: 2465 | U12: 2469 | V12: 2449 | W12: 2441 | X12: 2436 | Y12: 2422 | Z12: 2413 | AA12: 2395 | AB12: 2364
A13: 50-54 - Adur | B13: 50 | C13: 2378 | D13: 2365 | E13: 2325 | F13: 2299 | G13: 2249 | H13: 2183 | I13: 2133 | J13: 2153 | K13: 2154 | L13: 2184 | M13: 2223 | N13: 2254 | O13: 2248 | P13: 2248 | Q13: 2240 | R13: 2267 | S13: 2326 | T13: 2381 | U13: 2417 | V13: 2452 | W13: 2476 | X13: 2459 | Y13: 2450 | Z13: 2450 | AA13: 2433 | AB13: 2426
A14: 55-59 - Adur | B14: 55 | C14: 2260 | D14: 2300 | E14: 2316 | F14: 2317 | G14: 2350 | H14: 2335 | I14: 2322 | J14: 2279 | K14: 2253 | L14: 2201 | M14: 2139 | N14: 2093 | O14: 2113 | P14: 2121 | Q14: 2153 | R14: 2190 | S14: 2221 | T14: 2218 | U14: 2215 | V14: 2212 | W14: 2238 | X14: 2293 | Y14: 2343 | Z14: 2381 | AA14: 2414 | AB14: 2439
... A21: 90+ - Adur | B21: 90 | C21: 560 | D21: 539 | E21: 524 | F21: 527 | G21: 530 | H21: 531 | I21: 542 | J21: 559 | K21: 562 | L21: 562 | M21: 569 | N21: 598 | O21: 630 | P21: 659 | Q21: 687 | R21: 769 | S21: 815 | T21: 847 | U21: 859 | V21: 861 | W21: 865 | X21: 868 | Y21: 865 | Z21: 874 | AA21: 878 | AB21: 896
A22: All Ages - Arun | B22: Arun | C22: 86401 | D22: 87226 | E22: 88038 | F22: 88715 | G22: 89342 | H22: 89962 | I22: 90590 | J22: 91237 | K22: 91873 | L22: 92482 | M22: 93090 | N22: 93691 | O22: 94269 | P22: 94825 | Q22: 95372 | R22: 95911 | S22: 96429 | T22: 96937 | U22: 97437 | V22: 97930 | W22: 98417 | X22: 98902 | Y22: 99378 | Z22: 99845 | AA22: 100304 | AB22: 100755
A23: 0-4 - Arun | B23: 0 | C23: 3479 | D23: 3456 | E23: 3388 | F23: 3330 | G23: 3280 | H23: 3244 | I23: 3230 | J23: 3219 | K23: 3208 | L23: 3198 | M23: 3192 | N23: 3187 | O23: 3185 | P23: 3185 | Q23: 3188 | R23: 3194 | S23: 3204 | T23: 3216 | U23: 3231 | V23: 3245 | W23: 3259 | X23: 3272 | Y23: 3281 | Z23: 3289 | AA23: 3292 | AB23: 3291
A24: 5-9 - Arun | B24: 5 | C24: 3928 | D24: 3895 | E24: 3947 | F24: 3907 | G24: 3805 | H24: 3753 | I24: 3708 | J24: 3627 | K24: 3568 | L24: 3518 | M24: 3483 | N24: 3474 | O24: 3466 | P24: 3456 | Q24: 3448 | R24: 3444 | S24: 3439 | T24: 3438 | U24: 3441 | V24: 3446 | W24: 3455 | X24: 3466 | Y24: 3481 | Z24: 3497 | AA24: 3514 | AB24: 3530
A25: 10-14 - Arun | B25: 10 | C25: 4140 | D25: 4191 | E25: 4116 | F25: 4169 | G25: 4205 | H25: 4103 | I25: 4058 | J25: 4090 | K25: 4048 | L25: 3947 | M25: 3898 | N25: 3848 | O25: 3766 | P25: 3704 | Q25: 3657 | R25: 3620 | S25: 3613 | T25: 3607 | U25: 3599 | V25: 3591 | W25: 3588 | X25: 3586 | Y25: 3586 | Z25: 3588 | AA25: 3595 | AB25: 3605
A26: 15-19 - Arun | B26: 15 | C26: 3681 | D26: 3767 | E26: 3903 | F26: 3955 | G26: 4038 | H26: 4177 | I26: 4193 | J26: 4138 | K26: 4163 | L26: 4175 | M26: 4099 | N26: 4063 | O26: 4072 | P26: 4020 | Q26: 3938 | R26: 3891 | S26: 3828 | T26: 3752 | U26: 3694 | V26: 3652 | W26: 3616 | X26: 3611 | Y26: 3607 | Z26: 3600 | AA26: 3596 | AB26: 3592
A27: 20-24 - Arun | B27: 20 | C27: 3672 | D27: 3614 | E27: 3566 | F27: 3504 | G27: 3492 | H27: 3514 | I27: 3578 | J27: 3655 | K27: 3702 | L27: 3772 | M27: 3863 | N27: 3862 | O27: 3826 | P27: 3829 | Q27: 3829 | R27: 3768 | S27: 3725 | T27: 3715 | U27: 3676 | V27: 3609 | W27: 3564 | X27: 3508 | Y27: 3448 | Z27: 3401 | AA27: 3372 | AB27: 3341
A28: 25-29 - Arun | B28: 25 | C28: 4134 | D28: 4139 | E28: 4128 | F28: 4100 | G28: 4061 | H28: 4000 | I28: 3924 | J28: 3888 | K28: 3867 | L28: 3881 | M28: 3926 | N28: 4005 | O28: 4069 | P28: 4125 | Q28: 4194 | R28: 4263 | S28: 4261 | T28: 4237 | U28: 4227 | V28: 4211 | W28: 4153 | X28: 4111 | Y28: 4090 | Z28: 4047 | AA28: 3977 | AB28: 3932
A29: 30-34 - Arun | B29: 30 | C29: 4837 | D29: 4870 | E29: 4896 | F29: 4859 | G29: 4798 | H29: 4761 | I29: 4729 | J29: 4693 | K29: 4660 | L29: 4628 | M29: 4568 | N29: 4503 | O29: 4476 | P29: 4467 | Q29: 4488 | R29: 4540 | S29: 4625 | T29: 4688 | U29: 4749 | V29: 4824 | W29: 4892 | X29: 4889 | Y29: 4869 | Z29: 4851 | AA29: 4830 | AB29: 4770
A30: 35-39 - Arun | B30: 35 | C30: 4658 | D30: 4895 | E30: 5029 | F30: 5184 | G30: 5308 | H30: 5355 | I30: 5348 | J30: 5344 | K30: 5303 | L30: 5245 | M30: 5221 | N30: 5202 | O30: 5169 | P30: 5137 | Q30: 5103 | R30: 5038 | S30: 4977 | T30: 4957 | U30: 4954 | V30: 4979 | W30: 5035 | X30: 5127 | Y30: 5190 | Z30: 5255 | AA30: 5333 | AB30: 5401
A31: 40-44 - Arun | B31: 40 | C31: 4621 | D31: 4686 | E31: 4798 | F31: 4800 | G31: 4901 | H31: 5027 | I31: 5232 | J31: 5357 | K31: 5506 | L31: 5629 | M31: 5685 | N31: 5678 | O31: 5675 | P31: 5632 | Q31: 5577 | R31: 5557 | S31: 5540 | T31: 5509 | U31: 5479 | V31: 5443 | W31: 5378 | X31: 5318 | Y31: 5303 | Z31: 5304 | AA31: 5333 | AB31: 5392
A32: 45-49 - Arun | B32: 45 | C32: 4614 | D32: 4571 | E32: 4524 | F32: 4650 | G32: 4786 | H32: 4930 | I32: 4995 | J32: 5086 | K32: 5090 | L32: 5185 | M32: 5306 | N32: 5502 | O32: 5630 | P32: 5776 | Q32: 5895 | R32: 5954 | S32: 5945 | T32: 5940 | U32: 5900 | V32: 5845 | W32: 5826 | X32: 5812 | Y32: 5785 | Z32: 5754 | AA32: 5718 | AB32: 5653
A33: 50-54 - Arun | B33: 50 | C33: 5849 | D33: 5672 | E33: 5545 | F33: 5419 | G33: 5139 | H33: 4940 | I33: 4885 | J33: 4848 | K33: 4977 | L33: 5117 | M33: 5268 | N33: 5344 | O33: 5429 | P33: 5432 | Q33: 5519 | R33: 5634 | S33: 5823 | T33: 5955 | U33: 6099 | V33: 6214 | W33: 6274 | X33: 6267 | Y33: 6263 | Z33: 6222 | AA33: 6168 | AB33: 6151
A34: 55-59 - Arun | B34: 55 | C34: 6277 | D34: 6413 | E34: 6482 | F34: 6379 | G34: 6404 | H34: 6346 | I34: 6175 | J34: 6040 | K34: 5922 | L34: 5657 | M34: 5465 | N34: 5408 | O34: 5390 | P34: 5528 | Q34: 5677 | R34: 5838 | S34: 5928 | T34: 6005 | U34: 6011 | V34: 6094 | W34: 6208 | X34: 6393 | Y34: 6534 | Z34: 6675 | AA34: 6793 | AB34: 6858
... A41: 90+ - Arun | B41: 90 | C41: 1995 | D41: 1910 | E41: 1879 | F41: 1899 | G41: 1931 | H41: 1981 | I41: 2031 | J41: 2086 | K41: 2146 | L41: 2153 | M41: 2193 | N41: 2320 | O41: 2442 | P41: 2562 | Q41: 2705 | R41: 2985 | S41: 3177 | T41: 3294 | U41: 3352 | V41: 3384 | W41: 3415 | X41: 3427 | Y41: 3445 | Z41: 3491 | AA41: 3536 | AB41: 3613
A42: All Ages - Chichester | B42: Chichester | C42: 65788 | D42: 66514 | E42: 67194 | F42: 67686 | G42: 68143 | H42: 68606 | I42: 69071 | J42: 69558 | K42: 70046 | L42: 70515 | M42: 70966 | N42: 71396 | O42: 71813 | P42: 72231 | Q42: 72629 | R42: 73010 | S42: 73380 | T42: 73739 | U42: 74088 | V42: 74437 | W42: 74776 | X42: 75118 | Y42: 75465 | Z42: 75816 | AA42: 76164 | AB42: 76506
A43: 0-4 - Chichester | B43: 0 | C43: 2692 | D43: 2676 | E43: 2635 | F43: 2596 | G43: 2558 | H43: 2522 | I43: 2522 | J43: 2523 | K43: 2519 | L43: 2518 | M43: 2518 | N43: 2517 | O43: 2516 | P43: 2518 | Q43: 2520 | R43: 2526 | S43: 2535 | T43: 2544 | U43: 2558 | V43: 2572 | W43: 2589 | X43: 2605 | Y43: 2618 | Z43: 2630 | AA43: 2640 | AB43: 2648
A44: 5-9 - Chichester | B44: 5 | C44: 2978 | D44: 3031 | E44: 3042 | F44: 2992 | G44: 3009 | H44: 2993 | I44: 2951 | J44: 2899 | K44: 2856 | L44: 2822 | M44: 2794 | N44: 2797 | O44: 2799 | P44: 2796 | Q44: 2795 | R44: 2795 | S44: 2796 | T44: 2798 | U44: 2800 | V44: 2807 | W44: 2815 | X44: 2825 | Y44: 2839 | Z44: 2854 | AA44: 2871 | AB44: 2889
A45: 10-14 - Chichester | B45: 10 | C45: 3331 | D45: 3256 | E45: 3228 | F45: 3266 | G45: 3194 | H45: 3146 | I45: 3164 | J45: 3157 | K45: 3111 | L45: 3113 | M45: 3092 | N45: 3049 | O45: 2998 | P45: 2954 | Q45: 2922 | R45: 2895 | S45: 2899 | T45: 2900 | U45: 2899 | V45: 2898 | W45: 2900 | X45: 2900 | Y45: 2904 | Z45: 2906 | AA45: 2914 | AB45: 2922
A46: 15-19 - Chichester | B46: 15 | C46: 3458 | D46: 3558 | E46: 3618 | F46: 3632 | G46: 3684 | H46: 3731 | I46: 3658 | J46: 3641 | K46: 3668 | L46: 3616 | M46: 3569 | N46: 3556 | O46: 3545 | P46: 3516 | Q46: 3488 | R46: 3457 | S46: 3406 | T46: 3350 | U46: 3302 | V46: 3276 | W46: 3233 | X46: 3234 | Y46: 3238 | Z46: 3239 | AA46: 3238 | AB46: 3237
A47: 20-24 - Chichester | B47: 20 | C47: 3406 | D47: 3367 | E47: 3392 | F47: 3425 | G47: 3451 | H47: 3501 | I47: 3575 | J47: 3623 | K47: 3659 | L47: 3714 | M47: 3762 | N47: 3730 | O47: 3711 | P47: 3710 | Q47: 3681 | R47: 3640 | S47: 3605 | T47: 3582 | U47: 3546 | V47: 3491 | W47: 3455 | X47: 3392 | Y47: 3342 | Z47: 3308 | AA47: 3288 | AB47: 3266
A48: 25-29 - Chichester | B48: 25 | C48: 2946 | D48: 3010 | E48: 3013 | F48: 2953 | G48: 2909 | H48: 2818 | I48: 2758 | J48: 2741 | K48: 2753 | L48: 2773 | M48: 2814 | N48: 2869 | O48: 2902 | P48: 2938 | Q48: 2984 | R48: 3020 | S48: 3015 | T48: 3004 | U48: 2994 | V48: 2976 | W48: 2941 | X48: 2916 | Y48: 2894 | Z48: 2864 | AA48: 2821 | AB48: 2792
A49: 30-34 - Chichester | B49: 30 | C49: 3502 | D49: 3489 | E49: 3497 | F49: 3459 | G49: 3376 | H49: 3343 | I49: 3341 | J49: 3319 | K49: 3285 | L49: 3261 | M49: 3198 | N49: 3157 | O49: 3142 | P49: 3151 | Q49: 3173 | R49: 3212 | S49: 3268 | T49: 3302 | U49: 3343 | V49: 3390 | W49: 3429 | X49: 3427 | Y49: 3417 | Z49: 3402 | AA49: 3384 | AB49: 3348
A50: 35-39 - Chichester | B50: 35 | C50: 3245 | D50: 3472 | E50: 3615 | F50: 3714 | G50: 3865 | H50: 3936 | I50: 3896 | J50: 3883 | K50: 3851 | L50: 3793 | M50: 3774 | N50: 3774 | O50: 3757 | P50: 3730 | Q50: 3708 | R50: 3651 | S50: 3611 | T50: 3600 | U50: 3610 | V50: 3632 | W50: 3675 | X50: 3735 | Y50: 3771 | Z50: 3816 | AA50: 3868 | AB50: 3911
A51: 40-44 - Chichester | B51: 40 | C51: 3511 | D51: 3563 | E51: 3663 | F51: 3691 | G51: 3665 | H51: 3710 | I51: 3885 | J51: 4000 | K51: 4094 | L51: 4223 | M51: 4290 | N51: 4261 | O51: 4251 | P51: 4224 | Q51: 4174 | R51: 4157 | S51: 4158 | T51: 4143 | U51: 4117 | V51: 4095 | W51: 4037 | X51: 4001 | Y51: 3992 | Z51: 4004 | AA51: 4029 | AB51: 4073
A52: 45-49 - Chichester | B52: 45 | C52: 3681 | D52: 3584 | E52: 3522 | F52: 3596 | G52: 3702 | H52: 3806 | I52: 3859 | J52: 3937 | K52: 3963 | L52: 3956 | M52: 4009 | N52: 4169 | O52: 4279 | P52: 4370 | Q52: 4485 | R52: 4546 | S52: 4523 | T52: 4516 | U52: 4490 | V52: 4445 | W52: 4432 | X52: 4431 | Y52: 4417 | Z52: 4392 | AA52: 4368 | AB52: 4314
A53: 50-54 - Chichester | B53: 50 | C53: 4279 | D53: 4241 | E53: 4210 | F53: 4189 | G53: 4036 | H53: 3930 | I53: 3833 | J53: 3789 | K53: 3865 | L53: 3975 | M53: 4082 | N53: 4144 | O53: 4214 | P53: 4238 | Q53: 4242 | R53: 4301 | S53: 4452 | T53: 4558 | U53: 4649 | V53: 4752 | W53: 4812 | X53: 4791 | Y53: 4788 | Z53: 4761 | AA53: 4718 | AB53: 4706
A54: 55-59 - Chichester | B54: 55 | C54: 4998 | D54: 4981 | E54: 4917 | F54: 4807 | G54: 4802 | H54: 4720 | I54: 4659 | J54: 4609 | K54: 4579 | L54: 4427 | M54: 4318 | N54: 4230 | O54: 4204 | P54: 4287 | Q54: 4403 | R54: 4514 | S54: 4589 | T54: 4656 | U54: 4677 | V54: 4692 | W54: 4759 | X54: 4901 | Y54: 5012 | Z54: 5105 | AA54: 5204 | AB54: 5261
... A61: 90+ - Chichester | B61: 90 | C61: 1329 | D61: 1320 | E61: 1342 | F61: 1363 | G61: 1361 | H61: 1395 | I61: 1438 | J61: 1490 | K61: 1542 | L61: 1556 | M61: 1616 | N61: 1692 | O61: 1784 | P61: 1887 | Q61: 1983 | R61: 2187 | S61: 2322 | T61: 2409 | U61: 2470 | V61: 2494 | W61: 2491 | X61: 2514 | Y61: 2539 | Z61: 2569 | AA61: 2611 | AB61: 2681
A62: All Ages - Crawley | B62: Crawley | C62: 60012 | D62: 60663 | E62: 61192 | F62: 61390 | G62: 61514 | H62: 61625 | I62: 61764 | J62: 61930 | K62: 62107 | L62: 62280 | M62: 62478 | N62: 62664 | O62: 62852 | P62: 63030 | Q62: 63204 | R62: 63372 | S62: 63543 | T62: 63707 | U62: 63870 | V62: 64029 | W62: 64196 | X62: 64359 | Y62: 64512 | Z62: 64657 | AA62: 64795 | AB62: 64927
A63: 0-4 - Crawley | B63: 0 | C63: 3781 | D63: 3699 | E63: 3644 | F63: 3540 | G63: 3463 | H63: 3373 | I63: 3351 | J63: 3332 | K63: 3311 | L63: 3293 | M63: 3282 | N63: 3278 | O63: 3276 | P63: 3277 | Q63: 3282 | R63: 3290 | S63: 3301 | T63: 3316 | U63: 3333 | V63: 3349 | W63: 3364 | X63: 3380 | Y63: 3390 | Z63: 3399 | AA63: 3403 | AB63: 3403
A64: 5-9 - Crawley | B64: 5 | C64: 3846 | D64: 3950 | E64: 3918 | F64: 3941 | G64: 3884 | H64: 3854 | I64: 3744 | J64: 3670 | K64: 3576 | L64: 3511 | M64: 3436 | N64: 3423 | O64: 3409 | P64: 3394 | Q64: 3380 | R64: 3373 | S64: 3370 | T64: 3372 | U64: 3374 | V64: 3381 | W64: 3392 | X64: 3405 | Y64: 3421 | Z64: 3437 | AA64: 3455 | AB64: 3473
A65: 10-14 - Crawley | B65: 10 | C65: 3998 | D65: 3953 | E65: 4013 | F65: 3972 | G65: 3948 | H65: 3885 | I65: 3943 | J65: 3891 | K65: 3905 | L65: 3850 | M65: 3822 | N65: 3722 | O65: 3652 | P65: 3566 | Q65: 3510 | R65: 3442 | S65: 3430 | T65: 3421 | U65: 3409 | V65: 3397 | W65: 3392 | X65: 3392 | Y65: 3393 | Z65: 3398 | AA65: 3406 | AB65: 3417
A66: 15-19 - Crawley | B66: 15 | C66: 3254 | D66: 3403 | E66: 3490 | F66: 3574 | G66: 3669 | H66: 3756 | I66: 3699 | J66: 3720 | K66: 3674 | L66: 3650 | M66: 3622 | N66: 3647 | O66: 3612 | P66: 3609 | Q66: 3560 | R66: 3531 | S66: 3448 | T66: 3375 | U66: 3306 | V66: 3256 | W66: 3211 | X66: 3203 | Y66: 3195 | Z66: 3186 | AA66: 3178 | AB66: 3176
A67: 20-24 - Crawley | B67: 20 | C67: 3008 | D67: 3094 | E67: 3165 | F67: 3125 | G67: 3102 | H67: 3154 | I67: 3214 | J67: 3248 | K67: 3305 | L67: 3376 | M67: 3439 | N67: 3408 | O67: 3422 | P67: 3398 | Q67: 3379 | R67: 3339 | S67: 3340 | T67: 3313 | U67: 3300 | V67: 3252 | W67: 3222 | X67: 3162 | Y67: 3113 | Z67: 3064 | AA67: 3033 | AB67: 2995
A68: 25-29 - Crawley | B68: 25 | C68: 4218 | D68: 4237 | E68: 4170 | F68: 4216 | G68: 4213 | H68: 4099 | I68: 4070 | J68: 4073 | K68: 4060 | L68: 4069 | M68: 4130 | N68: 4206 | O68: 4250 | P68: 4312 | Q68: 4382 | R68: 4441 | S68: 4422 | T68: 4419 | U68: 4392 | V68: 4366 | W68: 4321 | X68: 4300 | Y68: 4266 | Z68: 4237 | AA68: 4175 | AB68: 4137
A69: 30-34 - Crawley | B69: 30 | C69: 5089 | D69: 5101 | E69: 5118 | F69: 4981 | G69: 4872 | H69: 4802 | I69: 4750 | J69: 4659 | K69: 4679 | L69: 4679 | M69: 4605 | N69: 4584 | O69: 4590 | P69: 4586 | Q69: 4601 | R69: 4659 | S69: 4734 | T69: 4780 | U69: 4840 | V69: 4911 | W69: 4966 | X69: 4951 | Y69: 4943 | Z69: 4916 | AA69: 4890 | AB69: 4841
A70: 35-39 - Crawley | B70: 35 | C70: 4980 | D70: 5055 | E70: 5172 | F70: 5200 | G70: 5193 | H70: 5177 | I70: 5130 | J70: 5101 | K70: 4998 | L70: 4920 | M70: 4877 | N70: 4850 | O70: 4784 | P70: 4796 | Q70: 4790 | R70: 4731 | S70: 4712 | T70: 4718 | U70: 4722 | V70: 4739 | W70: 4792 | X70: 4867 | Y70: 4912 | Z70: 4968 | AA70: 5034 | AB70: 5088
A71: 40-44 - Crawley | B71: 40 | C71: 4684 | D71: 4776 | E71: 4821 | F71: 4832 | G71: 4816 | H71: 4861 | I71: 4899 | J71: 4980 | K71: 5013 | L71: 5020 | M71: 5018 | N71: 4986 | O71: 4958 | P71: 4876 | Q71: 4814 | R71: 4777 | S71: 4759 | T71: 4703 | U71: 4712 | V71: 4705 | W71: 4652 | X71: 4636 | Y71: 4642 | Z71: 4647 | AA71: 4666 | AB71: 4717
A72: 45-49 - Crawley | B72: 45 | C72: 3818 | D72: 3912 | E72: 4077 | F72: 4243 | G72: 4411 | H72: 4535 | I72: 4601 | J72: 4624 | K72: 4636 | L72: 4631 | M72: 4676 | N72: 4721 | O72: 4802 | P72: 4837 | Q72: 4849 | R72: 4852 | S72: 4822 | T72: 4802 | U72: 4730 | V72: 4676 | W72: 4646 | X72: 4631 | Y72: 4586 | Z72: 4591 | AA72: 4584 | AB72: 4535
A73: 50-54 - Crawley | B73: 50 | C73: 3821 | D73: 3750 | E73: 3682 | F73: 3678 | G73: 3612 | H73: 3627 | I73: 3696 | J73: 3833 | K73: 3983 | L73: 4135 | M73: 4251 | N73: 4315 | O73: 4337 | P73: 4349 | Q73: 4349 | R73: 4391 | S73: 4437 | T73: 4515 | U73: 4551 | V73: 4566 | W73: 4572 | X73: 4548 | Y73: 4530 | Z73: 4470 | AA73: 4423 | AB73: 4398
A74: 55-59 - Crawley | B74: 55 | C74: 3518 | D74: 3581 | E74: 3581 | F74: 3528 | G74: 3591 | H74: 3578 | I74: 3507 | J74: 3441 | K74: 3437 | L74: 3375 | M74: 3387 | N74: 3444 | O74: 3566 | P74: 3700 | Q74: 3836 | R74: 3944 | S74: 4004 | T74: 4021 | U74: 4032 | V74: 4037 | W74: 4077 | X74: 4123 | Y74: 4195 | Z74: 4231 | AA74: 4247 | AB74: 4255
... A81: 90+ - Crawley | B81: 90 | C81: 655 | D81: 626 | E81: 602 | F81: 584 | G81: 564 | H81: 555 | I81: 550 | J81: 550 | K81: 552 | L81: 545 | M81: 540 | N81: 549 | O81: 571 | P81: 593 | Q81: 623 | R81: 696 | S81: 737 | T81: 763 | U81: 784 | V81: 799 | W81: 806 | X81: 812 | Y81: 835 | Z81: 845 | AA81: 868 | AB81: 886
A82: All Ages - Horsham | B82: Horsham | C82: 76114 | D82: 77072 | E82: 78033 | F82: 78885 | G82: 79671 | H82: 80424 | I82: 81187 | J82: 81950 | K82: 82712 | L82: 83449 | M82: 84198 | N82: 84934 | O82: 85649 | P82: 86324 | Q82: 86962 | R82: 87588 | S82: 88199 | T82: 88791 | U82: 89383 | V82: 89941 | W82: 90511 | X82: 91067 | Y82: 91603 | Z82: 92114 | AA82: 92610 | AB82: 93090
A83: 0-4 - Horsham | B83: 0 | C83: 3585 | D83: 3570 | E83: 3556 | F83: 3531 | G83: 3556 | H83: 3518 | I83: 3543 | J83: 3571 | K83: 3594 | L83: 3609 | M83: 3621 | N83: 3634 | O83: 3645 | P83: 3657 | Q83: 3671 | R83: 3688 | S83: 3709 | T83: 3732 | U83: 3759 | V83: 3787 | W83: 3817 | X83: 3844 | Y83: 3872 | Z83: 3896 | AA83: 3916 | AB83: 3931
A84: 5-9 - Horsham | B84: 5 | C84: 3890 | D84: 3956 | E84: 4008 | F84: 4072 | G84: 4043 | H84: 4048 | I84: 3999 | J84: 3960 | K84: 3925 | L84: 3942 | M84: 3905 | N84: 3930 | O84: 3955 | P84: 3973 | Q84: 3988 | R84: 3999 | S84: 4012 | T84: 4024 | U84: 4037 | V84: 4053 | W84: 4072 | X84: 4095 | Y84: 4121 | Z84: 4150 | AA84: 4182 | AB84: 4214
A85: 10-14 - Horsham | B85: 10 | C85: 4489 | D85: 4495 | E85: 4504 | F85: 4448 | G85: 4445 | H85: 4439 | I85: 4473 | J85: 4500 | K85: 4541 | L85: 4498 | M85: 4493 | N85: 4436 | O85: 4387 | P85: 4343 | Q85: 4348 | R85: 4308 | S85: 4332 | T85: 4353 | U85: 4371 | V85: 4383 | W85: 4394 | X85: 4406 | Y85: 4419 | Z85: 4432 | AA85: 4449 | AB85: 4469
A86: 15-19 - Horsham | B86: 15 | C86: 3946 | D86: 3856 | E86: 3877 | F86: 3950 | G86: 3988 | H86: 4026 | I86: 4011 | J86: 3981 | K86: 3933 | L86: 3910 | M86: 3929 | N86: 3952 | O86: 3967 | P86: 3969 | Q86: 3910 | R86: 3907 | S86: 3848 | T86: 3795 | U86: 3772 | V86: 3745 | W86: 3745 | X86: 3763 | Y86: 3775 | Z86: 3785 | AA86: 3793 | AB86: 3803
A87: 20-24 - Horsham | B87: 20 | C87: 2793 | D87: 2764 | E87: 2682 | F87: 2599 | G87: 2560 | H87: 2550 | I87: 2551 | J87: 2572 | K87: 2609 | L87: 2656 | M87: 2693 | N87: 2694 | O87: 2698 | P87: 2685 | Q87: 2665 | R87: 2635 | S87: 2623 | T87: 2611 | U87: 2592 | V87: 2551 | W87: 2525 | X87: 2490 | Y87: 2456 | Z87: 2424 | AA87: 2406 | AB87: 2381
A88: 25-29 - Horsham | B88: 25 | C88: 3720 | D88: 3770 | E88: 3799 | F88: 3840 | G88: 3811 | H88: 3790 | I88: 3757 | J88: 3732 | K88: 3711 | L88: 3714 | M88: 3746 | N88: 3797 | O88: 3836 | P88: 3889 | Q88: 3948 | R88: 3997 | S88: 3991 | T88: 3980 | U88: 3960 | V88: 3934 | W88: 3892 | X88: 3860 | Y88: 3832 | Z88: 3797 | AA88: 3737 | AB88: 3700
A89: 30-34 - Horsham | B89: 30 | C89: 4359 | D89: 4464 | E89: 4528 | F89: 4568 | G89: 4604 | H89: 4595 | I89: 4599 | J89: 4586 | K89: 4603 | L89: 4580 | M89: 4550 | N89: 4520 | O89: 4508 | P89: 4502 | Q89: 4519 | R89: 4563 | S89: 4629 | T89: 4674 | U89: 4733 | V89: 4804 | W89: 4859 | X89: 4852 | Y89: 4841 | Z89: 4816 | AA89: 4787 | AB89: 4736
A90: 35-39 - Horsham | B90: 35 | C90: 4597 | D90: 4803 | E90: 5006 | F90: 5148 | G90: 5239 | H90: 5361 | I90: 5409 | J90: 5439 | K90: 5451 | L90: 5467 | M90: 5463 | N90: 5470 | O90: 5454 | P90: 5461 | Q90: 5438 | R90: 5399 | S90: 5368 | T90: 5362 | U90: 5364 | V90: 5387 | W90: 5442 | X90: 5519 | Y90: 5573 | Z90: 5639 | AA90: 5717 | AB90: 5780
A91: 40-44 - Horsham | B91: 40 | C91: 4774 | D91: 4929 | E91: 4972 | F91: 5003 | G91: 5132 | H91: 5262 | I91: 5435 | J91: 5614 | K91: 5755 | L91: 5844 | M91: 5958 | N91: 5995 | O91: 6017 | P91: 6020 | Q91: 6022 | R91: 6018 | S91: 6025 | T91: 6006 | U91: 6009 | V91: 5985 | W91: 5939 | X91: 5906 | Y91: 5903 | Z91: 5910 | AA91: 5939 | AB91: 5999
A92: 45-49 - Horsham | B92: 45 | C92: 4689 | D92: 4650 | E92: 4786 | F92: 4886 | G92: 5045 | H92: 5172 | I92: 5304 | J92: 5331 | K92: 5358 | L92: 5474 | M92: 5597 | N92: 5763 | O92: 5936 | P92: 6072 | Q92: 6161 | R92: 6265 | S92: 6292 | T92: 6310 | U92: 6306 | V92: 6301 | W92: 6297 | X92: 6302 | Y92: 6286 | Z92: 6284 | AA92: 6259 | AB92: 6211
A93: 50-54 - Horsham | B93: 50 | C93: 5546 | D93: 5467 | E93: 5318 | F93: 5303 | G93: 5103 | H93: 4953 | I93: 4907 | J93: 5027 | K93: 5133 | L93: 5291 | M93: 5422 | N93: 5550 | O93: 5578 | P93: 5601 | Q93: 5705 | R93: 5820 | S93: 5980 | T93: 6145 | U93: 6276 | V93: 6361 | W93: 6458 | X93: 6478 | Y93: 6493 | Z93: 6484 | AA93: 6474 | AB93: 6470
A94: 55-59 - Horsham | B94: 55 | C94: 5839 | D94: 5845 | E94: 5810 | F94: 5682 | G94: 5648 | H94: 5581 | I94: 5499 | J94: 5357 | K94: 5337 | L94: 5153 | M94: 5016 | N94: 4974 | O94: 5086 | P94: 5197 | Q94: 5351 | R94: 5478 | S94: 5598 | T94: 5625 | U94: 5648 | V94: 5740 | W94: 5845 | X94: 5993 | Y94: 6150 | Z94: 6272 | AA94: 6355 | AB94: 6443
... A101: 90+ - Horsham | B101: 90 | C101: 1299 | D101: 1296 | E101: 1301 | F101: 1345 | G101: 1391 | H101: 1407 | I101: 1450 | J101: 1505 | K101: 1559 | L101: 1580 | M101: 1618 | N101: 1737 | O101: 1847 | P101: 1946 | Q101: 2054 | R101: 2257 | S101: 2420 | T101: 2507 | U101: 2573 | V101: 2618 | W101: 2654 | X101: 2675 | Y101: 2706 | Z101: 2749 | AA101: 2789 | AB101: 2858
A102: All Ages - Mid Sussex | B102: Mid Sussex | C102: 79718 | D102: 80674 | E102: 81583 | F102: 82270 | G102: 82908 | H102: 83510 | I102: 84111 | J102: 84713 | K102: 85296 | L102: 85895 | M102: 86509 | N102: 87101 | O102: 87673 | P102: 88212 | Q102: 88744 | R102: 89276 | S102: 89797 | T102: 90309 | U102: 90822 | V102: 91321 | W102: 91844 | X102: 92367 | Y102: 92875 | Z102: 93367 | AA102: 93846 | AB102: 94319
A103: 0-4 - Mid Sussex | B103: 0 | C103: 4168 | D103: 4120 | E103: 4059 | F103: 4007 | G103: 3972 | H103: 3910 | I103: 3935 | J103: 3964 | K103: 3985 | L103: 4002 | M103: 4014 | N103: 4028 | O103: 4043 | P103: 4057 | Q103: 4074 | R103: 4095 | S103: 4119 | T103: 4148 | U103: 4179 | V103: 4212 | W103: 4247 | X103: 4283 | Y103: 4316 | Z103: 4346 | AA103: 4372 | AB103: 4394
A104: 5-9 - Mid Sussex | B104: 5 | C104: 4637 | D104: 4691 | E104: 4704 | F104: 4701 | G104: 4634 | H104: 4628 | I104: 4550 | J104: 4470 | K104: 4415 | L104: 4384 | M104: 4326 | N104: 4352 | O104: 4380 | P104: 4398 | Q104: 4415 | R104: 4427 | S104: 4442 | T104: 4457 | U104: 4473 | V104: 4491 | W104: 4513 | X104: 4540 | Y104: 4570 | Z104: 4605 | AA104: 4640 | AB104: 4678
A105: 10-14 - Mid Sussex | B105: 10 | C105: 4965 | D105: 4955 | E105: 5001 | F105: 4972 | G105: 4932 | H105: 4916 | I105: 4936 | J105: 4929 | K105: 4916 | L105: 4847 | M105: 4837 | N105: 4757 | O105: 4675 | P105: 4618 | Q105: 4585 | R105: 4529 | S105: 4553 | T105: 4578 | U105: 4596 | V105: 4610 | W105: 4622 | X105: 4638 | Y105: 4652 | Z105: 4669 | AA105: 4689 | AB105: 4711
A106: 15-19 - Mid Sussex | B106: 15 | C106: 4027 | D106: 4112 | E106: 4216 | F106: 4313 | G106: 4437 | H106: 4478 | I106: 4451 | J106: 4442 | K106: 4387 | L106: 4382 | M106: 4385 | N106: 4381 | O106: 4373 | P106: 4336 | Q106: 4282 | R106: 4275 | S106: 4193 | T106: 4121 | U106: 4071 | V106: 4031 | W106: 4019 | X106: 4040 | Y106: 4056 | Z106: 4067 | AA106: 4078 | AB106: 4089
A107: 20-24 - Mid Sussex | B107: 20 | C107: 2844 | D107: 2819 | E107: 2762 | F107: 2702 | G107: 2686 | H107: 2694 | I107: 2720 | J107: 2747 | K107: 2794 | L107: 2855 | M107: 2892 | N107: 2885 | O107: 2893 | P107: 2879 | Q107: 2861 | R107: 2830 | S107: 2814 | T107: 2802 | U107: 2779 | V107: 2735 | W107: 2710 | X107: 2669 | Y107: 2631 | Z107: 2596 | AA107: 2576 | AB107: 2549
A108: 25-29 - Mid Sussex | B108: 25 | C108: 3883 | D108: 3962 | E108: 4005 | F108: 4020 | G108: 4031 | H108: 3998 | I108: 3955 | J108: 3935 | K108: 3925 | L108: 3941 | M108: 3983 | N108: 4047 | O108: 4091 | P108: 4147 | Q108: 4213 | R108: 4262 | S108: 4253 | T108: 4244 | U108: 4220 | V108: 4195 | W108: 4150 | X108: 4116 | Y108: 4087 | Z108: 4049 | AA108: 3986 | AB108: 3946
A109: 30-34 - Mid Sussex | B109: 30 | C109: 4912 | D109: 5012 | E109: 5015 | F109: 4978 | G109: 4970 | H109: 4955 | I109: 4968 | J109: 4959 | K109: 4959 | L109: 4960 | M109: 4921 | N109: 4885 | O109: 4878 | P109: 4880 | Q109: 4904 | R109: 4956 | S109: 5031 | T109: 5081 | U109: 5145 | V109: 5219 | W109: 5277 | X109: 5270 | Y109: 5257 | Z109: 5230 | AA109: 5199 | AB109: 5144
A110: 35-39 - Mid Sussex | B110: 35 | C110: 5280 | D110: 5452 | E110: 5764 | F110: 5964 | G110: 6032 | H110: 6103 | I110: 6148 | J110: 6127 | K110: 6082 | L110: 6069 | M110: 6064 | N110: 6080 | O110: 6067 | P110: 6063 | Q110: 6056 | R110: 6005 | S110: 5971 | T110: 5968 | U110: 5977 | V110: 6008 | W110: 6072 | X110: 6162 | Y110: 6219 | Z110: 6292 | AA110: 6375 | AB110: 6442
A111: 40-44 - Mid Sussex | B111: 40 | C111: 5641 | D111: 5796 | E111: 5748 | F111: 5775 | G111: 5894 | H111: 5981 | I111: 6121 | J111: 6380 | K111: 6560 | L111: 6637 | M111: 6711 | N111: 6745 | O111: 6727 | P111: 6683 | Q111: 6665 | R111: 6663 | S111: 6679 | T111: 6667 | U111: 6658 | V111: 6646 | W111: 6592 | X111: 6557 | Y111: 6559 | Z111: 6574 | AA111: 6609 | AB111: 6676
A112: 45-49 - Mid Sussex | B112: 45 | C112: 5475 | D112: 5410 | E112: 5451 | F112: 5565 | G112: 5698 | H112: 5927 | I112: 6060 | J112: 6014 | K112: 6038 | L112: 6146 | M112: 6234 | N112: 6372 | O112: 6609 | P112: 6778 | Q112: 6856 | R112: 6926 | S112: 6952 | T112: 6937 | U112: 6896 | V112: 6877 | W112: 6874 | X112: 6890 | Y112: 6876 | Z112: 6867 | AA112: 6852 | AB112: 6796
A113: 50-54 - Mid Sussex | B113: 50 | C113: 5772 | D113: 5792 | E113: 5840 | F113: 5777 | G113: 5613 | H113: 5482 | I113: 5407 | J113: 5450 | K113: 5565 | L113: 5700 | M113: 5911 | N113: 6040 | O113: 6004 | P113: 6030 | Q113: 6125 | R113: 6210 | S113: 6342 | T113: 6558 | U113: 6711 | V113: 6787 | W113: 6852 | X113: 6874 | Y113: 6861 | Z113: 6823 | AA113: 6799 | AB113: 6799
A114: 55-59 - Mid Sussex | B114: 55 | C114: 5532 | D114: 5538 | E114: 5506 | F114: 5546 | G114: 5623 | H114: 5576 | I114: 5569 | J114: 5589 | K114: 5528 | L114: 5376 | M114: 5257 | N114: 5196 | O114: 5242 | P114: 5354 | Q114: 5484 | R114: 5673 | S114: 5793 | T114: 5770 | U114: 5794 | V114: 5877 | W114: 5958 | X114: 6079 | Y114: 6273 | Z114: 6412 | AA114: 6482 | AB114: 6543
... A121: 90+ - Mid Sussex | B121: 90 | C121: 1307 | D121: 1287 | E121: 1282 | F121: 1291 | G121: 1332 | H121: 1350 | I121: 1390 | J121: 1447 | K121: 1482 | L121: 1480 | M121: 1529 | N121: 1616 | O121: 1741 | P121: 1843 | Q121: 1946 | R121: 2143 | S121: 2281 | T121: 2366 | U121: 2405 | V121: 2437 | W121: 2460 | X121: 2477 | Y121: 2509 | Z121: 2533 | AA121: 2578 | AB121: 2615
A122: All Ages - Worthing | B122: Worthing | C122: 57919 | D122: 58358 | E122: 58781 | F122: 59109 | G122: 59404 | H122: 59696 | I122: 59999 | J122: 60313 | K122: 60632 | L122: 60942 | M122: 61256 | N122: 61571 | O122: 61878 | P122: 62168 | Q122: 62463 | R122: 62755 | S122: 63036 | T122: 63314 | U122: 63594 | V122: 63876 | W122: 64161 | X122: 64444 | Y122: 64726 | Z122: 65002 | AA122: 65277 | AB122: 65544
A123: 0-4 - Worthing | B123: 0 | C123: 2615 | D123: 2573 | E123: 2495 | F123: 2428 | G123: 2383 | H123: 2357 | I123: 2350 | J123: 2346 | K123: 2345 | L123: 2348 | M123: 2349 | N123: 2350 | O123: 2350 | P123: 2356 | Q123: 2360 | R123: 2368 | S123: 2378 | T123: 2389 | U123: 2403 | V123: 2418 | W123: 2433 | X123: 2446 | Y123: 2459 | Z123: 2468 | AA123: 2477 | AB123: 2480
A124: 5-9 - Worthing | B124: 5 | C124: 2920 | D124: 2882 | E124: 2879 | F124: 2837 | G124: 2739 | H124: 2693 | I124: 2641 | J124: 2561 | K124: 2501 | L124: 2462 | M124: 2438 | N124: 2432 | O124: 2431 | P124: 2430 | Q124: 2431 | R124: 2433 | S124: 2433 | T124: 2437 | U124: 2440 | V124: 2446 | W124: 2455 | X124: 2466 | Y124: 2478 | Z124: 2493 | AA124: 2508 | AB124: 2523
A125: 10-14 - Worthing | B125: 10 | C125: 3080 | D125: 3069 | E125: 3046 | F125: 3032 | G125: 3049 | H125: 2949 | I125: 2903 | J125: 2893 | K125: 2850 | L125: 2758 | M125: 2716 | N125: 2665 | O125: 2589 | P125: 2530 | Q125: 2496 | R125: 2473 | S125: 2468 | T125: 2466 | U125: 2466 | V125: 2467 | W125: 2470 | X125: 2470 | Y125: 2474 | Z125: 2477 | AA125: 2484 | AB125: 2492
A126: 15-19 - Worthing | B126: 15 | C126: 2639 | D126: 2740 | E126: 2810 | F126: 2851 | G126: 2894 | H126: 2951 | I126: 2933 | J126: 2905 | K126: 2892 | L126: 2894 | M126: 2816 | N126: 2776 | O126: 2761 | P126: 2715 | Q126: 2644 | R126: 2604 | S126: 2547 | T126: 2480 | U126: 2433 | V126: 2405 | W126: 2386 | X126: 2383 | Y126: 2382 | Z126: 2383 | AA126: 2384 | AB126: 2385
A127: 20-24 - Worthing | B127: 20 | C127: 2516 | D127: 2448 | E127: 2425 | F127: 2427 | G127: 2436 | H127: 2472 | I127: 2531 | J127: 2569 | K127: 2605 | L127: 2648 | M127: 2699 | N127: 2690 | O127: 2679 | P127: 2669 | Q127: 2663 | R127: 2608 | S127: 2577 | T127: 2568 | U127: 2537 | V127: 2482 | W127: 2447 | X127: 2408 | Y127: 2363 | Z127: 2327 | AA127: 2305 | AB127: 2282
A128: 25-29 - Worthing | B128: 25 | C128: 3175 | D128: 3207 | E128: 3263 | F128: 3269 | G128: 3246 | H128: 3195 | I128: 3135 | J128: 3121 | K128: 3127 | L128: 3149 | M128: 3195 | N128: 3265 | O128: 3310 | P128: 3354 | Q128: 3404 | R128: 3454 | S128: 3445 | T128: 3429 | U128: 3413 | V128: 3398 | W128: 3348 | X128: 3313 | Y128: 3291 | Z128: 3256 | AA128: 3197 | AB128: 3160
A129: 30-34 - Worthing | B129: 30 | C129: 3751 | D129: 3793 | E129: 3763 | F129: 3694 | G129: 3651 | H129: 3632 | I129: 3627 | J129: 3635 | K129: 3631 | L129: 3603 | M129: 3553 | N129: 3505 | O129: 3496 | P129: 3501 | Q129: 3526 | R129: 3574 | S129: 3642 | T129: 3685 | U129: 3733 | V129: 3786 | W129: 3834 | X129: 3827 | Y129: 3813 | Z129: 3795 | AA129: 3776 | AB129: 3728
A130: 35-39 - Worthing | B130: 35 | C130: 3667 | D130: 3740 | E130: 3908 | F130: 4015 | G130: 4072 | H130: 4131 | I130: 4143 | J130: 4112 | K130: 4058 | L130: 4019 | M130: 4004 | N130: 4002 | O130: 4003 | P130: 3993 | Q130: 3966 | R130: 3913 | S130: 3869 | T130: 3863 | U130: 3870 | V130: 3896 | W130: 3945 | X130: 4016 | Y130: 4059 | Z130: 4110 | AA130: 4165 | AB130: 4213
A131: 40-44 - Worthing | B131: 40 | C131: 3813 | D131: 3886 | E131: 3846 | F131: 3798 | G131: 3880 | H131: 3908 | I131: 3975 | J131: 4117 | K131: 4215 | L131: 4276 | M131: 4337 | N131: 4343 | O131: 4323 | P131: 4277 | Q131: 4239 | R131: 4228 | S131: 4226 | T131: 4222 | U131: 4210 | V131: 4184 | W131: 4130 | X131: 4091 | Y131: 4086 | Z131: 4095 | AA131: 4123 | AB131: 4172
A132: 45-49 - Worthing | B132: 45 | C132: 3692 | D132: 3653 | E132: 3660 | F132: 3833 | G132: 3852 | H132: 3964 | I132: 4025 | J132: 3994 | K132: 3952 | L132: 4025 | M132: 4061 | N132: 4133 | O132: 4266 | P132: 4360 | Q132: 4422 | R132: 4479 | S132: 4482 | T132: 4467 | U132: 4426 | V132: 4390 | W132: 4382 | X132: 4379 | Y132: 4374 | Z132: 4363 | AA132: 4336 | AB132: 4283
A133: 50-54 - Worthing | B133: 50 | C133: 4165 | D133: 4117 | E133: 4052 | F133: 3997 | G133: 3905 | H133: 3785 | I133: 3739 | J133: 3745 | K133: 3900 | L133: 3933 | M133: 4040 | N133: 4104 | O133: 4081 | P133: 4045 | Q133: 4113 | R133: 4151 | S133: 4227 | T133: 4352 | U133: 4442 | V133: 4505 | W133: 4560 | X133: 4562 | Y133: 4548 | Z133: 4514 | AA133: 4479 | AB133: 4471
A134: 55-59 - Worthing | B134: 55 | C134: 4129 | D134: 4193 | E134: 4209 | F134: 4142 | G134: 4172 | H134: 4195 | I134: 4140 | J134: 4069 | K134: 4015 | L134: 3921 | M134: 3809 | N134: 3762 | O134: 3774 | P134: 3914 | Q134: 3957 | R134: 4061 | S134: 4125 | T134: 4108 | U134: 4080 | V134: 4141 | W134: 4182 | X134: 4261 | Y134: 4378 | Z134: 4466 | AA134: 4529 | AB134: 4580
... A141: 90+ - Worthing | B141: 90 | C141: 1114 | D141: 1074 | E141: 1088 | F141: 1082 | G141: 1093 | H141: 1124 | I141: 1154 | J141: 1183 | K141: 1212 | L141: 1211 | M141: 1240 | N141: 1313 | O141: 1380 | P141: 1453 | Q141: 1532 | R141: 1706 | S141: 1809 | T141: 1876 | U141: 1910 | V141: 1931 | W141: 1938 | X141: 1951 | Y141: 1961 | Z141: 1978 | AA141: 2003 | AB141: 2041
A142: All Ages West Sussex | B142: West Sussex | C142: =SUM(C143:C161) -> 459452 | D142: =SUM(D143:D161) -> 464113 | E142: =SUM(E143:E161) -> 468571 | F142: =SUM(F143:F161) -> 471911 | G142: =SUM(G143:G161) -> 474972 | H142: =SUM(H143:H161) -> 477902 | I142: =SUM(I143:I161) -> 480910 | J142: =SUM(J143:J161) -> 483993 | ... AB142: =SUM(AB143:AB161) -> 531305
...
