Workbook

Sheet Dementia22-47
A1: West Sussex | B1: % Increase 2025-2035 | C1: %Increase 2022-2047 | D1: Total Increase 2025-2035 | E1: Total Increase 2022-2047 | F1: 2022 | G1: 2023 | H1: 2024 | I1: 2025 | J1: 2026 | K1: 2027 | L1: 2028 | M1: 2029 | N1: 2030 | O1: 2031 | P1: 2032 | Q1: 2033 | R1: 2034 | S1: 2035 | T1: 2036 | U1: 2037 | V1: 2038 | W1: 2039 | X1: 2040 | Y1: 2041 | Z1: 2042 | AA1: 2043 | AB1: 2044 | AC1: 2045 | AD1: 2046 | AE1: 2047
A2: All dementia | B2: =S2/I2-1 -> 0.28310502 | C2: =AE2/F2-1 -> 0.70262794 | D2: =S2-I2 -> 4340 | E2: =AE2-F2 -> 10160 | F2: =ROUND((SUMPRODUCT('Males 5y'!C$149:C$161,Rates!$E$2:$E$14)+SUMPRODUCT(Rates!$F$2:$F$14,'Females 5y'!C$149:C$161)),-1) -> 14460 | G2: =ROUND((SUMPRODUCT('Males 5y'!D$149:D$161,Rates!$E$2:$E$14)+SUMPRODUCT(Rates!$F$2:$F$14,'Females 5y'!D$149:D$161)),-1) -> 14700 | H2: =ROUND((SUMPRODUCT('Males 5y'!E$149:E$161,Rates!$E$2:$E$14)+SUMPRODUCT(Rates!$F$2:$F$14,'Females 5y'!E$149:E$161)),-1) -> 15010 | I2: =ROUND((SUMPRODUCT('Males 5y'!F$149:F$161,Rates!$E$2:$E$14)+SUMPRODUCT(Rates!$F$2:$F$14,'Females 5y'!F$149:F$161)),-1) -> 15330 | J2: =ROUND((SUMPRODUCT('Males 5y'!G$149:G$161,Rates!$E$2:$E$14)+SUMPRODUCT(Rates!$F$2:$F$14,'Females 5y'!G$149:G$161)),-1) -> 15630 | K2: =ROUND((SUMPRODUCT('Males 5y'!H$149:H$161,Rates!$E$2:$E$14)+SUMPRODUCT(Rates!$F$2:$F$14,'Females 5y'!H$149:H$161)),-1) -> 16070 | L2: =ROUND((SUMPRODUCT('Males 5y'!I$149:I$161,Rates!$E$2:$E$14)+SUMPRODUCT(Rates!$F$2:$F$14,'Females 5y'!I$149:I$161)),-1) -> 16520 | M2: =ROUND((SUMPRODUCT('Males 5y'!J$149:J$161,Rates!$E$2:$E$14)+SUMPRODUCT(Rates!$F$2:$F$14,'Females 5y'!J$149:J$161)),-1) -> 16970 | ... AE2: =ROUND((SUMPRODUCT('Males 5y'!AB$149:AB$161,Rates!$E$2:$E$14)+SUMPRODUCT(Rates!$F$2:$F$14,'Females 5y'!AB$149:AB$161)),-1) -> 24620
A3: Late Onset - Mild | B3: =S3/I3-1 -> 0.28211285 | C3: =AE3/F3-1 -> 0.69171975 | D3: =S3-I3 -> 2350 | E3: =AE3-F3 -> 5430 | F3: =ROUND(SUMPRODUCT(Rates!$E$9:$E$14,Rates!$L$3:$L$8,'Males 5y'!C$156:C$161)+SUMPRODUCT(Rates!$F$9:$F$14,Rates!$L$3:$L$8,'Females 5y'!C$156:C$161),-1) -> 7850 | G3: =ROUND(SUMPRODUCT(Rates!$E$9:$E$14,Rates!$L$3:$L$8,'Males 5y'!D$156:D$161)+SUMPRODUCT(Rates!$F$9:$F$14,Rates!$L$3:$L$8,'Females 5y'!D$156:D$161),-1) -> 7980 | H3: =ROUND(SUMPRODUCT(Rates!$E$9:$E$14,Rates!$L$3:$L$8,'Males 5y'!E$156:E$161)+SUMPRODUCT(Rates!$F$9:$F$14,Rates!$L$3:$L$8,'Females 5y'!E$156:E$161),-1) -> 8160 | I3: =ROUND(SUMPRODUCT(Rates!$E$9:$E$14,Rates!$L$3:$L$8,'Males 5y'!F$156:F$161)+SUMPRODUCT(Rates!$F$9:$F$14,Rates!$L$3:$L$8,'Females 5y'!F$156:F$161),-1) -> 8330 | J3: =ROUND(SUMPRODUCT(Rates!$E$9:$E$14,Rates!$L$3:$L$8,'Males 5y'!G$156:G$161)+SUMPRODUCT(Rates!$F$9:$F$14,Rates!$L$3:$L$8,'Females 5y'!G$156:G$161),-1) -> 8500 | K3: =ROUND(SUMPRODUCT(Rates!$E$9:$E$14,Rates!$L$3:$L$8,'Males 5y'!H$156:H$161)+SUMPRODUCT(Rates!$F$9:$F$14,Rates!$L$3:$L$8,'Females 5y'!H$156:H$161),-1) -> 8740 | L3: =ROUND(SUMPRODUCT(Rates!$E$9:$E$14,Rates!$L$3:$L$8,'Males 5y'!I$156:I$161)+SUMPRODUCT(Rates!$F$9:$F$14,Rates!$L$3:$L$8,'Females 5y'!I$156:I$161),-1) -> 8990 | M3: =ROUND(SUMPRODUCT(Rates!$E$9:$E$14,Rates!$L$3:$L$8,'Males 5y'!J$156:J$161)+SUMPRODUCT(Rates!$F$9:$F$14,Rates!$L$3:$L$8,'Females 5y'!J$156:J$161),-1) -> 9240 | ... AE3: =ROUND(SUMPRODUCT(Rates!$E$9:$E$14,Rates!$L$3:$L$8,'Males 5y'!AB$156:AB$161)+SUMPRODUCT(Rates!$F$9:$F$14,Rates!$L$3:$L$8,'Females 5y'!AB$156:AB$161),-1) -> 13280
A4: Late Onset - Moderate | B4: =S4/I4-1 -> 0.29132231 | C4: =AE4/F4-1 -> 0.72149123 | D4: =S4-I4 -> 1410 | E4: =AE4-F4 -> 3290 | F4: =ROUND(SUMPRODUCT(Rates!$E$9:$E$14,Rates!$M$3:$M$8,'Males 5y'!C$156:C$161)+SUMPRODUCT(Rates!$F$9:$F$14,Rates!$M$3:$M$8,'Females 5y'!C$156:C$161),-1) -> 4560 | G4: =ROUND(SUMPRODUCT(Rates!$E$9:$E$14,Rates!$M$3:$M$8,'Males 5y'!D$156:D$161)+SUMPRODUCT(Rates!$F$9:$F$14,Rates!$M$3:$M$8,'Females 5y'!D$156:D$161),-1) -> 4640 | H4: =ROUND(SUMPRODUCT(Rates!$E$9:$E$14,Rates!$M$3:$M$8,'Males 5y'!E$156:E$161)+SUMPRODUCT(Rates!$F$9:$F$14,Rates!$M$3:$M$8,'Females 5y'!E$156:E$161),-1) -> 4740 | I4: =ROUND(SUMPRODUCT(Rates!$E$9:$E$14,Rates!$M$3:$M$8,'Males 5y'!F$156:F$161)+SUMPRODUCT(Rates!$F$9:$F$14,Rates!$M$3:$M$8,'Females 5y'!F$156:F$161),-1) -> 4840 | J4: =ROUND(SUMPRODUCT(Rates!$E$9:$E$14,Rates!$M$3:$M$8,'Males 5y'!G$156:G$161)+SUMPRODUCT(Rates!$F$9:$F$14,Rates!$M$3:$M$8,'Females 5y'!G$156:G$161),-1) -> 4930 | K4: =ROUND(SUMPRODUCT(Rates!$E$9:$E$14,Rates!$M$3:$M$8,'Males 5y'!H$156:H$161)+SUMPRODUCT(Rates!$F$9:$F$14,Rates!$M$3:$M$8,'Females 5y'!H$156:H$161),-1) -> 5070 | L4: =ROUND(SUMPRODUCT(Rates!$E$9:$E$14,Rates!$M$3:$M$8,'Males 5y'!I$156:I$161)+SUMPRODUCT(Rates!$F$9:$F$14,Rates!$M$3:$M$8,'Females 5y'!I$156:I$161),-1) -> 5220 | M4: =ROUND(SUMPRODUCT(Rates!$E$9:$E$14,Rates!$M$3:$M$8,'Males 5y'!J$156:J$161)+SUMPRODUCT(Rates!$F$9:$F$14,Rates!$M$3:$M$8,'Females 5y'!J$156:J$161),-1) -> 5370 | ... AE4: =ROUND(SUMPRODUCT(Rates!$E$9:$E$14,Rates!$M$3:$M$8,'Males 5y'!AB$156:AB$161)+SUMPRODUCT(Rates!$F$9:$F$14,Rates!$M$3:$M$8,'Females 5y'!AB$156:AB$161),-1) -> 7850
A5: Late Onset - Severe | B5: =S5/I5-1 -> 0.30366492 | C5: =AE5/F5-1 -> 0.7679558 | D5: =S5-I5 -> 580 | E5: =AE5-F5 -> 1390 | F5: =ROUND(SUMPRODUCT(Rates!$E$9:$E$14,Rates!$N$3:$N$8,'Males 5y'!C$156:C$161)+SUMPRODUCT(Rates!$F$9:$F$14,Rates!$N$3:$N$8,'Females 5y'!C$156:C$161),-1) -> 1810 | G5: =ROUND(SUMPRODUCT(Rates!$E$9:$E$14,Rates!$N$3:$N$8,'Males 5y'!D$156:D$161)+SUMPRODUCT(Rates!$F$9:$F$14,Rates!$N$3:$N$8,'Females 5y'!D$156:D$161),-1) -> 1830 | H5: =ROUND(SUMPRODUCT(Rates!$E$9:$E$14,Rates!$N$3:$N$8,'Males 5y'!E$156:E$161)+SUMPRODUCT(Rates!$F$9:$F$14,Rates!$N$3:$N$8,'Females 5y'!E$156:E$161),-1) -> 1870 | I5: =ROUND(SUMPRODUCT(Rates!$E$9:$E$14,Rates!$N$3:$N$8,'Males 5y'!F$156:F$161)+SUMPRODUCT(Rates!$F$9:$F$14,Rates!$N$3:$N$8,'Females 5y'!F$156:F$161),-1) -> 1910 | J5: =ROUND(SUMPRODUCT(Rates!$E$9:$E$14,Rates!$N$3:$N$8,'Males 5y'!G$156:G$161)+SUMPRODUCT(Rates!$F$9:$F$14,Rates!$N$3:$N$8,'Females 5y'!G$156:G$161),-1) -> 1940 | K5: =ROUND(SUMPRODUCT(Rates!$E$9:$E$14,Rates!$N$3:$N$8,'Males 5y'!H$156:H$161)+SUMPRODUCT(Rates!$F$9:$F$14,Rates!$N$3:$N$8,'Females 5y'!H$156:H$161),-1) -> 1990 | L5: =ROUND(SUMPRODUCT(Rates!$E$9:$E$14,Rates!$N$3:$N$8,'Males 5y'!I$156:I$161)+SUMPRODUCT(Rates!$F$9:$F$14,Rates!$N$3:$N$8,'Females 5y'!I$156:I$161),-1) -> 2050 | M5: =ROUND(SUMPRODUCT(Rates!$E$9:$E$14,Rates!$N$3:$N$8,'Males 5y'!J$156:J$161)+SUMPRODUCT(Rates!$F$9:$F$14,Rates!$N$3:$N$8,'Females 5y'!J$156:J$161),-1) -> 2110 | ... AE5: =ROUND(SUMPRODUCT(Rates!$E$9:$E$14,Rates!$N$3:$N$8,'Males 5y'!AB$156:AB$161)+SUMPRODUCT(Rates!$F$9:$F$14,Rates!$N$3:$N$8,'Females 5y'!AB$156:AB$161),-1) -> 3200
A6: Alzheimer’s disease | B6: =S6/I6-1 -> 0.28421053 | C6: =AE6/F6-1 -> 0.70122631 | D6: =S6-I6 -> 2700 | E6: =AE6-F6 -> 6290 | F6: =ROUND((F$2*Rates!$I$3),-1) -> 8970 | G6: =ROUND((G$2*Rates!$I$3),-1) -> 9110 | H6: =ROUND((H$2*Rates!$I$3),-1) -> 9310 | I6: =ROUND((I$2*Rates!$I$3),-1) -> 9500 | J6: =ROUND((J$2*Rates!$I$3),-1) -> 9690 | K6: =ROUND((K$2*Rates!$I$3),-1) -> 9960 | L6: =ROUND((L$2*Rates!$I$3),-1) -> 10240 | M6: =ROUND((M$2*Rates!$I$3),-1) -> 10520 | ... AE6: =ROUND((AE$2*Rates!$I$3),-1) -> 15260
A7: Vascular dementia | B7: =S7/I7-1 -> 0.27969349 | C7: =AE7/F7-1 -> 0.70325203 | D7: =S7-I7 -> 730 | E7: =AE7-F7 -> 1730 | F7: =ROUND((F$2*Rates!$I$4),-1) -> 2460 | G7: =ROUND((G$2*Rates!$I$4),-1) -> 2500 | H7: =ROUND((H$2*Rates!$I$4),-1) -> 2550 | I7: =ROUND((I$2*Rates!$I$4),-1) -> 2610 | J7: =ROUND((J$2*Rates!$I$4),-1) -> 2660 | K7: =ROUND((K$2*Rates!$I$4),-1) -> 2730 | L7: =ROUND((L$2*Rates!$I$4),-1) -> 2810 | M7: =ROUND((M$2*Rates!$I$4),-1) -> 2880 | ... AE7: =ROUND((AE$2*Rates!$I$4),-1) -> 4190
A8: Mixed (AD and VD) | B8: =S8/I8-1 -> 0.2875817 | C8: =AE8/F8-1 -> 0.69655172 | D8: =S8-I8 -> 440 | E8: =AE8-F8 -> 1010 | F8: =ROUND((F$2*Rates!$I$5),-1) -> 1450 | G8: =ROUND((G$2*Rates!$I$5),-1) -> 1470 | H8: =ROUND((H$2*Rates!$I$5),-1) -> 1500 | I8: =ROUND((I$2*Rates!$I$5),-1) -> 1530 | J8: =ROUND((J$2*Rates!$I$5),-1) -> 1560 | K8: =ROUND((K$2*Rates!$I$5),-1) -> 1610 | L8: =ROUND((L$2*Rates!$I$5),-1) -> 1650 | M8: =ROUND((M$2*Rates!$I$5),-1) -> 1700 | ... AE8: =ROUND((AE$2*Rates!$I$5),-1) -> 2460
A9: Dementia with Lewy bodies | B9: =S9/I9-1 -> 0.29508197 | C9: =AE9/F9-1 -> 0.68965517 | D9: =S9-I9 -> 180 | E9: =AE9-F9 -> 400 | F9: =ROUND((F$2*Rates!$I$6),-1) -> 580 | G9: =ROUND((G$2*Rates!$I$6),-1) -> 590 | H9: =ROUND((H$2*Rates!$I$6),-1) -> 600 | I9: =ROUND((I$2*Rates!$I$6),-1) -> 610 | J9: =ROUND((J$2*Rates!$I$6),-1) -> 630 | K9: =ROUND((K$2*Rates!$I$6),-1) -> 640 | L9: =ROUND((L$2*Rates!$I$6),-1) -> 660 | M9: =ROUND((M$2*Rates!$I$6),-1) -> 680 | ... AE9: =ROUND((AE$2*Rates!$I$6),-1) -> 980
A10: Frontotemporal dementia | B10: =S10/I10-1 -> 0.25806452 | C10: =AE10/F10-1 -> 0.68965517 | D10: =S10-I10 -> 80 | E10: =AE10-F10 -> 200 | F10: =ROUND((F$2*Rates!$I$7),-1) -> 290 | G10: =ROUND((G$2*Rates!$I$7),-1) -> 290 | H10: =ROUND((H$2*Rates!$I$7),-1) -> 300 | I10: =ROUND((I$2*Rates!$I$7),-1) -> 310 | J10: =ROUND((J$2*Rates!$I$7),-1) -> 310 | K10: =ROUND((K$2*Rates!$I$7),-1) -> 320 | L10: =ROUND((L$2*Rates!$I$7),-1) -> 330 | M10: =ROUND((M$2*Rates!$I$7),-1) -> 340 | ... AE10: =ROUND((AE$2*Rates!$I$7),-1) -> 490
A11: Parkinsons’ dementia | B11: =S11/I11-1 -> 0.25806452 | C11: =AE11/F11-1 -> 0.68965517 | D11: =S11-I11 -> 80 | E11: =AE11-F11 -> 200 | F11: =ROUND((F$2*Rates!$I$8),-1) -> 290 | G11: =ROUND((G$2*Rates!$I$8),-1) -> 290 | H11: =ROUND((H$2*Rates!$I$8),-1) -> 300 | I11: =ROUND((I$2*Rates!$I$8),-1) -> 310 | J11: =ROUND((J$2*Rates!$I$8),-1) -> 310 | K11: =ROUND((K$2*Rates!$I$8),-1) -> 320 | L11: =ROUND((L$2*Rates!$I$8),-1) -> 330 | M11: =ROUND((M$2*Rates!$I$8),-1) -> 340 | ... AE11: =ROUND((AE$2*Rates!$I$8),-1) -> 490
A12: Other | B12: =S12/I12-1 -> 0.2826087 | C12: =AE12/F12-1 -> 0.72093023 | D12: =S12-I12 -> 130 | E12: =AE12-F12 -> 310 | F12: =ROUND((F$2*Rates!$I$9),-1) -> 430 | G12: =ROUND((G$2*Rates!$I$9),-1) -> 440 | H12: =ROUND((H$2*Rates!$I$9),-1) -> 450 | I12: =ROUND((I$2*Rates!$I$9),-1) -> 460 | J12: =ROUND((J$2*Rates!$I$9),-1) -> 470 | K12: =ROUND((K$2*Rates!$I$9),-1) -> 480 | L12: =ROUND((L$2*Rates!$I$9),-1) -> 500 | M12: =ROUND((M$2*Rates!$I$9),-1) -> 510 | ... AE12: =ROUND((AE$2*Rates!$I$9),-1) -> 740
A13: Adur
A14: All dementia | B14: =S14/I14-1 -> 0.18918919 | C14: =AE14/F14-1 -> 0.48598131 | D14: =S14-I14 -> 210 | E14: =AE14-F14 -> 520 | F14: =ROUND((SUMPRODUCT('Males 5y'!C$9:C$21,Rates!$E$2:$E$14)+SUMPRODUCT(Rates!$F$2:$F$14,'Females 5y'!C$9:C$21)),-1) -> 1070 | G14: =ROUND((SUMPRODUCT('Males 5y'!D$9:D$21,Rates!$E$2:$E$14)+SUMPRODUCT(Rates!$F$2:$F$14,'Females 5y'!D$9:D$21)),-1) -> 1080 | H14: =ROUND((SUMPRODUCT('Males 5y'!E$9:E$21,Rates!$E$2:$E$14)+SUMPRODUCT(Rates!$F$2:$F$14,'Females 5y'!E$9:E$21)),-1) -> 1090 | I14: =ROUND((SUMPRODUCT('Males 5y'!F$9:F$21,Rates!$E$2:$E$14)+SUMPRODUCT(Rates!$F$2:$F$14,'Females 5y'!F$9:F$21)),-1) -> 1110 | J14: =ROUND((SUMPRODUCT('Males 5y'!G$9:G$21,Rates!$E$2:$E$14)+SUMPRODUCT(Rates!$F$2:$F$14,'Females 5y'!G$9:G$21)),-1) -> 1120 | K14: =ROUND((SUMPRODUCT('Males 5y'!H$9:H$21,Rates!$E$2:$E$14)+SUMPRODUCT(Rates!$F$2:$F$14,'Females 5y'!H$9:H$21)),-1) -> 1140 | L14: =ROUND((SUMPRODUCT('Males 5y'!I$9:I$21,Rates!$E$2:$E$14)+SUMPRODUCT(Rates!$F$2:$F$14,'Females 5y'!I$9:I$21)),-1) -> 1170 | M14: =ROUND((SUMPRODUCT('Males 5y'!J$9:J$21,Rates!$E$2:$E$14)+SUMPRODUCT(Rates!$F$2:$F$14,'Females 5y'!J$9:J$21)),-1) -> 1190 | ... AE14: =ROUND((SUMPRODUCT('Males 5y'!AB$9:AB$21,Rates!$E$2:$E$14)+SUMPRODUCT(Rates!$F$2:$F$14,'Females 5y'!AB$9:AB$21)),-1) -> 1590
A15: Late Onset - Mild | B15: =S15/I15-1 -> 0.2 | C15: =AE15/F15-1 -> 0.48275862 | D15: =S15-I15 -> 120 | E15: =AE15-F15 -> 280 | F15: =ROUND(SUMPRODUCT(Rates!$E$9:$E$14,Rates!$L$3:$L$8,'Males 5y'!C$16:C$21)+SUMPRODUCT(Rates!$F$9:$F$14,Rates!$L$3:$L$8,'Females 5y'!C$16:C$21),-1) -> 580 | G15: =ROUND(SUMPRODUCT(Rates!$E$9:$E$14,Rates!$L$3:$L$8,'Males 5y'!D$16:D$21)+SUMPRODUCT(Rates!$F$9:$F$14,Rates!$L$3:$L$8,'Females 5y'!D$16:D$21),-1) -> 590 | H15: =ROUND(SUMPRODUCT(Rates!$E$9:$E$14,Rates!$L$3:$L$8,'Males 5y'!E$16:E$21)+SUMPRODUCT(Rates!$F$9:$F$14,Rates!$L$3:$L$8,'Females 5y'!E$16:E$21),-1) -> 590 | I15: =ROUND(SUMPRODUCT(Rates!$E$9:$E$14,Rates!$L$3:$L$8,'Males 5y'!F$16:F$21)+SUMPRODUCT(Rates!$F$9:$F$14,Rates!$L$3:$L$8,'Females 5y'!F$16:F$21),-1) -> 600 | J15: =ROUND(SUMPRODUCT(Rates!$E$9:$E$14,Rates!$L$3:$L$8,'Males 5y'!G$16:G$21)+SUMPRODUCT(Rates!$F$9:$F$14,Rates!$L$3:$L$8,'Females 5y'!G$16:G$21),-1) -> 610 | K15: =ROUND(SUMPRODUCT(Rates!$E$9:$E$14,Rates!$L$3:$L$8,'Males 5y'!H$16:H$21)+SUMPRODUCT(Rates!$F$9:$F$14,Rates!$L$3:$L$8,'Females 5y'!H$16:H$21),-1) -> 620 | L15: =ROUND(SUMPRODUCT(Rates!$E$9:$E$14,Rates!$L$3:$L$8,'Males 5y'!I$16:I$21)+SUMPRODUCT(Rates!$F$9:$F$14,Rates!$L$3:$L$8,'Females 5y'!I$16:I$21),-1) -> 640 | M15: =ROUND(SUMPRODUCT(Rates!$E$9:$E$14,Rates!$L$3:$L$8,'Males 5y'!J$16:J$21)+SUMPRODUCT(Rates!$F$9:$F$14,Rates!$L$3:$L$8,'Females 5y'!J$16:J$21),-1) -> 650 | ... AE15: =ROUND(SUMPRODUCT(Rates!$E$9:$E$14,Rates!$L$3:$L$8,'Males 5y'!AB$16:AB$21)+SUMPRODUCT(Rates!$F$9:$F$14,Rates!$L$3:$L$8,'Females 5y'!AB$16:AB$21),-1) -> 860
A16: Late Onset - Moderate | B16: =S16/I16-1 -> 0.2 | C16: =AE16/F16-1 -> 0.5 | D16: =S16-I16 -> 70 | E16: =AE16-F16 -> 170 | F16: =ROUND(SUMPRODUCT(Rates!$E$9:$E$14,Rates!$M$3:$M$8,'Males 5y'!C$16:C$21)+SUMPRODUCT(Rates!$F$9:$F$14,Rates!$M$3:$M$8,'Females 5y'!C$16:C$21),-1) -> 340 | G16: =ROUND(SUMPRODUCT(Rates!$E$9:$E$14,Rates!$M$3:$M$8,'Males 5y'!D$16:D$21)+SUMPRODUCT(Rates!$F$9:$F$14,Rates!$M$3:$M$8,'Females 5y'!D$16:D$21),-1) -> 340 | H16: =ROUND(SUMPRODUCT(Rates!$E$9:$E$14,Rates!$M$3:$M$8,'Males 5y'!E$16:E$21)+SUMPRODUCT(Rates!$F$9:$F$14,Rates!$M$3:$M$8,'Females 5y'!E$16:E$21),-1) -> 340 | I16: =ROUND(SUMPRODUCT(Rates!$E$9:$E$14,Rates!$M$3:$M$8,'Males 5y'!F$16:F$21)+SUMPRODUCT(Rates!$F$9:$F$14,Rates!$M$3:$M$8,'Females 5y'!F$16:F$21),-1) -> 350 | J16: =ROUND(SUMPRODUCT(Rates!$E$9:$E$14,Rates!$M$3:$M$8,'Males 5y'!G$16:G$21)+SUMPRODUCT(Rates!$F$9:$F$14,Rates!$M$3:$M$8,'Females 5y'!G$16:G$21),-1) -> 350 | K16: =ROUND(SUMPRODUCT(Rates!$E$9:$E$14,Rates!$M$3:$M$8,'Males 5y'!H$16:H$21)+SUMPRODUCT(Rates!$F$9:$F$14,Rates!$M$3:$M$8,'Females 5y'!H$16:H$21),-1) -> 360 | L16: =ROUND(SUMPRODUCT(Rates!$E$9:$E$14,Rates!$M$3:$M$8,'Males 5y'!I$16:I$21)+SUMPRODUCT(Rates!$F$9:$F$14,Rates!$M$3:$M$8,'Females 5y'!I$16:I$21),-1) -> 370 | M16: =ROUND(SUMPRODUCT(Rates!$E$9:$E$14,Rates!$M$3:$M$8,'Males 5y'!J$16:J$21)+SUMPRODUCT(Rates!$F$9:$F$14,Rates!$M$3:$M$8,'Females 5y'!J$16:J$21),-1) -> 380 | ... AE16: =ROUND(SUMPRODUCT(Rates!$E$9:$E$14,Rates!$M$3:$M$8,'Males 5y'!AB$16:AB$21)+SUMPRODUCT(Rates!$F$9:$F$14,Rates!$M$3:$M$8,'Females 5y'!AB$16:AB$21),-1) -> 510
A17: Late Onset - Severe | B17: =S17/I17-1 -> 0.21428571 | C17: =AE17/F17-1 -> 0.53846154 | D17: =S17-I17 -> 30 | E17: =AE17-F17 -> 70 | F17: =ROUND(SUMPRODUCT(Rates!$E$9:$E$14,Rates!$N$3:$N$8,'Males 5y'!C$16:C$21)+SUMPRODUCT(Rates!$F$9:$F$14,Rates!$N$3:$N$8,'Females 5y'!C$16:C$21),-1) -> 130 | G17: =ROUND(SUMPRODUCT(Rates!$E$9:$E$14,Rates!$N$3:$N$8,'Males 5y'!D$16:D$21)+SUMPRODUCT(Rates!$F$9:$F$14,Rates!$N$3:$N$8,'Females 5y'!D$16:D$21),-1) -> 130 | H17: =ROUND(SUMPRODUCT(Rates!$E$9:$E$14,Rates!$N$3:$N$8,'Males 5y'!E$16:E$21)+SUMPRODUCT(Rates!$F$9:$F$14,Rates!$N$3:$N$8,'Females 5y'!E$16:E$21),-1) -> 130 | I17: =ROUND(SUMPRODUCT(Rates!$E$9:$E$14,Rates!$N$3:$N$8,'Males 5y'!F$16:F$21)+SUMPRODUCT(Rates!$F$9:$F$14,Rates!$N$3:$N$8,'Females 5y'!F$16:F$21),-1) -> 140 | J17: =ROUND(SUMPRODUCT(Rates!$E$9:$E$14,Rates!$N$3:$N$8,'Males 5y'!G$16:G$21)+SUMPRODUCT(Rates!$F$9:$F$14,Rates!$N$3:$N$8,'Females 5y'!G$16:G$21),-1) -> 140 | K17: =ROUND(SUMPRODUCT(Rates!$E$9:$E$14,Rates!$N$3:$N$8,'Males 5y'!H$16:H$21)+SUMPRODUCT(Rates!$F$9:$F$14,Rates!$N$3:$N$8,'Females 5y'!H$16:H$21),-1) -> 140 | L17: =ROUND(SUMPRODUCT(Rates!$E$9:$E$14,Rates!$N$3:$N$8,'Males 5y'!I$16:I$21)+SUMPRODUCT(Rates!$F$9:$F$14,Rates!$N$3:$N$8,'Females 5y'!I$16:I$21),-1) -> 140 | M17: =ROUND(SUMPRODUCT(Rates!$E$9:$E$14,Rates!$N$3:$N$8,'Males 5y'!J$16:J$21)+SUMPRODUCT(Rates!$F$9:$F$14,Rates!$N$3:$N$8,'Females 5y'!J$16:J$21),-1) -> 150 | ... AE17: =ROUND(SUMPRODUCT(Rates!$E$9:$E$14,Rates!$N$3:$N$8,'Males 5y'!AB$16:AB$21)+SUMPRODUCT(Rates!$F$9:$F$14,Rates!$N$3:$N$8,'Females 5y'!AB$16:AB$21),-1) -> 200
A18: Alzheimer’s disease | B18: =S18/I18-1 -> 0.1884058 | C18: =AE18/F18-1 -> 0.5 | D18: =S18-I18 -> 130 | E18: =AE18-F18 -> 330 | F18: =ROUND((F14*Rates!$I$3),-1) -> 660 | G18: =ROUND((G14*Rates!$I$3),-1) -> 670 | H18: =ROUND((H14*Rates!$I$3),-1) -> 680 | I18: =ROUND((I14*Rates!$I$3),-1) -> 690 | J18: =ROUND((J14*Rates!$I$3),-1) -> 690 | K18: =ROUND((K14*Rates!$I$3),-1) -> 710 | L18: =ROUND((L14*Rates!$I$3),-1) -> 730 | M18: =ROUND((M14*Rates!$I$3),-1) -> 740 | ... AE18: =ROUND((AE14*Rates!$I$3),-1) -> 990
A19: Vascular dementia | B19: =S19/I19-1 -> 0.15789474 | C19: =AE19/F19-1 -> 0.5 | D19: =S19-I19 -> 30 | E19: =AE19-F19 -> 90 | F19: =ROUND((F14*Rates!$I$4),-1) -> 180 | G19: =ROUND((G14*Rates!$I$4),-1) -> 180 | H19: =ROUND((H14*Rates!$I$4),-1) -> 190 | I19: =ROUND((I14*Rates!$I$4),-1) -> 190 | J19: =ROUND((J14*Rates!$I$4),-1) -> 190 | K19: =ROUND((K14*Rates!$I$4),-1) -> 190 | L19: =ROUND((L14*Rates!$I$4),-1) -> 200 | M19: =ROUND((M14*Rates!$I$4),-1) -> 200 | ... AE19: =ROUND((AE14*Rates!$I$4),-1) -> 270
A20: Mixed (AD and VD) | B20: =S20/I20-1 -> 0.18181818 | C20: =AE20/F20-1 -> 0.45454545 | D20: =S20-I20 -> 20 | E20: =AE20-F20 -> 50 | F20: =ROUND((F14*Rates!$I$5),-1) -> 110 | G20: =ROUND((G14*Rates!$I$5),-1) -> 110 | H20: =ROUND((H14*Rates!$I$5),-1) -> 110 | I20: =ROUND((I14*Rates!$I$5),-1) -> 110 | J20: =ROUND((J14*Rates!$I$5),-1) -> 110 | K20: =ROUND((K14*Rates!$I$5),-1) -> 110 | L20: =ROUND((L14*Rates!$I$5),-1) -> 120 | M20: =ROUND((M14*Rates!$I$5),-1) -> 120 | ... AE20: =ROUND((AE14*Rates!$I$5),-1) -> 160
A21: Dementia with Lewy bodies | B21: =S21/I21-1 -> 0.25 | C21: =AE21/F21-1 -> 0.5 | D21: =S21-I21 -> 10 | E21: =AE21-F21 -> 20 | F21: =ROUND((F14*Rates!$I$6),-1) -> 40 | G21: =ROUND((G14*Rates!$I$6),-1) -> 40 | H21: =ROUND((H14*Rates!$I$6),-1) -> 40 | I21: =ROUND((I14*Rates!$I$6),-1) -> 40 | J21: =ROUND((J14*Rates!$I$6),-1) -> 40 | K21: =ROUND((K14*Rates!$I$6),-1) -> 50 | L21: =ROUND((L14*Rates!$I$6),-1) -> 50 | M21: =ROUND((M14*Rates!$I$6),-1) -> 50 | ... AE21: =ROUND((AE14*Rates!$I$6),-1) -> 60
A22: Frontotemporal dementia | B22: =S22/I22-1 -> 0.5 | C22: =AE22/F22-1 -> 0.5 | D22: =S22-I22 -> 10 | E22: =AE22-F22 -> 10 | F22: =ROUND((F14*Rates!$I$7),-1) -> 20 | G22: =ROUND((G14*Rates!$I$7),-1) -> 20 | H22: =ROUND((H14*Rates!$I$7),-1) -> 20 | I22: =ROUND((I14*Rates!$I$7),-1) -> 20 | J22: =ROUND((J14*Rates!$I$7),-1) -> 20 | K22: =ROUND((K14*Rates!$I$7),-1) -> 20 | L22: =ROUND((L14*Rates!$I$7),-1) -> 20 | M22: =ROUND((M14*Rates!$I$7),-1) -> 20 | ... AE22: =ROUND((AE14*Rates!$I$7),-1) -> 30
A23: Parkinsons’ dementia | B23: =S23/I23-1 -> 0.5 | C23: =AE23/F23-1 -> 0.5 | D23: =S23-I23 -> 10 | E23: =AE23-F23 -> 10 | F23: =ROUND((F14*Rates!$I$8),-1) -> 20 | G23: =ROUND((G14*Rates!$I$8),-1) -> 20 | H23: =ROUND((H14*Rates!$I$8),-1) -> 20 | I23: =ROUND((I14*Rates!$I$8),-1) -> 20 | J23: =ROUND((J14*Rates!$I$8),-1) -> 20 | K23: =ROUND((K14*Rates!$I$8),-1) -> 20 | L23: =ROUND((L14*Rates!$I$8),-1) -> 20 | M23: =ROUND((M14*Rates!$I$8),-1) -> 20 | ... AE23: =ROUND((AE14*Rates!$I$8),-1) -> 30
A24: Other | B24: =S24/I24-1 -> 0.33333333 | C24: =AE24/F24-1 -> 0.66666667 | D24: =S24-I24 -> 10 | E24: =AE24-F24 -> 20 | F24: =ROUND((F14*Rates!$I$9),-1) -> 30 | G24: =ROUND((G14*Rates!$I$9),-1) -> 30 | H24: =ROUND((H14*Rates!$I$9),-1) -> 30 | I24: =ROUND((I14*Rates!$I$9),-1) -> 30 | J24: =ROUND((J14*Rates!$I$9),-1) -> 30 | K24: =ROUND((K14*Rates!$I$9),-1) -> 30 | L24: =ROUND((L14*Rates!$I$9),-1) -> 40 | M24: =ROUND((M14*Rates!$I$9),-1) -> 40 | ... AE24: =ROUND((AE14*Rates!$I$9),-1) -> 50
A25: Arun
A26: All dementia | B26: =S26/I26-1 -> 0.275 | C26: =AE26/F26-1 -> 0.68621701 | D26: =S26-I26 -> 990 | E26: =AE26-F26 -> 2340 | F26: =ROUND((SUMPRODUCT('Males 5y'!C$29:C$41,Rates!$E$2:$E$14)+SUMPRODUCT(Rates!$F$2:$F$14,'Females 5y'!C$29:C$41)),-1) -> 3410 | G26: =ROUND((SUMPRODUCT('Males 5y'!D$29:D$41,Rates!$E$2:$E$14)+SUMPRODUCT(Rates!$F$2:$F$14,'Females 5y'!D$29:D$41)),-1) -> 3460 | H26: =ROUND((SUMPRODUCT('Males 5y'!E$29:E$41,Rates!$E$2:$E$14)+SUMPRODUCT(Rates!$F$2:$F$14,'Females 5y'!E$29:E$41)),-1) -> 3530 | I26: =ROUND((SUMPRODUCT('Males 5y'!F$29:F$41,Rates!$E$2:$E$14)+SUMPRODUCT(Rates!$F$2:$F$14,'Females 5y'!F$29:F$41)),-1) -> 3600 | J26: =ROUND((SUMPRODUCT('Males 5y'!G$29:G$41,Rates!$E$2:$E$14)+SUMPRODUCT(Rates!$F$2:$F$14,'Females 5y'!G$29:G$41)),-1) -> 3670 | K26: =ROUND((SUMPRODUCT('Males 5y'!H$29:H$41,Rates!$E$2:$E$14)+SUMPRODUCT(Rates!$F$2:$F$14,'Females 5y'!H$29:H$41)),-1) -> 3770 | L26: =ROUND((SUMPRODUCT('Males 5y'!I$29:I$41,Rates!$E$2:$E$14)+SUMPRODUCT(Rates!$F$2:$F$14,'Females 5y'!I$29:I$41)),-1) -> 3880 | M26: =ROUND((SUMPRODUCT('Males 5y'!J$29:J$41,Rates!$E$2:$E$14)+SUMPRODUCT(Rates!$F$2:$F$14,'Females 5y'!J$29:J$41)),-1) -> 3980 | ... AE26: =ROUND((SUMPRODUCT('Males 5y'!AB$29:AB$41,Rates!$E$2:$E$14)+SUMPRODUCT(Rates!$F$2:$F$14,'Females 5y'!AB$29:AB$41)),-1) -> 5750
A27: Late Onset - Mild | B27: =S27/I27-1 -> 0.2755102 | C27: =AE27/F27-1 -> 0.67204301 | D27: =S27-I27 -> 540 | E27: =AE27-F27 -> 1250 | F27: =ROUND(SUMPRODUCT(Rates!$E$9:$E$14,Rates!$L$3:$L$8,'Males 5y'!C$36:C$41)+SUMPRODUCT(Rates!$F$9:$F$14,Rates!$L$3:$L$8,'Females 5y'!C$36:C$41),-1) -> 1860 | G27: =ROUND(SUMPRODUCT(Rates!$E$9:$E$14,Rates!$L$3:$L$8,'Males 5y'!D$36:D$41)+SUMPRODUCT(Rates!$F$9:$F$14,Rates!$L$3:$L$8,'Females 5y'!D$36:D$41),-1) -> 1890 | H27: =ROUND(SUMPRODUCT(Rates!$E$9:$E$14,Rates!$L$3:$L$8,'Males 5y'!E$36:E$41)+SUMPRODUCT(Rates!$F$9:$F$14,Rates!$L$3:$L$8,'Females 5y'!E$36:E$41),-1) -> 1920 | I27: =ROUND(SUMPRODUCT(Rates!$E$9:$E$14,Rates!$L$3:$L$8,'Males 5y'!F$36:F$41)+SUMPRODUCT(Rates!$F$9:$F$14,Rates!$L$3:$L$8,'Females 5y'!F$36:F$41),-1) -> 1960 | J27: =ROUND(SUMPRODUCT(Rates!$E$9:$E$14,Rates!$L$3:$L$8,'Males 5y'!G$36:G$41)+SUMPRODUCT(Rates!$F$9:$F$14,Rates!$L$3:$L$8,'Females 5y'!G$36:G$41),-1) -> 2000 | K27: =ROUND(SUMPRODUCT(Rates!$E$9:$E$14,Rates!$L$3:$L$8,'Males 5y'!H$36:H$41)+SUMPRODUCT(Rates!$F$9:$F$14,Rates!$L$3:$L$8,'Females 5y'!H$36:H$41),-1) -> 2060 | L27: =ROUND(SUMPRODUCT(Rates!$E$9:$E$14,Rates!$L$3:$L$8,'Males 5y'!I$36:I$41)+SUMPRODUCT(Rates!$F$9:$F$14,Rates!$L$3:$L$8,'Females 5y'!I$36:I$41),-1) -> 2120 | M27: =ROUND(SUMPRODUCT(Rates!$E$9:$E$14,Rates!$L$3:$L$8,'Males 5y'!J$36:J$41)+SUMPRODUCT(Rates!$F$9:$F$14,Rates!$L$3:$L$8,'Females 5y'!J$36:J$41),-1) -> 2170 | ... AE27: =ROUND(SUMPRODUCT(Rates!$E$9:$E$14,Rates!$L$3:$L$8,'Males 5y'!AB$36:AB$41)+SUMPRODUCT(Rates!$F$9:$F$14,Rates!$L$3:$L$8,'Females 5y'!AB$36:AB$41),-1) -> 3110
A28: Late Onset - Moderate | B28: =S28/I28-1 -> 0.28070175 | C28: =AE28/F28-1 -> 0.7037037 | D28: =S28-I28 -> 320 | E28: =AE28-F28 -> 760 | F28: =ROUND(SUMPRODUCT(Rates!$E$9:$E$14,Rates!$M$3:$M$8,'Males 5y'!C$36:C$41)+SUMPRODUCT(Rates!$F$9:$F$14,Rates!$M$3:$M$8,'Females 5y'!C$36:C$41),-1) -> 1080 | G28: =ROUND(SUMPRODUCT(Rates!$E$9:$E$14,Rates!$M$3:$M$8,'Males 5y'!D$36:D$41)+SUMPRODUCT(Rates!$F$9:$F$14,Rates!$M$3:$M$8,'Females 5y'!D$36:D$41),-1) -> 1100 | H28: =ROUND(SUMPRODUCT(Rates!$E$9:$E$14,Rates!$M$3:$M$8,'Males 5y'!E$36:E$41)+SUMPRODUCT(Rates!$F$9:$F$14,Rates!$M$3:$M$8,'Females 5y'!E$36:E$41),-1) -> 1120 | I28: =ROUND(SUMPRODUCT(Rates!$E$9:$E$14,Rates!$M$3:$M$8,'Males 5y'!F$36:F$41)+SUMPRODUCT(Rates!$F$9:$F$14,Rates!$M$3:$M$8,'Females 5y'!F$36:F$41),-1) -> 1140 | J28: =ROUND(SUMPRODUCT(Rates!$E$9:$E$14,Rates!$M$3:$M$8,'Males 5y'!G$36:G$41)+SUMPRODUCT(Rates!$F$9:$F$14,Rates!$M$3:$M$8,'Females 5y'!G$36:G$41),-1) -> 1160 | K28: =ROUND(SUMPRODUCT(Rates!$E$9:$E$14,Rates!$M$3:$M$8,'Males 5y'!H$36:H$41)+SUMPRODUCT(Rates!$F$9:$F$14,Rates!$M$3:$M$8,'Females 5y'!H$36:H$41),-1) -> 1200 | L28: =ROUND(SUMPRODUCT(Rates!$E$9:$E$14,Rates!$M$3:$M$8,'Males 5y'!I$36:I$41)+SUMPRODUCT(Rates!$F$9:$F$14,Rates!$M$3:$M$8,'Females 5y'!I$36:I$41),-1) -> 1230 | M28: =ROUND(SUMPRODUCT(Rates!$E$9:$E$14,Rates!$M$3:$M$8,'Males 5y'!J$36:J$41)+SUMPRODUCT(Rates!$F$9:$F$14,Rates!$M$3:$M$8,'Females 5y'!J$36:J$41),-1) -> 1260 | ... AE28: =ROUND(SUMPRODUCT(Rates!$E$9:$E$14,Rates!$M$3:$M$8,'Males 5y'!AB$36:AB$41)+SUMPRODUCT(Rates!$F$9:$F$14,Rates!$M$3:$M$8,'Females 5y'!AB$36:AB$41),-1) -> 1840
A29: Late Onset - Severe | B29: =S29/I29-1 -> 0.28888889 | C29: =AE29/F29-1 -> 0.74418605 | D29: =S29-I29 -> 130 | E29: =AE29-F29 -> 320 | F29: =ROUND(SUMPRODUCT(Rates!$E$9:$E$14,Rates!$N$3:$N$8,'Males 5y'!C$36:C$41)+SUMPRODUCT(Rates!$F$9:$F$14,Rates!$N$3:$N$8,'Females 5y'!C$36:C$41),-1) -> 430 | G29: =ROUND(SUMPRODUCT(Rates!$E$9:$E$14,Rates!$N$3:$N$8,'Males 5y'!D$36:D$41)+SUMPRODUCT(Rates!$F$9:$F$14,Rates!$N$3:$N$8,'Females 5y'!D$36:D$41),-1) -> 430 | H29: =ROUND(SUMPRODUCT(Rates!$E$9:$E$14,Rates!$N$3:$N$8,'Males 5y'!E$36:E$41)+SUMPRODUCT(Rates!$F$9:$F$14,Rates!$N$3:$N$8,'Females 5y'!E$36:E$41),-1) -> 440 | I29: =ROUND(SUMPRODUCT(Rates!$E$9:$E$14,Rates!$N$3:$N$8,'Males 5y'!F$36:F$41)+SUMPRODUCT(Rates!$F$9:$F$14,Rates!$N$3:$N$8,'Females 5y'!F$36:F$41),-1) -> 450 | J29: =ROUND(SUMPRODUCT(Rates!$E$9:$E$14,Rates!$N$3:$N$8,'Males 5y'!G$36:G$41)+SUMPRODUCT(Rates!$F$9:$F$14,Rates!$N$3:$N$8,'Females 5y'!G$36:G$41),-1) -> 460 | K29: =ROUND(SUMPRODUCT(Rates!$E$9:$E$14,Rates!$N$3:$N$8,'Males 5y'!H$36:H$41)+SUMPRODUCT(Rates!$F$9:$F$14,Rates!$N$3:$N$8,'Females 5y'!H$36:H$41),-1) -> 470 | L29: =ROUND(SUMPRODUCT(Rates!$E$9:$E$14,Rates!$N$3:$N$8,'Males 5y'!I$36:I$41)+SUMPRODUCT(Rates!$F$9:$F$14,Rates!$N$3:$N$8,'Females 5y'!I$36:I$41),-1) -> 480 | M29: =ROUND(SUMPRODUCT(Rates!$E$9:$E$14,Rates!$N$3:$N$8,'Males 5y'!J$36:J$41)+SUMPRODUCT(Rates!$F$9:$F$14,Rates!$N$3:$N$8,'Females 5y'!J$36:J$41),-1) -> 500 | ... AE29: =ROUND(SUMPRODUCT(Rates!$E$9:$E$14,Rates!$N$3:$N$8,'Males 5y'!AB$36:AB$41)+SUMPRODUCT(Rates!$F$9:$F$14,Rates!$N$3:$N$8,'Females 5y'!AB$36:AB$41),-1) -> 750
A30: Alzheimer’s disease | B30: =S30/I30-1 -> 0.27802691 | C30: =AE30/F30-1 -> 0.69194313 | D30: =S30-I30 -> 620 | E30: =AE30-F30 -> 1460 | F30: =ROUND((F26*Rates!$I$3),-1) -> 2110 | G30: =ROUND((G26*Rates!$I$3),-1) -> 2150 | H30: =ROUND((H26*Rates!$I$3),-1) -> 2190 | I30: =ROUND((I26*Rates!$I$3),-1) -> 2230 | J30: =ROUND((J26*Rates!$I$3),-1) -> 2280 | K30: =ROUND((K26*Rates!$I$3),-1) -> 2340 | L30: =ROUND((L26*Rates!$I$3),-1) -> 2410 | M30: =ROUND((M26*Rates!$I$3),-1) -> 2470 | ... AE30: =ROUND((AE26*Rates!$I$3),-1) -> 3570
A31: Vascular dementia | B31: =S31/I31-1 -> 0.27868852 | C31: =AE31/F31-1 -> 0.68965517 | D31: =S31-I31 -> 170 | E31: =AE31-F31 -> 400 | F31: =ROUND((F26*Rates!$I$4),-1) -> 580 | G31: =ROUND((G26*Rates!$I$4),-1) -> 590 | H31: =ROUND((H26*Rates!$I$4),-1) -> 600 | I31: =ROUND((I26*Rates!$I$4),-1) -> 610 | J31: =ROUND((J26*Rates!$I$4),-1) -> 620 | K31: =ROUND((K26*Rates!$I$4),-1) -> 640 | L31: =ROUND((L26*Rates!$I$4),-1) -> 660 | M31: =ROUND((M26*Rates!$I$4),-1) -> 680 | ... AE31: =ROUND((AE26*Rates!$I$4),-1) -> 980
A32: Mixed (AD and VD) | B32: =S32/I32-1 -> 0.27777778 | C32: =AE32/F32-1 -> 0.70588235 | D32: =S32-I32 -> 100 | E32: =AE32-F32 -> 240 | F32: =ROUND((F26*Rates!$I$5),-1) -> 340 | G32: =ROUND((G26*Rates!$I$5),-1) -> 350 | H32: =ROUND((H26*Rates!$I$5),-1) -> 350 | I32: =ROUND((I26*Rates!$I$5),-1) -> 360 | J32: =ROUND((J26*Rates!$I$5),-1) -> 370 | K32: =ROUND((K26*Rates!$I$5),-1) -> 380 | L32: =ROUND((L26*Rates!$I$5),-1) -> 390 | M32: =ROUND((M26*Rates!$I$5),-1) -> 400 | ... AE32: =ROUND((AE26*Rates!$I$5),-1) -> 580
A33: Dementia with Lewy bodies | B33: =S33/I33-1 -> 0.28571429 | C33: =AE33/F33-1 -> 0.64285714 | D33: =S33-I33 -> 40 | E33: =AE33-F33 -> 90 | F33: =ROUND((F26*Rates!$I$6),-1) -> 140 | G33: =ROUND((G26*Rates!$I$6),-1) -> 140 | H33: =ROUND((H26*Rates!$I$6),-1) -> 140 | I33: =ROUND((I26*Rates!$I$6),-1) -> 140 | J33: =ROUND((J26*Rates!$I$6),-1) -> 150 | K33: =ROUND((K26*Rates!$I$6),-1) -> 150 | L33: =ROUND((L26*Rates!$I$6),-1) -> 160 | M33: =ROUND((M26*Rates!$I$6),-1) -> 160 | ... AE33: =ROUND((AE26*Rates!$I$6),-1) -> 230
A34: Frontotemporal dementia | B34: =S34/I34-1 -> 0.28571429 | C34: =AE34/F34-1 -> 0.71428571 | D34: =S34-I34 -> 20 | E34: =AE34-F34 -> 50 | F34: =ROUND((F26*Rates!$I$7),-1) -> 70 | G34: =ROUND((G26*Rates!$I$7),-1) -> 70 | H34: =ROUND((H26*Rates!$I$7),-1) -> 70 | I34: =ROUND((I26*Rates!$I$7),-1) -> 70 | J34: =ROUND((J26*Rates!$I$7),-1) -> 70 | K34: =ROUND((K26*Rates!$I$7),-1) -> 80 | L34: =ROUND((L26*Rates!$I$7),-1) -> 80 | M34: =ROUND((M26*Rates!$I$7),-1) -> 80 | ... AE34: =ROUND((AE26*Rates!$I$7),-1) -> 120
A35: Parkinsons’ dementia | B35: =S35/I35-1 -> 0.28571429 | C35: =AE35/F35-1 -> 0.71428571 | D35: =S35-I35 -> 20 | E35: =AE35-F35 -> 50 | F35: =ROUND((F26*Rates!$I$8),-1) -> 70 | G35: =ROUND((G26*Rates!$I$8),-1) -> 70 | H35: =ROUND((H26*Rates!$I$8),-1) -> 70 | I35: =ROUND((I26*Rates!$I$8),-1) -> 70 | J35: =ROUND((J26*Rates!$I$8),-1) -> 70 | K35: =ROUND((K26*Rates!$I$8),-1) -> 80 | L35: =ROUND((L26*Rates!$I$8),-1) -> 80 | M35: =ROUND((M26*Rates!$I$8),-1) -> 80 | ... AE35: =ROUND((AE26*Rates!$I$8),-1) -> 120
A36: Other | B36: =S36/I36-1 -> 0.27272727 | C36: =AE36/F36-1 -> 0.7 | D36: =S36-I36 -> 30 | E36: =AE36-F36 -> 70 | F36: =ROUND((F26*Rates!$I$9),-1) -> 100 | G36: =ROUND((G26*Rates!$I$9),-1) -> 100 | H36: =ROUND((H26*Rates!$I$9),-1) -> 110 | I36: =ROUND((I26*Rates!$I$9),-1) -> 110 | J36: =ROUND((J26*Rates!$I$9),-1) -> 110 | K36: =ROUND((K26*Rates!$I$9),-1) -> 110 | L36: =ROUND((L26*Rates!$I$9),-1) -> 120 | M36: =ROUND((M26*Rates!$I$9),-1) -> 120 | ... AE36: =ROUND((AE26*Rates!$I$9),-1) -> 170
A37: Chichester
A38: All dementia | B38: =S38/I38-1 -> 0.29343629 | C38: =AE38/F38-1 -> 0.73966942 | D38: =S38-I38 -> 760 | E38: =AE38-F38 -> 1790 | F38: =ROUND((SUMPRODUCT('Males 5y'!C$49:C$61,Rates!$E$2:$E$14)+SUMPRODUCT(Rates!$F$2:$F$14,'Females 5y'!C$49:C$61)),-1) -> 2420 | G38: =ROUND((SUMPRODUCT('Males 5y'!D$49:D$61,Rates!$E$2:$E$14)+SUMPRODUCT(Rates!$F$2:$F$14,'Females 5y'!D$49:D$61)),-1) -> 2470 | H38: =ROUND((SUMPRODUCT('Males 5y'!E$49:E$61,Rates!$E$2:$E$14)+SUMPRODUCT(Rates!$F$2:$F$14,'Females 5y'!E$49:E$61)),-1) -> 2530 | I38: =ROUND((SUMPRODUCT('Males 5y'!F$49:F$61,Rates!$E$2:$E$14)+SUMPRODUCT(Rates!$F$2:$F$14,'Females 5y'!F$49:F$61)),-1) -> 2590 | J38: =ROUND((SUMPRODUCT('Males 5y'!G$49:G$61,Rates!$E$2:$E$14)+SUMPRODUCT(Rates!$F$2:$F$14,'Females 5y'!G$49:G$61)),-1) -> 2640 | K38: =ROUND((SUMPRODUCT('Males 5y'!H$49:H$61,Rates!$E$2:$E$14)+SUMPRODUCT(Rates!$F$2:$F$14,'Females 5y'!H$49:H$61)),-1) -> 2720 | L38: =ROUND((SUMPRODUCT('Males 5y'!I$49:I$61,Rates!$E$2:$E$14)+SUMPRODUCT(Rates!$F$2:$F$14,'Females 5y'!I$49:I$61)),-1) -> 2800 | M38: =ROUND((SUMPRODUCT('Males 5y'!J$49:J$61,Rates!$E$2:$E$14)+SUMPRODUCT(Rates!$F$2:$F$14,'Females 5y'!J$49:J$61)),-1) -> 2880 | ... AE38: =ROUND((SUMPRODUCT('Males 5y'!AB$49:AB$61,Rates!$E$2:$E$14)+SUMPRODUCT(Rates!$F$2:$F$14,'Females 5y'!AB$49:AB$61)),-1) -> 4210
A39: Late Onset - Mild | B39: =S39/I39-1 -> 0.29078014 | C39: =AE39/F39-1 -> 0.71969697 | D39: =S39-I39 -> 410 | E39: =AE39-F39 -> 950 | F39: =ROUND(SUMPRODUCT(Rates!$E$9:$E$14,Rates!$L$3:$L$8,'Males 5y'!C$56:C$61)+SUMPRODUCT(Rates!$F$9:$F$14,Rates!$L$3:$L$8,'Females 5y'!C$56:C$61),-1) -> 1320 | G39: =ROUND(SUMPRODUCT(Rates!$E$9:$E$14,Rates!$L$3:$L$8,'Males 5y'!D$56:D$61)+SUMPRODUCT(Rates!$F$9:$F$14,Rates!$L$3:$L$8,'Females 5y'!D$56:D$61),-1) -> 1350 | H39: =ROUND(SUMPRODUCT(Rates!$E$9:$E$14,Rates!$L$3:$L$8,'Males 5y'!E$56:E$61)+SUMPRODUCT(Rates!$F$9:$F$14,Rates!$L$3:$L$8,'Females 5y'!E$56:E$61),-1) -> 1380 | I39: =ROUND(SUMPRODUCT(Rates!$E$9:$E$14,Rates!$L$3:$L$8,'Males 5y'!F$56:F$61)+SUMPRODUCT(Rates!$F$9:$F$14,Rates!$L$3:$L$8,'Females 5y'!F$56:F$61),-1) -> 1410 | J39: =ROUND(SUMPRODUCT(Rates!$E$9:$E$14,Rates!$L$3:$L$8,'Males 5y'!G$56:G$61)+SUMPRODUCT(Rates!$F$9:$F$14,Rates!$L$3:$L$8,'Females 5y'!G$56:G$61),-1) -> 1440 | K39: =ROUND(SUMPRODUCT(Rates!$E$9:$E$14,Rates!$L$3:$L$8,'Males 5y'!H$56:H$61)+SUMPRODUCT(Rates!$F$9:$F$14,Rates!$L$3:$L$8,'Females 5y'!H$56:H$61),-1) -> 1480 | L39: =ROUND(SUMPRODUCT(Rates!$E$9:$E$14,Rates!$L$3:$L$8,'Males 5y'!I$56:I$61)+SUMPRODUCT(Rates!$F$9:$F$14,Rates!$L$3:$L$8,'Females 5y'!I$56:I$61),-1) -> 1530 | M39: =ROUND(SUMPRODUCT(Rates!$E$9:$E$14,Rates!$L$3:$L$8,'Males 5y'!J$56:J$61)+SUMPRODUCT(Rates!$F$9:$F$14,Rates!$L$3:$L$8,'Females 5y'!J$56:J$61),-1) -> 1570 | ... AE39: =ROUND(SUMPRODUCT(Rates!$E$9:$E$14,Rates!$L$3:$L$8,'Males 5y'!AB$56:AB$61)+SUMPRODUCT(Rates!$F$9:$F$14,Rates!$L$3:$L$8,'Females 5y'!AB$56:AB$61),-1) -> 2270
A40: Late Onset - Moderate | B40: =S40/I40-1 -> 0.30487805 | C40: =AE40/F40-1 -> 0.74025974 | D40: =S40-I40 -> 250 | E40: =AE40-F40 -> 570 | F40: =ROUND(SUMPRODUCT(Rates!$E$9:$E$14,Rates!$M$3:$M$8,'Males 5y'!C$56:C$61)+SUMPRODUCT(Rates!$F$9:$F$14,Rates!$M$3:$M$8,'Females 5y'!C$56:C$61),-1) -> 770 | G40: =ROUND(SUMPRODUCT(Rates!$E$9:$E$14,Rates!$M$3:$M$8,'Males 5y'!D$56:D$61)+SUMPRODUCT(Rates!$F$9:$F$14,Rates!$M$3:$M$8,'Females 5y'!D$56:D$61),-1) -> 780 | H40: =ROUND(SUMPRODUCT(Rates!$E$9:$E$14,Rates!$M$3:$M$8,'Males 5y'!E$56:E$61)+SUMPRODUCT(Rates!$F$9:$F$14,Rates!$M$3:$M$8,'Females 5y'!E$56:E$61),-1) -> 800 | I40: =ROUND(SUMPRODUCT(Rates!$E$9:$E$14,Rates!$M$3:$M$8,'Males 5y'!F$56:F$61)+SUMPRODUCT(Rates!$F$9:$F$14,Rates!$M$3:$M$8,'Females 5y'!F$56:F$61),-1) -> 820 | J40: =ROUND(SUMPRODUCT(Rates!$E$9:$E$14,Rates!$M$3:$M$8,'Males 5y'!G$56:G$61)+SUMPRODUCT(Rates!$F$9:$F$14,Rates!$M$3:$M$8,'Females 5y'!G$56:G$61),-1) -> 840 | K40: =ROUND(SUMPRODUCT(Rates!$E$9:$E$14,Rates!$M$3:$M$8,'Males 5y'!H$56:H$61)+SUMPRODUCT(Rates!$F$9:$F$14,Rates!$M$3:$M$8,'Females 5y'!H$56:H$61),-1) -> 860 | L40: =ROUND(SUMPRODUCT(Rates!$E$9:$E$14,Rates!$M$3:$M$8,'Males 5y'!I$56:I$61)+SUMPRODUCT(Rates!$F$9:$F$14,Rates!$M$3:$M$8,'Females 5y'!I$56:I$61),-1) -> 890 | M40: =ROUND(SUMPRODUCT(Rates!$E$9:$E$14,Rates!$M$3:$M$8,'Males 5y'!J$56:J$61)+SUMPRODUCT(Rates!$F$9:$F$14,Rates!$M$3:$M$8,'Females 5y'!J$56:J$61),-1) -> 910 | ... AE40: =ROUND(SUMPRODUCT(Rates!$E$9:$E$14,Rates!$M$3:$M$8,'Males 5y'!AB$56:AB$61)+SUMPRODUCT(Rates!$F$9:$F$14,Rates!$M$3:$M$8,'Females 5y'!AB$56:AB$61),-1) -> 1340
...

Sheet Metadata
A2: West Sussex Joint Strategic Needs Assessment CORE Dataset
A3: Data Type | B3: Projections for people with dementia every year 2022 - 2047
A4: Description | B4: ONS population projections applied to prevalence rates for different types of dementia
A5: Subject | B5: Prevalence
A6: Keyword(s) | B6: dementia, prevalence, long term conditions
A7: Collected | B7: 46304
A8: Population data | B8: ONS population projections 2022-47 accessed via Nomis on 09/10/2026
A9: Prevalence estimates for population under 65 (early-onset) | B9: Projecting Adult Needs and Service Information (PANSI), Institute of Public Care, Oxford Brookes, University Figures are taken from Dementia UK: Update (2014) prepared by King’s College London and the London School of Economics for the Alzheimer’s Society.
A10: Prevalence estimates for population aged 65+ | B10: A two-decade comparison of prevalence of dementia in individuals aged 65 years and older from three geographical areas of England: results of the Cognitive Function and Ageing Study I and II - ScienceDirect
A11: Severity | B11: The 2014 Dementia UK: Update continued to use the severity estimates by age from the 2007 Dementia UK: Update. In that report the consensus estimates were based upon findings from three population-based studies of late-onset dementia (O’Connor et al, 1989; Brayne et al, 1989; Clarke et al, 1991)
A12: Geographic Level - lowest | B12: District
A13: Time Period Covered | B13: Mid 2022 to Mid 2047
A14: Last Updated | B14: 46304
A15: File Type | B15: Excel
A16: WSCC Contacts | B16: Henry McLaughlin; henry.mclaughlin@westsussex.gov.uk
A17: Warnings or Caveats | B17: The Cognitive Functioning and Ageing Study II (CFAS II) estimates are used by the NHS and on the DHSC Fingertips Public Health Profile to calculate diagnosis rates but the prevalence rates will not exactly match these estimates because the NHS use the patients registered for General Medical Services, whereas WSCC uses ONS population estimates. The differences are very small, for example in 2023 the NHS late-onset dementia prevalence estimate for Adur was 1,053 while the WSCC estimate for Adur is 1,080. At district and borough level there is likely to be variation from the prevalence in these estimates influenced by factors such as the number of care home beds, and the number of care homes specialising in dementia.

Sheet Rates
D1: Age Group | E1: Males % with dementia | F1: Females % with dementia
C2: Early Onset | D2: 30-34 | E2: 8.9e-05 | F2: 9.5e-05 | H2: Type of Dementia | I2: Proportion of People | K2: Age | L2: Mild | M2: Moderate | N2: Severe
D3: 35-39 | E3: 6.3e-05 | F3: 9.3e-05 | H3: Alzheimer’s disease | I3: 0.62 | K3: 65-69 | L3: 0.62 | M3: 0.32 | N3: 0.06
D4: 40-44 | E4: 8.1e-05 | F4: 0.000196 | H4: Vascular dementia | I4: 0.17 | K4: 70-74 | L4: 0.63 | M4: 0.3 | N4: 0.07
D5: 45-49 | E5: 0.000318 | F5: 0.000273 | H5: Mixed (AD and VD) | I5: 0.1 | K5: 75-79 | L5: 0.57 | M5: 0.31 | N5: 0.12
D6: 50-54 | E6: 0.000627 | F6: 0.000551 | H6: Dementia with Lewy bodies | I6: 0.04 | K6: 80-84 | L6: 0.57 | M6: 0.32 | N6: 0.11
D7: 55-59 | E7: 0.001795 | F7: 0.000971 | H7: Frontotemporal dementia | I7: 0.02 | K7: 85-89 | L7: 0.54 | M7: 0.33 | N7: 0.13
D8: 60-64 | E8: 0.001989 | F8: 0.00118 | H8: Parkinsons’ dementia | I8: 0.02 | K8: 90-94 | L8: 0.49 | M8: 0.33 | N8: 0.18
C9: late onset | D9: 65-69 | E9: 0.012 | F9: 0.018 | H9: Other | I9: 0.03 | K9: 95+ | L9: 0.42 | M9: 0.35 | N9: 0.23
D10: 70-74 | E10: 0.03 | F10: 0.025 | H10: Total | I10: =SUM(I3:I9) -> 1
D11: 75-79 | E11: 0.052 | F11: 0.062 | H11: p.62 https://www.alzheimers.org.uk/sites/default/files/migrate/downloads/dementia_uk_update.pdf
D12: 80-84 | E12: 0.106 | F12: 0.095
D13: 85-89 | E13: 0.128 | F13: 0.181
D14: 90+ | E14: 0.171 | F14: 0.35

Sheet Males 5y
A1: Age Groups | B1: Males | C1: 2022 | D1: 2023 | E1: 2024 | F1: 2025 | G1: 2026 | H1: 2027 | I1: 2028 | J1: 2029 | K1: 2030 | L1: 2031 | M1: 2032 | N1: 2033 | O1: 2034 | P1: 2035 | Q1: 2036 | R1: 2037 | S1: 2038 | T1: 2039 | U1: 2040 | V1: 2041 | W1: 2042 | X1: 2043 | Y1: 2044 | Z1: 2045 | AA1: 2046 | AB1: 2047
A2: All Ages - Adur | B2: Adur | C2: 31225 | D2: 31263 | E2: 31320 | F2: 31354 | G2: 31386 | H2: 31413 | I2: 31454 | J2: 31495 | K2: 31531 | L2: 31568 | M2: 31612 | N2: 31661 | O2: 31715 | P2: 31769 | Q2: 31834 | R2: 31906 | S2: 31983 | T2: 32068 | U2: 32162 | V2: 32260 | W2: 32364 | X2: 32471 | Y2: 32581 | Z2: 32693 | AA2: 32805 | AB2: 32918
A3: 0-4 - Adur | B3: 0 | C3: 1575 | D3: 1542 | E3: 1517 | F3: 1487 | G3: 1463 | H3: 1451 | I3: 1445 | J3: 1442 | K3: 1441 | L3: 1443 | M3: 1442 | N3: 1442 | O3: 1444 | P3: 1445 | Q3: 1448 | R3: 1453 | S3: 1460 | T3: 1468 | U3: 1477 | V3: 1487 | W3: 1496 | X3: 1506 | Y3: 1514 | Z3: 1523 | AA3: 1529 | AB3: 1534
A4: 5-9 - Adur | B4: 5 | C4: 1933 | D4: 1887 | E4: 1833 | F4: 1787 | G4: 1725 | H4: 1694 | I4: 1657 | J4: 1630 | K4: 1602 | L4: 1584 | M4: 1574 | N4: 1569 | O4: 1568 | P4: 1567 | Q4: 1569 | R4: 1570 | S4: 1569 | T4: 1571 | U4: 1575 | V4: 1578 | W4: 1584 | X4: 1590 | Y4: 1598 | Z4: 1609 | AA4: 1619 | AB4: 1630
A5: 10-14 - Adur | B5: 10 | C5: 2098 | D5: 2100 | E5: 2136 | F5: 2137 | G5: 2115 | H5: 2042 | I5: 1998 | J5: 1945 | K5: 1900 | L5: 1841 | M5: 1806 | N5: 1766 | O5: 1739 | P5: 1712 | Q5: 1696 | R5: 1684 | S5: 1682 | T5: 1682 | U5: 1683 | V5: 1684 | W5: 1684 | X5: 1686 | Y5: 1688 | Z5: 1691 | AA5: 1696 | AB5: 1700
A6: 15-19 - Adur | B6: 15 | C6: 1786 | D6: 1839 | E6: 1849 | F6: 1870 | G6: 1928 | H6: 1977 | I6: 1984 | J6: 1997 | K6: 1986 | L6: 1961 | M6: 1905 | N6: 1867 | O6: 1822 | P6: 1781 | Q6: 1732 | R6: 1701 | S6: 1668 | T6: 1641 | U6: 1620 | V6: 1606 | W6: 1599 | X6: 1597 | Y6: 1598 | Z6: 1599 | AA6: 1600 | AB6: 1601
A7: 20-24 - Adur | B7: 20 | C7: 1359 | D7: 1355 | E7: 1355 | F7: 1369 | G7: 1394 | H7: 1417 | I7: 1452 | J7: 1457 | K7: 1470 | L7: 1506 | M7: 1537 | N7: 1536 | O7: 1542 | P7: 1535 | Q7: 1517 | R7: 1484 | S7: 1459 | T7: 1438 | U7: 1414 | V7: 1381 | W7: 1360 | X7: 1337 | Y7: 1317 | Z7: 1300 | AA7: 1290 | AB7: 1281
A8: 25-29 - Adur | B8: 25 | C8: 1495 | D8: 1506 | E8: 1524 | F8: 1528 | G8: 1512 | H8: 1505 | I8: 1509 | J8: 1518 | K8: 1541 | L8: 1566 | M8: 1593 | N8: 1626 | O8: 1634 | P8: 1651 | Q8: 1682 | R8: 1707 | S8: 1704 | T8: 1701 | U8: 1691 | V8: 1676 | W8: 1648 | X8: 1628 | Y8: 1610 | Z8: 1589 | AA8: 1559 | AB8: 1538
A9: 30-34 - Adur | B9: 30 | C9: 1739 | D9: 1705 | E9: 1703 | F9: 1687 | G9: 1668 | H9: 1655 | I9: 1657 | J9: 1666 | K9: 1665 | L9: 1659 | M9: 1652 | N9: 1659 | O9: 1672 | P9: 1694 | Q9: 1720 | R9: 1749 | S9: 1779 | T9: 1790 | U9: 1808 | V9: 1838 | W9: 1859 | X9: 1858 | Y9: 1854 | Z9: 1845 | AA9: 1829 | AB9: 1804
A10: 35-39 - Adur | B10: 35 | C10: 1835 | D10: 1863 | E10: 1889 | F10: 1888 | G10: 1894 | H10: 1910 | I10: 1892 | J10: 1899 | K10: 1888 | L10: 1876 | M10: 1872 | N10: 1878 | O10: 1885 | P10: 1888 | Q10: 1884 | R10: 1878 | S10: 1888 | T10: 1904 | U10: 1929 | V10: 1955 | W10: 1987 | X10: 2017 | Y10: 2030 | Z10: 2050 | AA10: 2080 | AB10: 2101
A11: 40-44 - Adur | B11: 40 | C11: 2048 | D11: 2067 | E11: 2022 | F11: 2034 | G11: 2023 | H11: 1987 | I11: 2019 | J11: 2043 | K11: 2055 | L11: 2073 | M11: 2091 | N11: 2084 | O11: 2098 | P11: 2089 | Q11: 2082 | R11: 2085 | S11: 2093 | T11: 2102 | U11: 2109 | V11: 2107 | W11: 2102 | X11: 2113 | Y11: 2130 | Z11: 2156 | AA11: 2183 | AB11: 2217
A12: 45-49 - Adur | B12: 45 | C12: 2037 | D12: 2015 | E12: 2007 | F12: 2033 | G12: 2076 | H12: 2119 | I12: 2139 | J12: 2107 | K12: 2117 | L12: 2110 | M12: 2090 | N12: 2123 | O12: 2149 | P12: 2169 | Q12: 2193 | R12: 2214 | S12: 2209 | T12: 2224 | U12: 2220 | V12: 2217 | W12: 2223 | X12: 2232 | Y12: 2244 | Z12: 2252 | AA12: 2250 | AB12: 2245
A13: 50-54 - Adur | B13: 50 | C13: 2349 | D13: 2320 | E13: 2284 | F13: 2229 | G13: 2115 | H13: 2029 | I13: 2003 | J13: 1996 | K13: 2020 | L13: 2062 | M13: 2104 | N13: 2122 | O13: 2100 | P13: 2110 | Q13: 2106 | R13: 2098 | S13: 2130 | T13: 2157 | U13: 2179 | V13: 2205 | W13: 2229 | X13: 2229 | Y13: 2244 | Z13: 2242 | AA13: 2242 | AB13: 2247
A14: 55-59 - Adur | B14: 55 | C14: 2279 | D14: 2273 | E14: 2287 | F14: 2203 | G14: 2241 | H14: 2284 | I14: 2256 | J14: 2219 | K14: 2166 | L14: 2067 | M14: 1989 | N14: 1961 | O14: 1956 | P14: 1981 | Q14: 2021 | R14: 2059 | S14: 2079 | T14: 2064 | U14: 2072 | V14: 2071 | W14: 2069 | X14: 2103 | Y14: 2130 | Z14: 2154 | AA14: 2184 | AB14: 2206
... A21: 90+ - Adur | B21: 90 | C21: 257 | D21: 251 | E21: 249 | F21: 260 | G21: 268 | H21: 278 | I21: 285 | J21: 294 | K21: 301 | L21: 306 | M21: 313 | N21: 338 | O21: 358 | P21: 378 | Q21: 396 | R21: 433 | S21: 463 | T21: 472 | U21: 470 | V21: 470 | W21: 463 | X21: 467 | Y21: 469 | Z21: 474 | AA21: 482 | AB21: 492
A22: All Ages - Arun | B22: Arun | C22: 79980 | D22: 80824 | E22: 81599 | F22: 82195 | G22: 82717 | H22: 83223 | I22: 83747 | J22: 84298 | K22: 84852 | L22: 85388 | M22: 85914 | N22: 86434 | O22: 86942 | P22: 87434 | Q22: 87912 | R22: 88382 | S22: 88844 | T22: 89302 | U22: 89762 | V22: 90220 | W22: 90674 | X22: 91129 | Y22: 91579 | Z22: 92022 | AA22: 92460 | AB22: 92892
A23: 0-4 - Arun | B23: 0 | C23: 3632 | D23: 3573 | E23: 3536 | F23: 3485 | G23: 3493 | H23: 3445 | I23: 3430 | J23: 3419 | K23: 3407 | L23: 3396 | M23: 3389 | N23: 3383 | O23: 3381 | P23: 3380 | Q23: 3384 | R23: 3391 | S23: 3401 | T23: 3415 | U23: 3429 | V23: 3443 | W23: 3460 | X23: 3474 | Y23: 3483 | Z23: 3491 | AA23: 3493 | AB23: 3494
A24: 5-9 - Arun | B24: 5 | C24: 4155 | D24: 4134 | E24: 4165 | F24: 4105 | G24: 4020 | H24: 3964 | I24: 3884 | J24: 3826 | K24: 3774 | L24: 3779 | M24: 3736 | N24: 3728 | O24: 3717 | P24: 3708 | Q24: 3700 | R24: 3693 | S24: 3689 | T24: 3689 | U24: 3691 | V24: 3696 | W24: 3705 | X24: 3717 | Y24: 3733 | Z24: 3752 | AA24: 3769 | AB24: 3787
A25: 10-14 - Arun | B25: 10 | C25: 4448 | D25: 4466 | E25: 4385 | F25: 4392 | G25: 4345 | H25: 4301 | I25: 4259 | J25: 4273 | K25: 4211 | L25: 4127 | M25: 4070 | N25: 3990 | O25: 3930 | P25: 3878 | Q25: 3878 | R25: 3838 | S25: 3828 | T25: 3822 | U25: 3813 | V25: 3806 | W25: 3802 | X25: 3800 | Y25: 3799 | Z25: 3804 | AA25: 3811 | AB25: 3820
A26: 15-19 - Arun | B26: 15 | C26: 4070 | D26: 4150 | E26: 4241 | F26: 4273 | G26: 4353 | H26: 4417 | I26: 4421 | J26: 4342 | K26: 4339 | L26: 4290 | M26: 4248 | N26: 4216 | O26: 4212 | P26: 4158 | Q26: 4069 | R26: 4012 | S26: 3937 | T26: 3879 | U26: 3835 | V26: 3826 | W26: 3791 | X26: 3785 | Y26: 3781 | Z26: 3772 | AA26: 3767 | AB26: 3765
A27: 20-24 - Arun | B27: 20 | C27: 3570 | D27: 3633 | E27: 3659 | F27: 3724 | G27: 3720 | H27: 3769 | I27: 3821 | J27: 3873 | K27: 3911 | L27: 3979 | M27: 4035 | N27: 4041 | O27: 3994 | P27: 3988 | Q27: 3945 | R27: 3904 | S27: 3868 | T27: 3856 | U27: 3808 | V27: 3734 | W27: 3689 | X27: 3628 | Y27: 3576 | Z27: 3536 | AA27: 3519 | AB27: 3487
A28: 25-29 - Arun | B28: 25 | C28: 4062 | D28: 4103 | E28: 4096 | F28: 4019 | G28: 3961 | H28: 3889 | I28: 3895 | J28: 3912 | K28: 3983 | L28: 4016 | M28: 4087 | N28: 4154 | O28: 4200 | P28: 4243 | Q28: 4314 | R28: 4367 | S28: 4369 | T28: 4334 | U28: 4316 | V28: 4278 | W28: 4230 | X28: 4188 | Y28: 4167 | Z28: 4119 | AA28: 4047 | AB28: 4002
A29: 30-34 - Arun | B29: 30 | C29: 4516 | D29: 4558 | E29: 4552 | F29: 4505 | G29: 4436 | H29: 4412 | I29: 4400 | J29: 4377 | K29: 4328 | L29: 4298 | M29: 4254 | N29: 4271 | O29: 4296 | P29: 4362 | Q29: 4406 | R29: 4479 | S29: 4546 | T29: 4591 | U29: 4637 | V29: 4709 | W29: 4764 | X29: 4765 | Y29: 4737 | Z29: 4715 | AA29: 4677 | AB29: 4625
A30: 35-39 - Arun | B30: 35 | C30: 4581 | D30: 4654 | E30: 4788 | F30: 4868 | G30: 4954 | H30: 4942 | I30: 4941 | J30: 4929 | K30: 4891 | L30: 4846 | M30: 4841 | N30: 4841 | O30: 4833 | P30: 4799 | Q30: 4776 | R30: 4741 | S30: 4761 | T30: 4792 | U30: 4861 | V30: 4913 | W30: 4991 | X30: 5064 | Y30: 5108 | Z30: 5159 | AA30: 5237 | AB30: 5292
A31: 40-44 - Arun | B31: 40 | C31: 4428 | D31: 4571 | E31: 4600 | F31: 4716 | G31: 4766 | H31: 4891 | I31: 4952 | J31: 5063 | K31: 5144 | L31: 5234 | M31: 5245 | N31: 5253 | O31: 5255 | P31: 5228 | Q31: 5192 | R31: 5194 | S31: 5202 | T31: 5202 | U31: 5178 | V31: 5162 | W31: 5132 | X31: 5154 | Y31: 5191 | Z31: 5261 | AA31: 5318 | AB31: 5398
A32: 45-49 - Arun | B32: 45 | C32: 4223 | D32: 4150 | E32: 4252 | F32: 4347 | G32: 4498 | H32: 4647 | I32: 4766 | J32: 4789 | K32: 4892 | L32: 4943 | M32: 5058 | N32: 5135 | O32: 5241 | P32: 5323 | Q32: 5415 | R32: 5438 | S32: 5447 | T32: 5459 | U32: 5438 | V32: 5413 | W32: 5420 | X32: 5434 | Y32: 5441 | Z32: 5428 | AA32: 5416 | AB32: 5390
A33: 50-54 - Arun | B33: 50 | C33: 5448 | D33: 5353 | E33: 5157 | F33: 4968 | G33: 4766 | H33: 4585 | I33: 4506 | J33: 4585 | K33: 4683 | L33: 4831 | M33: 4979 | N33: 5097 | O33: 5123 | P33: 5215 | Q33: 5264 | R33: 5372 | S33: 5457 | T33: 5566 | U33: 5651 | V33: 5745 | W33: 5779 | X33: 5793 | Y33: 5811 | Z33: 5797 | AA33: 5777 | AB33: 5793
A34: 55-59 - Arun | B34: 55 | C34: 5892 | D34: 5950 | E34: 5943 | F34: 5902 | G34: 5888 | H34: 5799 | I34: 5700 | J34: 5518 | K34: 5346 | L34: 5157 | M34: 4984 | N34: 4912 | O34: 4987 | P34: 5088 | Q34: 5232 | R34: 5380 | S34: 5498 | T34: 5525 | U34: 5608 | V34: 5656 | W34: 5755 | X34: 5850 | Y34: 5962 | Z34: 6052 | AA34: 6150 | AB34: 6195
... A41: 90+ - Arun | B41: 90 | C41: 935 | D41: 921 | E41: 932 | F41: 962 | G41: 994 | H41: 1039 | I41: 1089 | J41: 1131 | K41: 1163 | L41: 1171 | M41: 1220 | N41: 1301 | O41: 1388 | P41: 1477 | Q41: 1560 | R41: 1738 | S41: 1863 | T41: 1929 | U41: 1956 | V41: 1956 | W41: 1956 | X41: 1960 | Y41: 1980 | Z41: 2000 | AA41: 2035 | AB41: 2091
A42: All Ages - Chichester | B42: Chichester | C42: 60412 | D42: 61104 | E42: 61735 | F42: 62153 | G42: 62510 | H42: 62872 | I42: 63251 | J42: 63652 | K42: 64057 | L42: 64449 | M42: 64826 | N42: 65194 | O42: 65548 | P42: 65903 | Q42: 66253 | R42: 66598 | S42: 66935 | T42: 67270 | U42: 67607 | V42: 67941 | W42: 68269 | X42: 68599 | Y42: 68930 | Z42: 69264 | AA42: 69600 | AB42: 69934
A43: 0-4 - Chichester | B43: 0 | C43: 2708 | D43: 2727 | E43: 2689 | F43: 2676 | G43: 2666 | H43: 2649 | I43: 2647 | J43: 2647 | K43: 2644 | L43: 2643 | M43: 2640 | N43: 2641 | O43: 2639 | P43: 2641 | Q43: 2645 | R43: 2649 | S43: 2658 | T43: 2670 | U43: 2684 | V43: 2699 | W43: 2715 | X43: 2732 | Y43: 2745 | Z43: 2760 | AA43: 2769 | AB43: 2777
A44: 5-9 - Chichester | B44: 5 | C44: 3158 | D44: 3060 | E44: 3106 | F44: 3039 | G44: 3002 | H44: 2974 | I44: 2955 | J44: 2901 | K44: 2882 | L44: 2875 | M44: 2858 | N44: 2861 | O44: 2863 | P44: 2860 | Q44: 2859 | R44: 2859 | S44: 2859 | T44: 2860 | U44: 2863 | V44: 2869 | W44: 2878 | X44: 2889 | Y44: 2902 | Z44: 2917 | AA44: 2934 | AB44: 2952
A45: 10-14 - Chichester | B45: 10 | C45: 3455 | D45: 3487 | E45: 3409 | F45: 3422 | G45: 3347 | H45: 3270 | I45: 3169 | J45: 3186 | K45: 3126 | L45: 3087 | M45: 3060 | N45: 3031 | O45: 2980 | P45: 2959 | Q45: 2948 | R45: 2931 | S45: 2934 | T45: 2935 | U45: 2934 | V45: 2933 | W45: 2934 | X45: 2934 | Y45: 2936 | Z45: 2941 | AA45: 2947 | AB45: 2955
A46: 15-19 - Chichester | B46: 15 | C46: 3344 | D46: 3401 | E46: 3459 | F46: 3482 | G46: 3509 | H46: 3539 | I46: 3551 | J46: 3491 | K46: 3494 | L46: 3435 | M46: 3363 | N46: 3285 | O46: 3290 | P46: 3244 | Q46: 3196 | R46: 3166 | S46: 3127 | T46: 3079 | U46: 3053 | V46: 3040 | W46: 3016 | X46: 3017 | Y46: 3019 | Z46: 3018 | AA46: 3017 | AB46: 3017
A47: 20-24 - Chichester | B47: 20 | C47: 3144 | D47: 3231 | E47: 3290 | F47: 3332 | G47: 3402 | H47: 3473 | I47: 3522 | J47: 3559 | K47: 3588 | L47: 3638 | M47: 3680 | N47: 3690 | O47: 3648 | P47: 3633 | Q47: 3597 | R47: 3548 | S47: 3500 | T47: 3486 | U47: 3448 | V47: 3393 | W47: 3357 | X47: 3307 | Y47: 3261 | Z47: 3231 | AA47: 3215 | AB47: 3193
A48: 25-29 - Chichester | B48: 25 | C48: 3161 | D48: 3134 | E48: 3111 | F48: 3041 | G48: 2965 | H48: 2913 | I48: 2925 | J48: 2942 | K48: 2984 | L48: 3033 | M48: 3093 | N48: 3140 | O48: 3168 | P48: 3199 | Q48: 3244 | R48: 3279 | S48: 3281 | T48: 3261 | U48: 3249 | V48: 3224 | W48: 3186 | X48: 3152 | Y48: 3134 | Z48: 3102 | AA48: 3056 | AB48: 3026
A49: 30-34 - Chichester | B49: 30 | C49: 3295 | D49: 3280 | E49: 3344 | F49: 3363 | G49: 3364 | H49: 3327 | I49: 3293 | J49: 3269 | K49: 3236 | L49: 3201 | M49: 3173 | N49: 3189 | O49: 3207 | P49: 3251 | Q49: 3294 | R49: 3347 | S49: 3395 | T49: 3424 | U49: 3457 | V49: 3503 | W49: 3539 | X49: 3540 | Y49: 3524 | Z49: 3509 | AA49: 3484 | AB49: 3448
A50: 35-39 - Chichester | B50: 35 | C50: 3300 | D50: 3425 | E50: 3522 | F50: 3525 | G50: 3541 | H50: 3624 | I50: 3590 | J50: 3618 | K50: 3633 | L50: 3637 | M50: 3627 | N50: 3622 | O50: 3614 | P50: 3595 | Q50: 3574 | R50: 3554 | S50: 3569 | T50: 3590 | U50: 3635 | V50: 3680 | W50: 3736 | X50: 3785 | Y50: 3816 | Z50: 3851 | AA50: 3902 | AB50: 3939
A51: 40-44 - Chichester | B51: 40 | C51: 3152 | D51: 3277 | E51: 3324 | F51: 3413 | G51: 3490 | H51: 3533 | I51: 3616 | J51: 3690 | K51: 3712 | L51: 3747 | M51: 3823 | N51: 3804 | O51: 3834 | P51: 3847 | Q51: 3852 | R51: 3854 | S51: 3857 | T51: 3860 | U51: 3851 | V51: 3836 | W51: 3817 | X51: 3836 | Y51: 3861 | Z51: 3908 | AA51: 3955 | AB51: 4014
A52: 45-49 - Chichester | B52: 45 | C52: 3318 | D52: 3291 | E52: 3284 | F52: 3376 | G52: 3410 | H52: 3458 | I52: 3553 | J52: 3585 | K52: 3658 | L52: 3726 | M52: 3775 | N52: 3856 | O52: 3934 | P52: 3965 | Q52: 4010 | R52: 4079 | S52: 4070 | T52: 4100 | U52: 4113 | V52: 4118 | W52: 4127 | X52: 4139 | Y52: 4148 | Z52: 4146 | AA52: 4136 | AB52: 4121
...

Sheet Females 5y
A1: Age Groups | B1: Row Labels | C1: 2022 | D1: 2023 | E1: 2024 | F1: 2025 | G1: 2026 | H1: 2027 | I1: 2028 | J1: 2029 | K1: 2030 | L1: 2031 | M1: 2032 | N1: 2033 | O1: 2034 | P1: 2035 | Q1: 2036 | R1: 2037 | S1: 2038 | T1: 2039 | U1: 2040 | V1: 2041 | W1: 2042 | X1: 2043 | Y1: 2044 | Z1: 2045 | AA1: 2046 | AB1: 2047
A2: All Ages - Adur | B2: Adur | C2: 33500 | D2: 33608 | E2: 33740 | F2: 33865 | G2: 33983 | H2: 34082 | I2: 34183 | J2: 34282 | K2: 34379 | L2: 34468 | M2: 34558 | N2: 34650 | O2: 34742 | P2: 34830 | Q2: 34922 | R2: 35018 | S2: 35115 | T2: 35215 | U2: 35325 | V2: 35440 | W2: 35559 | X2: 35681 | Y2: 35803 | Z2: 35924 | AA2: 36043 | AB2: 36161
A3: 0-4 - Adur | B3: 0 | C3: 1565 | D3: 1534 | E3: 1464 | F3: 1433 | G3: 1427 | H3: 1410 | I3: 1403 | J3: 1401 | K3: 1400 | L3: 1400 | M3: 1401 | N3: 1401 | O3: 1402 | P3: 1404 | Q3: 1406 | R3: 1413 | S3: 1417 | T3: 1424 | U3: 1433 | V3: 1443 | W3: 1453 | X3: 1462 | Y3: 1470 | Z3: 1478 | AA3: 1483 | AB3: 1490
A4: 5-9 - Adur | B4: 5 | C4: 1833 | D4: 1801 | E4: 1814 | F4: 1767 | G4: 1706 | H4: 1675 | I4: 1641 | J4: 1576 | K4: 1545 | L4: 1538 | M4: 1522 | N4: 1517 | O4: 1516 | P4: 1516 | Q4: 1517 | R4: 1519 | S4: 1518 | T4: 1521 | U4: 1523 | V4: 1527 | W4: 1532 | X4: 1539 | Y4: 1548 | Z4: 1557 | AA4: 1567 | AB4: 1577
A5: 10-14 - Adur | B5: 10 | C5: 1952 | D5: 1943 | E5: 1951 | F5: 1946 | G5: 1937 | H5: 1884 | I5: 1851 | J5: 1857 | K5: 1811 | L5: 1751 | M5: 1720 | N5: 1685 | O5: 1627 | P5: 1595 | Q5: 1588 | R5: 1571 | S5: 1570 | T5: 1569 | U5: 1569 | V5: 1570 | W5: 1572 | X5: 1572 | Y5: 1575 | Z5: 1577 | AA5: 1581 | AB5: 1587
A6: 15-19 - Adur | B6: 15 | C6: 1566 | D6: 1655 | E6: 1707 | F6: 1765 | G6: 1820 | H6: 1869 | I6: 1862 | J6: 1856 | K6: 1849 | L6: 1832 | M6: 1790 | N6: 1762 | O6: 1758 | P6: 1721 | Q6: 1669 | R6: 1642 | S6: 1603 | T6: 1558 | U6: 1534 | V6: 1525 | W6: 1513 | X6: 1512 | Y6: 1513 | Z6: 1514 | AA6: 1515 | AB6: 1516
A7: 20-24 - Adur | B7: 20 | C7: 1186 | D7: 1179 | E7: 1187 | F7: 1169 | G7: 1182 | H7: 1206 | I7: 1250 | J7: 1270 | K7: 1296 | L7: 1322 | M7: 1351 | N7: 1347 | O7: 1342 | P7: 1337 | Q7: 1326 | R7: 1303 | S7: 1287 | T7: 1283 | U7: 1263 | V7: 1233 | W7: 1217 | X7: 1196 | Y7: 1172 | Z7: 1155 | AA7: 1147 | AB7: 1136
A8: 25-29 - Adur | B8: 25 | C8: 1547 | D8: 1509 | E8: 1481 | F8: 1498 | G8: 1493 | H8: 1469 | I8: 1454 | J8: 1459 | K8: 1454 | L8: 1468 | M8: 1493 | N8: 1529 | O8: 1550 | P8: 1574 | Q8: 1598 | R8: 1621 | S8: 1617 | T8: 1610 | U8: 1603 | V8: 1592 | W8: 1570 | X8: 1554 | Y8: 1545 | Z8: 1526 | AA8: 1497 | AB8: 1480
A9: 30-34 - Adur | B9: 30 | C9: 1965 | D9: 1912 | E9: 1883 | F9: 1906 | G9: 1878 | H9: 1854 | I9: 1835 | J9: 1815 | K9: 1812 | L9: 1799 | M9: 1767 | N9: 1748 | O9: 1751 | P9: 1749 | Q9: 1763 | R9: 1790 | S9: 1826 | T9: 1847 | U9: 1871 | V9: 1898 | W9: 1923 | X9: 1920 | Y9: 1914 | Z9: 1905 | AA9: 1894 | AB9: 1870
A10: 35-39 - Adur | B10: 35 | C10: 2056 | D10: 2147 | E10: 2217 | F10: 2239 | G10: 2267 | H10: 2289 | I10: 2252 | J10: 2233 | K10: 2245 | L10: 2221 | M10: 2206 | N10: 2196 | O10: 2179 | P10: 2170 | Q10: 2153 | R10: 2120 | S10: 2101 | T10: 2102 | U10: 2105 | V10: 2122 | W10: 2150 | X10: 2187 | Y10: 2212 | Z10: 2238 | AA10: 2269 | AB10: 2294
A11: 40-44 - Adur | B11: 40 | C11: 2199 | D11: 2235 | E11: 2226 | F11: 2233 | G11: 2211 | H11: 2241 | I11: 2313 | J11: 2373 | K11: 2407 | L11: 2439 | M11: 2464 | N11: 2437 | O11: 2424 | P11: 2429 | Q11: 2408 | R11: 2396 | S11: 2391 | T11: 2375 | U11: 2365 | V11: 2349 | W11: 2315 | X11: 2296 | Y11: 2298 | Z11: 2304 | AA11: 2319 | AB11: 2348
A12: 45-49 - Adur | B12: 45 | C12: 2210 | D12: 2155 | E12: 2180 | F12: 2169 | G12: 2199 | H12: 2238 | I12: 2272 | J12: 2264 | K12: 2265 | L12: 2252 | M12: 2278 | N12: 2345 | O12: 2402 | P12: 2439 | Q12: 2473 | R12: 2498 | S12: 2475 | T12: 2465 | U12: 2469 | V12: 2449 | W12: 2441 | X12: 2436 | Y12: 2422 | Z12: 2413 | AA12: 2395 | AB12: 2364
A13: 50-54 - Adur | B13: 50 | C13: 2378 | D13: 2365 | E13: 2325 | F13: 2299 | G13: 2249 | H13: 2183 | I13: 2133 | J13: 2153 | K13: 2154 | L13: 2184 | M13: 2223 | N13: 2254 | O13: 2248 | P13: 2248 | Q13: 2240 | R13: 2267 | S13: 2326 | T13: 2381 | U13: 2417 | V13: 2452 | W13: 2476 | X13: 2459 | Y13: 2450 | Z13: 2450 | AA13: 2433 | AB13: 2426
A14: 55-59 - Adur | B14: 55 | C14: 2260 | D14: 2300 | E14: 2316 | F14: 2317 | G14: 2350 | H14: 2335 | I14: 2322 | J14: 2279 | K14: 2253 | L14: 2201 | M14: 2139 | N14: 2093 | O14: 2113 | P14: 2121 | Q14: 2153 | R14: 2190 | S14: 2221 | T14: 2218 | U14: 2215 | V14: 2212 | W14: 2238 | X14: 2293 | Y14: 2343 | Z14: 2381 | AA14: 2414 | AB14: 2439
... A21: 90+ - Adur | B21: 90 | C21: 560 | D21: 539 | E21: 524 | F21: 527 | G21: 530 | H21: 531 | I21: 542 | J21: 559 | K21: 562 | L21: 562 | M21: 569 | N21: 598 | O21: 630 | P21: 659 | Q21: 687 | R21: 769 | S21: 815 | T21: 847 | U21: 859 | V21: 861 | W21: 865 | X21: 868 | Y21: 865 | Z21: 874 | AA21: 878 | AB21: 896
A22: All Ages - Arun | B22: Arun | C22: 86401 | D22: 87226 | E22: 88038 | F22: 88715 | G22: 89342 | H22: 89962 | I22: 90590 | J22: 91237 | K22: 91873 | L22: 92482 | M22: 93090 | N22: 93691 | O22: 94269 | P22: 94825 | Q22: 95372 | R22: 95911 | S22: 96429 | T22: 96937 | U22: 97437 | V22: 97930 | W22: 98417 | X22: 98902 | Y22: 99378 | Z22: 99845 | AA22: 100304 | AB22: 100755
A23: 0-4 - Arun | B23: 0 | C23: 3479 | D23: 3456 | E23: 3388 | F23: 3330 | G23: 3280 | H23: 3244 | I23: 3230 | J23: 3219 | K23: 3208 | L23: 3198 | M23: 3192 | N23: 3187 | O23: 3185 | P23: 3185 | Q23: 3188 | R23: 3194 | S23: 3204 | T23: 3216 | U23: 3231 | V23: 3245 | W23: 3259 | X23: 3272 | Y23: 3281 | Z23: 3289 | AA23: 3292 | AB23: 3291
A24: 5-9 - Arun | B24: 5 | C24: 3928 | D24: 3895 | E24: 3947 | F24: 3907 | G24: 3805 | H24: 3753 | I24: 3708 | J24: 3627 | K24: 3568 | L24: 3518 | M24: 3483 | N24: 3474 | O24: 3466 | P24: 3456 | Q24: 3448 | R24: 3444 | S24: 3439 | T24: 3438 | U24: 3441 | V24: 3446 | W24: 3455 | X24: 3466 | Y24: 3481 | Z24: 3497 | AA24: 3514 | AB24: 3530
A25: 10-14 - Arun | B25: 10 | C25: 4140 | D25: 4191 | E25: 4116 | F25: 4169 | G25: 4205 | H25: 4103 | I25: 4058 | J25: 4090 | K25: 4048 | L25: 3947 | M25: 3898 | N25: 3848 | O25: 3766 | P25: 3704 | Q25: 3657 | R25: 3620 | S25: 3613 | T25: 3607 | U25: 3599 | V25: 3591 | W25: 3588 | X25: 3586 | Y25: 3586 | Z25: 3588 | AA25: 3595 | AB25: 3605
A26: 15-19 - Arun | B26: 15 | C26: 3681 | D26: 3767 | E26: 3903 | F26: 3955 | G26: 4038 | H26: 4177 | I26: 4193 | J26: 4138 | K26: 4163 | L26: 4175 | M26: 4099 | N26: 4063 | O26: 4072 | P26: 4020 | Q26: 3938 | R26: 3891 | S26: 3828 | T26: 3752 | U26: 3694 | V26: 3652 | W26: 3616 | X26: 3611 | Y26: 3607 | Z26: 3600 | AA26: 3596 | AB26: 3592
A27: 20-24 - Arun | B27: 20 | C27: 3672 | D27: 3614 | E27: 3566 | F27: 3504 | G27: 3492 | H27: 3514 | I27: 3578 | J27: 3655 | K27: 3702 | L27: 3772 | M27: 3863 | N27: 3862 | O27: 3826 | P27: 3829 | Q27: 3829 | R27: 3768 | S27: 3725 | T27: 3715 | U27: 3676 | V27: 3609 | W27: 3564 | X27: 3508 | Y27: 3448 | Z27: 3401 | AA27: 3372 | AB27: 3341
A28: 25-29 - Arun | B28: 25 | C28: 4134 | D28: 4139 | E28: 4128 | F28: 4100 | G28: 4061 | H28: 4000 | I28: 3924 | J28: 3888 | K28: 3867 | L28: 3881 | M28: 3926 | N28: 4005 | O28: 4069 | P28: 4125 | Q28: 4194 | R28: 4263 | S28: 4261 | T28: 4237 | U28: 4227 | V28: 4211 | W28: 4153 | X28: 4111 | Y28: 4090 | Z28: 4047 | AA28: 3977 | AB28: 3932
A29: 30-34 - Arun | B29: 30 | C29: 4837 | D29: 4870 | E29: 4896 | F29: 4859 | G29: 4798 | H29: 4761 | I29: 4729 | J29: 4693 | K29: 4660 | L29: 4628 | M29: 4568 | N29: 4503 | O29: 4476 | P29: 4467 | Q29: 4488 | R29: 4540 | S29: 4625 | T29: 4688 | U29: 4749 | V29: 4824 | W29: 4892 | X29: 4889 | Y29: 4869 | Z29: 4851 | AA29: 4830 | AB29: 4770
A30: 35-39 - Arun | B30: 35 | C30: 4658 | D30: 4895 | E30: 5029 | F30: 5184 | G30: 5308 | H30: 5355 | I30: 5348 | J30: 5344 | K30: 5303 | L30: 5245 | M30: 5221 | N30: 5202 | O30: 5169 | P30: 5137 | Q30: 5103 | R30: 5038 | S30: 4977 | T30: 4957 | U30: 4954 | V30: 4979 | W30: 5035 | X30: 5127 | Y30: 5190 | Z30: 5255 | AA30: 5333 | AB30: 5401
A31: 40-44 - Arun | B31: 40 | C31: 4621 | D31: 4686 | E31: 4798 | F31: 4800 | G31: 4901 | H31: 5027 | I31: 5232 | J31: 5357 | K31: 5506 | L31: 5629 | M31: 5685 | N31: 5678 | O31: 5675 | P31: 5632 | Q31: 5577 | R31: 5557 | S31: 5540 | T31: 5509 | U31: 5479 | V31: 5443 | W31: 5378 | X31: 5318 | Y31: 5303 | Z31: 5304 | AA31: 5333 | AB31: 5392
A32: 45-49 - Arun | B32: 45 | C32: 4614 | D32: 4571 | E32: 4524 | F32: 4650 | G32: 4786 | H32: 4930 | I32: 4995 | J32: 5086 | K32: 5090 | L32: 5185 | M32: 5306 | N32: 5502 | O32: 5630 | P32: 5776 | Q32: 5895 | R32: 5954 | S32: 5945 | T32: 5940 | U32: 5900 | V32: 5845 | W32: 5826 | X32: 5812 | Y32: 5785 | Z32: 5754 | AA32: 5718 | AB32: 5653
